BEGIN:VCALENDAR
PRODID:-//nuDatenautomaten//framework iCal4j //DE
VERSION:2.0
CALSCALE:GREGORIAN
BEGIN:VTIMEZONE
TZID:Europe/Berlin
LAST-MODIFIED:20260306T231828Z
TZURL:https://www.tzurl.org/zoneinfo/Europe/Berlin
X-LIC-LOCATION:Europe/Berlin
X-PROLEPTIC-TZNAME:LMT
BEGIN:STANDARD
TZNAME:CET
TZOFFSETFROM:+005328
TZOFFSETTO:+0100
DTSTART:18930401T000000
END:STANDARD
BEGIN:DAYLIGHT
TZNAME:CEST
TZOFFSETFROM:+0100
TZOFFSETTO:+0200
DTSTART:19160430T230000
RDATE:19400401T020000
RDATE:19430329T020000
RDATE:19460414T020000
RDATE:19470406T030000
RDATE:19480418T020000
RDATE:19490410T020000
RDATE:19800406T020000
END:DAYLIGHT
BEGIN:STANDARD
TZNAME:CET
TZOFFSETFROM:+0200
TZOFFSETTO:+0100
DTSTART:19161001T010000
RDATE:19421102T030000
RDATE:19431004T030000
RDATE:19441002T030000
RDATE:19451118T030000
RDATE:19461007T030000
END:STANDARD
BEGIN:DAYLIGHT
TZNAME:CEST
TZOFFSETFROM:+0100
TZOFFSETTO:+0200
DTSTART:19170416T020000
RRULE:FREQ=YEARLY;UNTIL=19180415T010000Z;BYMONTH=4;BYDAY=3MO
END:DAYLIGHT
BEGIN:STANDARD
TZNAME:CET
TZOFFSETFROM:+0200
TZOFFSETTO:+0100
DTSTART:19170917T030000
RRULE:FREQ=YEARLY;UNTIL=19180916T010000Z;BYMONTH=9;BYDAY=3MO
END:STANDARD
BEGIN:DAYLIGHT
TZNAME:CEST
TZOFFSETFROM:+0100
TZOFFSETTO:+0200
DTSTART:19440403T020000
RRULE:FREQ=YEARLY;UNTIL=19450402T010000Z;BYMONTH=4;BYDAY=1MO
END:DAYLIGHT
BEGIN:DAYLIGHT
TZNAME:CEMT
TZOFFSETFROM:+0200
TZOFFSETTO:+0300
DTSTART:19450524T020000
RDATE:19470511T030000
END:DAYLIGHT
BEGIN:DAYLIGHT
TZNAME:CEST
TZOFFSETFROM:+0300
TZOFFSETTO:+0200
DTSTART:19450924T030000
RDATE:19470629T030000
END:DAYLIGHT
BEGIN:STANDARD
TZNAME:CET
TZOFFSETFROM:+0100
TZOFFSETTO:+0100
DTSTART:19460101T000000
RDATE:19800101T000000
END:STANDARD
BEGIN:STANDARD
TZNAME:CET
TZOFFSETFROM:+0200
TZOFFSETTO:+0100
DTSTART:19471005T030000
RRULE:FREQ=YEARLY;UNTIL=19491002T010000Z;BYMONTH=10;BYDAY=1SU
END:STANDARD
BEGIN:STANDARD
TZNAME:CET
TZOFFSETFROM:+0200
TZOFFSETTO:+0100
DTSTART:19800928T030000
RRULE:FREQ=YEARLY;UNTIL=19950924T010000Z;BYMONTH=9;BYDAY=-1SU
END:STANDARD
BEGIN:DAYLIGHT
TZNAME:CEST
TZOFFSETFROM:+0100
TZOFFSETTO:+0200
DTSTART:19810329T020000
RRULE:FREQ=YEARLY;BYMONTH=3;BYDAY=-1SU
END:DAYLIGHT
BEGIN:STANDARD
TZNAME:CET
TZOFFSETFROM:+0200
TZOFFSETTO:+0100
DTSTART:19961027T030000
RRULE:FREQ=YEARLY;BYMONTH=10;BYDAY=-1SU
END:STANDARD
END:VTIMEZONE
BEGIN:VEVENT
DTSTAMP:20260421T035731Z
DTSTART;TZID=Europe/Berlin:20221106T150000
DTEND;TZID=Europe/Berlin:20221106T163000
SUMMARY:Bezirksklasse Männer - Ost Rotation Borstendorf vs HV Grüna (317)
UID:01adeff4-c9e2-4012-96ea-98b84b47f329
STATUS:CONFIRMED
LAST-MODIFIED:20221121T090548Z
DESCRIPTION:Bezirksklasse Chemnitz Männer - Staffel Ost\nBegegnungs-Nr: 317\nHeim: Rotation Borstendorf\nGast: HV Grüna\nHalle: SH BSZ Zschopau Nord (32406)\nAdresse: Johann-Gottlieb-Pfaff-Str. 1\, 09405 Zschopau\n
LOCATION:SH BSZ Zschopau Nord (32406): Johann-Gottlieb-Pfaff-Str. 1\, 09405 Zschopau
CATEGORIES:Saison 2022/23
END:VEVENT
BEGIN:VEVENT
DTSTAMP:20260421T035731Z
DTSTART;TZID=Europe/Berlin:20221009T150000
DTEND;TZID=Europe/Berlin:20221009T163000
SUMMARY:Bezirksklasse Männer - Ost Rotation Borstendorf vs SG HSC Chemnitz (312)
UID:7a102c2a-0764-4a79-b13b-ccdf22fb3516
STATUS:CONFIRMED
LAST-MODIFIED:20221009T181644Z
DESCRIPTION:Bezirksklasse Chemnitz Männer - Staffel Ost\nBegegnungs-Nr: 312\nHeim: Rotation Borstendorf\nGast: SG HSC Chemnitz\nHalle: SH BSZ Zschopau Nord (32406)\nAdresse: Johann-Gottlieb-Pfaff-Str. 1\, 09405 Zschopau\n
LOCATION:SH BSZ Zschopau Nord (32406): Johann-Gottlieb-Pfaff-Str. 1\, 09405 Zschopau
CATEGORIES:Saison 2022/23
END:VEVENT
BEGIN:VEVENT
DTSTAMP:20260421T035731Z
DTSTART;TZID=Europe/Berlin:20230423T150000
DTEND;TZID=Europe/Berlin:20230423T163000
SUMMARY:Bezirksklasse Männer - Ost Rotation Borstendorf vs TSV Lichtentanne (351)
UID:b7ffbfa6-1bc6-4ec5-8caf-ff0d0b93c0b1
STATUS:CONFIRMED
LAST-MODIFIED:20230424T141452Z
DESCRIPTION:Bezirksklasse Chemnitz Männer - Staffel Ost\nBegegnungs-Nr: 351\nHeim: Rotation Borstendorf\nGast: TSV Lichtentanne\nHalle: SH BSZ Zschopau Nord (32406)\nAdresse: Johann-Gottlieb-Pfaff-Str. 1\, 09405 Zschopau\n
LOCATION:SH BSZ Zschopau Nord (32406): Johann-Gottlieb-Pfaff-Str. 1\, 09405 Zschopau
CATEGORIES:Saison 2022/23
END:VEVENT
BEGIN:VEVENT
DTSTAMP:20260421T035731Z
DTSTART;TZID=Europe/Berlin:20230326T150000
DTEND;TZID=Europe/Berlin:20230326T163000
SUMMARY:Bezirksklasse Männer - Ost Rotation Borstendorf vs TSV Einheit Claußnitz (347)
UID:5bdc1365-e39e-41b4-816f-6fb1a8d05d19
STATUS:CONFIRMED
LAST-MODIFIED:20230327T070616Z
DESCRIPTION:Bezirksklasse Chemnitz Männer - Staffel Ost\nBegegnungs-Nr: 347\nHeim: Rotation Borstendorf\nGast: TSV Einheit Claußnitz\nHalle: SH BSZ Zschopau Nord (32406)\nAdresse: Johann-Gottlieb-Pfaff-Str. 1\, 09405 Zschopau\n
LOCATION:SH BSZ Zschopau Nord (32406): Johann-Gottlieb-Pfaff-Str. 1\, 09405 Zschopau
CATEGORIES:Saison 2022/23
END:VEVENT
BEGIN:VEVENT
DTSTAMP:20260421T035731Z
DTSTART;TZID=Europe/Berlin:20230416T150000
DTEND;TZID=Europe/Berlin:20230416T163000
SUMMARY:Bezirksklasse Männer - Ost Rotation Borstendorf vs Grün-Weiß Niederwiesa (342)
UID:ffe9bdd0-45ac-4503-ac79-d8c7c76d1224
STATUS:CONFIRMED
LAST-MODIFIED:20230417T085528Z
DESCRIPTION:Bezirksklasse Chemnitz Männer - Staffel Ost\nBegegnungs-Nr: 342\nHeim: Rotation Borstendorf\nGast: Grün-Weiß Niederwiesa\nHalle: SH BSZ Zschopau Nord (32406)\nAdresse: Johann-Gottlieb-Pfaff-Str. 1\, 09405 Zschopau\n
LOCATION:SH BSZ Zschopau Nord (32406): Johann-Gottlieb-Pfaff-Str. 1\, 09405 Zschopau
CATEGORIES:Saison 2022/23
END:VEVENT
BEGIN:VEVENT
DTSTAMP:20260421T035731Z
DTSTART;TZID=Europe/Berlin:20230129T150000
DTEND;TZID=Europe/Berlin:20230129T163000
SUMMARY:Bezirksklasse Männer - Ost Rotation Borstendorf vs USG Chemnitz II (336)
UID:95389a29-5e4d-46ca-b1d0-9c4fcf0921f7
STATUS:CONFIRMED
LAST-MODIFIED:20230130T082603Z
DESCRIPTION:Bezirksklasse Chemnitz Männer - Staffel Ost\nBegegnungs-Nr: 336\nHeim: Rotation Borstendorf\nGast: USG Chemnitz II\nHalle: SH BSZ Zschopau Nord (32406)\nAdresse: Johann-Gottlieb-Pfaff-Str. 1\, 09405 Zschopau\n
LOCATION:SH BSZ Zschopau Nord (32406): Johann-Gottlieb-Pfaff-Str. 1\, 09405 Zschopau
CATEGORIES:Saison 2022/23
END:VEVENT
BEGIN:VEVENT
DTSTAMP:20260421T035731Z
DTSTART;TZID=Europe/Berlin:20230122T160000
DTEND;TZID=Europe/Berlin:20230122T173000
SUMMARY:Bezirksklasse Männer - Ost Rotation Borstendorf vs Burgstädter HC (321)
UID:e1258bd5-5711-468e-aa03-b37e09f2f0c5
STATUS:CONFIRMED
LAST-MODIFIED:20230123T094213Z
DESCRIPTION:Bezirksklasse Chemnitz Männer - Staffel Ost\nBegegnungs-Nr: 321\nHeim: Rotation Borstendorf\nGast: Burgstädter HC\nHalle: SH BSZ Zschopau Nord (32406)\nAdresse: Johann-Gottlieb-Pfaff-Str. 1\, 09405 Zschopau\n
LOCATION:SH BSZ Zschopau Nord (32406): Johann-Gottlieb-Pfaff-Str. 1\, 09405 Zschopau
CATEGORIES:Saison 2022/23
END:VEVENT
BEGIN:VEVENT
DTSTAMP:20260421T035731Z
DTSTART;TZID=Europe/Berlin:20221016T160000
DTEND;TZID=Europe/Berlin:20221016T173000
SUMMARY:Bezirksklasse Männer - Ost Grün-Weiß Niederwiesa vs Rotation Borstendorf (314)
UID:293824ab-fb5a-4597-aead-1e0175f960af
STATUS:CONFIRMED
LAST-MODIFIED:20221017T074416Z
DESCRIPTION:Bezirksklasse Chemnitz Männer - Staffel Ost\nBegegnungs-Nr: 314\nHeim: Grün-Weiß Niederwiesa\nGast: Rotation Borstendorf\nHalle: SH S.-v.-Pufendorf-Gymnasium Flöha (32404)\nAdresse: Turnerstr. 16\, 09557 Flöha\n
LOCATION:SH S.-v.-Pufendorf-Gymnasium Flöha (32404): Turnerstr. 16\, 09557 Flöha
CATEGORIES:Saison 2022/23
END:VEVENT
BEGIN:VEVENT
DTSTAMP:20260421T035731Z
DTSTART;TZID=Europe/Berlin:20221112T160000
DTEND;TZID=Europe/Berlin:20221112T173000
SUMMARY:Bezirksklasse Männer - Ost USG Chemnitz II vs Rotation Borstendorf (308)
UID:e92a13c3-8d85-4177-b6f5-8aabda27a44e
STATUS:CONFIRMED
LAST-MODIFIED:20221114T103802Z
DESCRIPTION:Bezirksklasse Chemnitz Männer - Staffel Ost\nBegegnungs-Nr: 308\nHeim: USG Chemnitz II\nGast: Rotation Borstendorf\nHalle: SH Jakobstraße (32116)\nAdresse: Jakobstraße 20\, 09130 Chemnitz\n
LOCATION:SH Jakobstraße (32116): Jakobstraße 20\, 09130 Chemnitz
CATEGORIES:Saison 2022/23
END:VEVENT
BEGIN:VEVENT
DTSTAMP:20260421T035731Z
DTSTART;TZID=Europe/Berlin:20230401T160000
DTEND;TZID=Europe/Berlin:20230401T173000
SUMMARY:Bezirksklasse Männer - Ost Burgstädter HC vs Rotation Borstendorf (348)
UID:8bc41544-7d16-4f68-ac83-74c6d1b2b602
STATUS:CONFIRMED
LAST-MODIFIED:20230402T085912Z
DESCRIPTION:Bezirksklasse Chemnitz Männer - Staffel Ost\nBegegnungs-Nr: 348\nHeim: Burgstädter HC\nGast: Rotation Borstendorf\nHalle: SH Burgstädt - Sportzentrum am Taurastein (32206)\nAdresse: Am Stadion 22\, 09217  Burgstädt\n
LOCATION:SH Burgstädt - Sportzentrum am Taurastein (32206): Am Stadion 22\, 09217  Burgstädt
CATEGORIES:Saison 2022/23
END:VEVENT
BEGIN:VEVENT
DTSTAMP:20260421T035731Z
DTSTART;TZID=Europe/Berlin:20230311T154500
DTEND;TZID=Europe/Berlin:20230311T171500
SUMMARY:Bezirksklasse Männer - Ost HV Grüna vs Rotation Borstendorf (343)
UID:f1058305-1ba2-4f7b-ae96-f10baa074c3c
STATUS:CONFIRMED
LAST-MODIFIED:20230312T065858Z
DESCRIPTION:Bezirksklasse Chemnitz Männer - Staffel Ost\nBegegnungs-Nr: 343\nHeim: HV Grüna\nGast: Rotation Borstendorf\nHalle: SH Dr.-Wilhelm-André-Gymnasium Chemnitz (32114)\nAdresse: Henriettenstraße 35\, 09112 Chemnitz\n
LOCATION:SH Dr.-Wilhelm-André-Gymnasium Chemnitz (32114): Henriettenstraße 35\, 09112 Chemnitz
CATEGORIES:Saison 2022/23
END:VEVENT
BEGIN:VEVENT
DTSTAMP:20260421T035731Z
DTSTART;TZID=Europe/Berlin:20230205T170000
DTEND;TZID=Europe/Berlin:20230205T183000
SUMMARY:Bezirksklasse Männer - Ost SG HSC Chemnitz vs Rotation Borstendorf (339)
UID:a0c96f46-0ecf-4a39-9b8e-f873ac4c2fab
STATUS:CONFIRMED
LAST-MODIFIED:20230206T082851Z
DESCRIPTION:Bezirksklasse Chemnitz Männer - Staffel Ost\nBegegnungs-Nr: 339\nHeim: SG HSC Chemnitz\nGast: Rotation Borstendorf\nHalle: SH Chemnitzer PSV (32108)\nAdresse: Forststraße 9\, 09130 Chemnitz\n
LOCATION:SH Chemnitzer PSV (32108): Forststraße 9\, 09130 Chemnitz
CATEGORIES:Saison 2022/23
END:VEVENT
BEGIN:VEVENT
DTSTAMP:20260421T035731Z
DTSTART;TZID=Europe/Berlin:20230108T153000
DTEND;TZID=Europe/Berlin:20230108T170000
SUMMARY:Bezirksklasse Männer - Ost TSV Lichtentanne vs Rotation Borstendorf (322)
UID:4fdce8b3-c6be-4bdf-bb39-6bb8bd0f2fa8
STATUS:CONFIRMED
LAST-MODIFIED:20230123T150654Z
DESCRIPTION:Bezirksklasse Chemnitz Männer - Staffel Ost\nBegegnungs-Nr: 322\nHeim: TSV Lichtentanne\nGast: Rotation Borstendorf\nHalle: SH am Käthe Kollwitz Gymnasium (32512)\nAdresse: Lassallestraße 1\, 08058 Zwickau\n
LOCATION:SH am Käthe Kollwitz Gymnasium (32512): Lassallestraße 1\, 08058 Zwickau
CATEGORIES:Saison 2022/23
END:VEVENT
BEGIN:VEVENT
DTSTAMP:20260421T035731Z
DTSTART;TZID=Europe/Berlin:20221217T150000
DTEND;TZID=Europe/Berlin:20221217T163000
SUMMARY:Bezirksklasse Männer - Ost TSV Einheit Claußnitz vs Rotation Borstendorf (318)
UID:0f6efd70-eafd-45ea-82b8-6624302aa8a4
STATUS:CONFIRMED
LAST-MODIFIED:20221221T180159Z
DESCRIPTION:Bezirksklasse Chemnitz Männer - Staffel Ost\nBegegnungs-Nr: 318\nHeim: TSV Einheit Claußnitz\nGast: Rotation Borstendorf\nHalle: Zweifeldhalle Claußnitz (32218)\nAdresse: Daniel-Gottlob-Türk-Str. 3\, 09236 Claußnitz\n
LOCATION:Zweifeldhalle Claußnitz (32218): Daniel-Gottlob-Türk-Str. 3\, 09236 Claußnitz
CATEGORIES:Saison 2022/23
END:VEVENT
END:VCALENDAR
