BEGIN:VCALENDAR
PRODID:-//nuDatenautomaten//framework iCal4j //DE
VERSION:2.0
CALSCALE:GREGORIAN
BEGIN:VTIMEZONE
TZID:Europe/Berlin
LAST-MODIFIED:20260306T231828Z
TZURL:https://www.tzurl.org/zoneinfo/Europe/Berlin
X-LIC-LOCATION:Europe/Berlin
X-PROLEPTIC-TZNAME:LMT
BEGIN:STANDARD
TZNAME:CET
TZOFFSETFROM:+005328
TZOFFSETTO:+0100
DTSTART:18930401T000000
END:STANDARD
BEGIN:DAYLIGHT
TZNAME:CEST
TZOFFSETFROM:+0100
TZOFFSETTO:+0200
DTSTART:19160430T230000
RDATE:19400401T020000
RDATE:19430329T020000
RDATE:19460414T020000
RDATE:19470406T030000
RDATE:19480418T020000
RDATE:19490410T020000
RDATE:19800406T020000
END:DAYLIGHT
BEGIN:STANDARD
TZNAME:CET
TZOFFSETFROM:+0200
TZOFFSETTO:+0100
DTSTART:19161001T010000
RDATE:19421102T030000
RDATE:19431004T030000
RDATE:19441002T030000
RDATE:19451118T030000
RDATE:19461007T030000
END:STANDARD
BEGIN:DAYLIGHT
TZNAME:CEST
TZOFFSETFROM:+0100
TZOFFSETTO:+0200
DTSTART:19170416T020000
RRULE:FREQ=YEARLY;UNTIL=19180415T010000Z;BYMONTH=4;BYDAY=3MO
END:DAYLIGHT
BEGIN:STANDARD
TZNAME:CET
TZOFFSETFROM:+0200
TZOFFSETTO:+0100
DTSTART:19170917T030000
RRULE:FREQ=YEARLY;UNTIL=19180916T010000Z;BYMONTH=9;BYDAY=3MO
END:STANDARD
BEGIN:DAYLIGHT
TZNAME:CEST
TZOFFSETFROM:+0100
TZOFFSETTO:+0200
DTSTART:19440403T020000
RRULE:FREQ=YEARLY;UNTIL=19450402T010000Z;BYMONTH=4;BYDAY=1MO
END:DAYLIGHT
BEGIN:DAYLIGHT
TZNAME:CEMT
TZOFFSETFROM:+0200
TZOFFSETTO:+0300
DTSTART:19450524T020000
RDATE:19470511T030000
END:DAYLIGHT
BEGIN:DAYLIGHT
TZNAME:CEST
TZOFFSETFROM:+0300
TZOFFSETTO:+0200
DTSTART:19450924T030000
RDATE:19470629T030000
END:DAYLIGHT
BEGIN:STANDARD
TZNAME:CET
TZOFFSETFROM:+0100
TZOFFSETTO:+0100
DTSTART:19460101T000000
RDATE:19800101T000000
END:STANDARD
BEGIN:STANDARD
TZNAME:CET
TZOFFSETFROM:+0200
TZOFFSETTO:+0100
DTSTART:19471005T030000
RRULE:FREQ=YEARLY;UNTIL=19491002T010000Z;BYMONTH=10;BYDAY=1SU
END:STANDARD
BEGIN:STANDARD
TZNAME:CET
TZOFFSETFROM:+0200
TZOFFSETTO:+0100
DTSTART:19800928T030000
RRULE:FREQ=YEARLY;UNTIL=19950924T010000Z;BYMONTH=9;BYDAY=-1SU
END:STANDARD
BEGIN:DAYLIGHT
TZNAME:CEST
TZOFFSETFROM:+0100
TZOFFSETTO:+0200
DTSTART:19810329T020000
RRULE:FREQ=YEARLY;BYMONTH=3;BYDAY=-1SU
END:DAYLIGHT
BEGIN:STANDARD
TZNAME:CET
TZOFFSETFROM:+0200
TZOFFSETTO:+0100
DTSTART:19961027T030000
RRULE:FREQ=YEARLY;BYMONTH=10;BYDAY=-1SU
END:STANDARD
END:VTIMEZONE
BEGIN:VEVENT
DTSTAMP:20260425T215037Z
DTSTART;TZID=Europe/Berlin:20230429T150000
DTEND;TZID=Europe/Berlin:20230429T163000
SUMMARY:Verbandsliga Stfl. Ost SC Riesa vs TBSV Neugersdorf (15105)
UID:fccead05-dff2-487c-afd3-35c8b4f19932
STATUS:CONFIRMED
LAST-MODIFIED:20230429T151549Z
DESCRIPTION:Verbandsliga Frauen Staffel Ost\nBegegnungs-Nr: 15105\nHeim: SC Riesa\nGast: TBSV Neugersdorf\nHalle: SH BSZ Technik Riesa (33219)\nAdresse: Paul-Greifzu-Straße 51\, 01591 Riesa\n
LOCATION:SH BSZ Technik Riesa (33219): Paul-Greifzu-Straße 51\, 01591 Riesa
CATEGORIES:Saison 2022/23
END:VEVENT
BEGIN:VEVENT
DTSTAMP:20260425T215037Z
DTSTART;TZID=Europe/Berlin:20230114T150000
DTEND;TZID=Europe/Berlin:20230114T163000
SUMMARY:Verbandsliga Stfl. Ost SC Riesa vs MSV Dresden (15059)
UID:bbe6a694-bf7b-4748-b060-c889dc1a3ca9
STATUS:CONFIRMED
LAST-MODIFIED:20230128T101953Z
DESCRIPTION:Verbandsliga Frauen Staffel Ost\nBegegnungs-Nr: 15059\nHeim: SC Riesa\nGast: MSV Dresden\nHalle: WM-Sporthalle Riesa (33213)\nAdresse: Am Sportzentrum 1\, 01587 Riesa\n
LOCATION:WM-Sporthalle Riesa (33213): Am Sportzentrum 1\, 01587 Riesa
CATEGORIES:Saison 2022/23
END:VEVENT
BEGIN:VEVENT
DTSTAMP:20260425T215037Z
DTSTART;TZID=Europe/Berlin:20230225T150000
DTEND;TZID=Europe/Berlin:20230225T163000
SUMMARY:Verbandsliga Stfl. Ost SC Riesa vs Radeberger SV (15051)
UID:41d8dd19-e6b8-4e28-97b4-9b939e88fe53
STATUS:CONFIRMED
LAST-MODIFIED:20230317T093253Z
DESCRIPTION:Verbandsliga Frauen Staffel Ost\nBegegnungs-Nr: 15051\nHeim: SC Riesa\nGast: Radeberger SV\nHalle: WM-Sporthalle Riesa (33213)\nAdresse: Am Sportzentrum 1\, 01587 Riesa\n
LOCATION:WM-Sporthalle Riesa (33213): Am Sportzentrum 1\, 01587 Riesa
CATEGORIES:Saison 2022/23
END:VEVENT
BEGIN:VEVENT
DTSTAMP:20260425T215037Z
DTSTART;TZID=Europe/Berlin:20230422T150000
DTEND;TZID=Europe/Berlin:20230422T163000
SUMMARY:Verbandsliga Stfl. Ost SC Riesa vs SSV Heidenau  (15096)
UID:ef844d9b-b8eb-4d19-b2cd-8987d4561cd4
STATUS:CONFIRMED
LAST-MODIFIED:20230429T145232Z
DESCRIPTION:Verbandsliga Frauen Staffel Ost\nBegegnungs-Nr: 15096\nHeim: SC Riesa\nGast: SSV Heidenau \nHalle: WM-Sporthalle Riesa (33213)\nAdresse: Am Sportzentrum 1\, 01587 Riesa\n
LOCATION:WM-Sporthalle Riesa (33213): Am Sportzentrum 1\, 01587 Riesa
CATEGORIES:Saison 2022/23
END:VEVENT
BEGIN:VEVENT
DTSTAMP:20260425T215037Z
DTSTART;TZID=Europe/Berlin:20230415T150000
DTEND;TZID=Europe/Berlin:20230415T163000
SUMMARY:Verbandsliga Stfl. Ost SC Riesa vs ESV Dresden (15087)
UID:66957215-f22d-4953-9c47-be7e4a39217a
STATUS:CONFIRMED
LAST-MODIFIED:20230429T145032Z
DESCRIPTION:Verbandsliga Frauen Staffel Ost\nBegegnungs-Nr: 15087\nHeim: SC Riesa\nGast: ESV Dresden\nHalle: WM-Sporthalle Riesa (33213)\nAdresse: Am Sportzentrum 1\, 01587 Riesa\n
LOCATION:WM-Sporthalle Riesa (33213): Am Sportzentrum 1\, 01587 Riesa
CATEGORIES:Saison 2022/23
END:VEVENT
BEGIN:VEVENT
DTSTAMP:20260425T215037Z
DTSTART;TZID=Europe/Berlin:20230304T143000
DTEND;TZID=Europe/Berlin:20230304T160000
SUMMARY:Verbandsliga Stfl. Ost SC Riesa vs HSV Weinböhla (15078)
UID:87f43ae5-65fd-4004-9df3-40ebc2546342
STATUS:CONFIRMED
LAST-MODIFIED:20230324T075340Z
DESCRIPTION:Verbandsliga Frauen Staffel Ost\nBegegnungs-Nr: 15078\nHeim: SC Riesa\nGast: HSV Weinböhla\nHalle: WM-Sporthalle Riesa (33213)\nAdresse: Am Sportzentrum 1\, 01587 Riesa\n
LOCATION:WM-Sporthalle Riesa (33213): Am Sportzentrum 1\, 01587 Riesa
CATEGORIES:Saison 2022/23
END:VEVENT
BEGIN:VEVENT
DTSTAMP:20260425T215037Z
DTSTART;TZID=Europe/Berlin:20221105T150000
DTEND;TZID=Europe/Berlin:20221105T163000
SUMMARY:Verbandsliga Stfl. Ost SC Riesa vs HCS Neustadt-S. (15028)
UID:d63e5db0-65d1-45da-8113-aec89a1f5d59
STATUS:CONFIRMED
LAST-MODIFIED:20221106T083408Z
DESCRIPTION:Verbandsliga Frauen Staffel Ost\nBegegnungs-Nr: 15028\nHeim: SC Riesa\nGast: HCS Neustadt-S.\nHalle: WM-Sporthalle Riesa (33213)\nAdresse: Am Sportzentrum 1\, 01587 Riesa\n
LOCATION:WM-Sporthalle Riesa (33213): Am Sportzentrum 1\, 01587 Riesa
CATEGORIES:Saison 2022/23
END:VEVENT
BEGIN:VEVENT
DTSTAMP:20260425T215037Z
DTSTART;TZID=Europe/Berlin:20220924T150000
DTEND;TZID=Europe/Berlin:20220924T163000
SUMMARY:Verbandsliga Stfl. Ost SC Riesa vs SF 01 Dresden (15007)
UID:0edea567-4951-4aaf-b652-a21305f4aa79
STATUS:CONFIRMED
LAST-MODIFIED:20220925T213942Z
DESCRIPTION:Verbandsliga Frauen Staffel Ost\nBegegnungs-Nr: 15007\nHeim: SC Riesa\nGast: SF 01 Dresden\nHalle: WM-Sporthalle Riesa (33213)\nAdresse: Am Sportzentrum 1\, 01587 Riesa\n
LOCATION:WM-Sporthalle Riesa (33213): Am Sportzentrum 1\, 01587 Riesa
CATEGORIES:Saison 2022/23
END:VEVENT
BEGIN:VEVENT
DTSTAMP:20260425T215037Z
DTSTART;TZID=Europe/Berlin:20221008T150000
DTEND;TZID=Europe/Berlin:20221008T163000
SUMMARY:Verbandsliga Stfl. Ost SC Riesa vs VfL Meißen II (15017)
UID:12bb24ac-70a8-4721-b421-a03051a4c887
STATUS:CONFIRMED
LAST-MODIFIED:20221020T094438Z
DESCRIPTION:Verbandsliga Frauen Staffel Ost\nBegegnungs-Nr: 15017\nHeim: SC Riesa\nGast: VfL Meißen II\nHalle: WM-Sporthalle Riesa (33213)\nAdresse: Am Sportzentrum 1\, 01587 Riesa\n
LOCATION:WM-Sporthalle Riesa (33213): Am Sportzentrum 1\, 01587 Riesa
CATEGORIES:Saison 2022/23
END:VEVENT
BEGIN:VEVENT
DTSTAMP:20260425T215037Z
DTSTART;TZID=Europe/Berlin:20221119T150000
DTEND;TZID=Europe/Berlin:20221119T163000
SUMMARY:Verbandsliga Stfl. Ost SC Riesa vs Görlitzer HC II (15039)
UID:f11248fb-96f5-4f67-ae44-f79ac8ba118f
STATUS:CONFIRMED
LAST-MODIFIED:20221123T163225Z
DESCRIPTION:Verbandsliga Frauen Staffel Ost\nBegegnungs-Nr: 15039\nHeim: SC Riesa\nGast: Görlitzer HC II\nHalle: WM-Sporthalle Riesa (33213)\nAdresse: Am Sportzentrum 1\, 01587 Riesa\n
LOCATION:WM-Sporthalle Riesa (33213): Am Sportzentrum 1\, 01587 Riesa
CATEGORIES:Saison 2022/23
END:VEVENT
BEGIN:VEVENT
DTSTAMP:20260425T215037Z
DTSTART;TZID=Europe/Berlin:20230507T140000
DTEND;TZID=Europe/Berlin:20230507T153000
SUMMARY:Verbandsliga Stfl. Ost Radeberger SV vs SC Riesa (15106)
UID:644a157d-54ad-4d07-a736-29d504f2c8df
STATUS:CONFIRMED
LAST-MODIFIED:20230510T082733Z
DESCRIPTION:Verbandsliga Frauen Staffel Ost\nBegegnungs-Nr: 15106\nHeim: Radeberger SV\nGast: SC Riesa\nHalle: 3-Feld-Halle-BSZ Radeberg (34209)\nAdresse: Robert-Blum-Weg 5\, 01454 Radeberg\n
LOCATION:3-Feld-Halle-BSZ Radeberg (34209): Robert-Blum-Weg 5\, 01454 Radeberg
CATEGORIES:Saison 2022/23
END:VEVENT
BEGIN:VEVENT
DTSTAMP:20260425T215037Z
DTSTART;TZID=Europe/Berlin:20230122T150000
DTEND;TZID=Europe/Berlin:20230122T163000
SUMMARY:Verbandsliga Stfl. Ost SF 01 Dresden vs SC Riesa (15062)
UID:5abcea57-8715-4915-9d39-9b240d63f2e3
STATUS:CONFIRMED
LAST-MODIFIED:20230128T105227Z
DESCRIPTION:Verbandsliga Frauen Staffel Ost\nBegegnungs-Nr: 15062\nHeim: SF 01 Dresden\nGast: SC Riesa\nHalle: SH Bertolt-Brecht-Gymnasium Dresden (33129)\nAdresse: Thomaestraße 60\, 01307 Dresden\n
LOCATION:SH Bertolt-Brecht-Gymnasium Dresden (33129): Thomaestraße 60\, 01307 Dresden
CATEGORIES:Saison 2022/23
END:VEVENT
BEGIN:VEVENT
DTSTAMP:20260425T215037Z
DTSTART;TZID=Europe/Berlin:20221210T180000
DTEND;TZID=Europe/Berlin:20221210T193000
SUMMARY:Verbandsliga Stfl. Ost TBSV Neugersdorf vs SC Riesa (15050)
UID:a123c3a7-d34a-4b29-ba98-3e137c939eb2
STATUS:CONFIRMED
LAST-MODIFIED:20221222T112619Z
DESCRIPTION:Verbandsliga Frauen Staffel Ost\nBegegnungs-Nr: 15050\nHeim: TBSV Neugersdorf\nGast: SC Riesa\nHalle: FSZ Oberland \"Albert Schweitzer\" (34112)\nAdresse: Friedrich-Ebert-Str.27\, 02730 Ebersbach-Neugersdorf\n
LOCATION:FSZ Oberland \"Albert Schweitzer\" (34112): Friedrich-Ebert-Str.27\, 02730 Ebersbach-Neugersdorf
CATEGORIES:Saison 2022/23
END:VEVENT
BEGIN:VEVENT
DTSTAMP:20260425T215037Z
DTSTART;TZID=Europe/Berlin:20230401T170000
DTEND;TZID=Europe/Berlin:20230401T183000
SUMMARY:Verbandsliga Stfl. Ost Görlitzer HC II vs SC Riesa (15094)
UID:bb0e6e6a-be1b-4821-a4bc-9456e8d159a5
STATUS:CONFIRMED
LAST-MODIFIED:20230412T204408Z
DESCRIPTION:Verbandsliga Frauen Staffel Ost\nBegegnungs-Nr: 15094\nHeim: Görlitzer HC II\nGast: SC Riesa\nHalle: Jahn-SH Görlitz (34302)\nAdresse: Kummerau 6\, 02826 Görlitz\n
LOCATION:Jahn-SH Görlitz (34302): Kummerau 6\, 02826 Görlitz
CATEGORIES:Saison 2022/23
END:VEVENT
BEGIN:VEVENT
DTSTAMP:20260425T215037Z
DTSTART;TZID=Europe/Berlin:20230312T160000
DTEND;TZID=Europe/Berlin:20230312T173000
SUMMARY:Verbandsliga Stfl. Ost HCS Neustadt-S. vs SC Riesa (15083)
UID:e1f0a853-940d-4b1f-8653-ad32e4ec2b3e
STATUS:CONFIRMED
LAST-MODIFIED:20230324T094102Z
DESCRIPTION:Verbandsliga Frauen Staffel Ost\nBegegnungs-Nr: 15083\nHeim: HCS Neustadt-S.\nGast: SC Riesa\nHalle: Sportforum Neustadt (33303)\nAdresse: Maxim-Gorki-Straße 10\, 01844  Neustadt\n
LOCATION:Sportforum Neustadt (33303): Maxim-Gorki-Straße 10\, 01844  Neustadt
CATEGORIES:Saison 2022/23
END:VEVENT
BEGIN:VEVENT
DTSTAMP:20260425T215037Z
DTSTART;TZID=Europe/Berlin:20230204T163000
DTEND;TZID=Europe/Berlin:20230204T180000
SUMMARY:Verbandsliga Stfl. Ost VfL Meißen II vs SC Riesa (15072)
UID:6c564cb7-e41f-4a28-898b-f14875dbc7f8
STATUS:CONFIRMED
LAST-MODIFIED:20230217T093805Z
DESCRIPTION:Verbandsliga Frauen Staffel Ost\nBegegnungs-Nr: 15072\nHeim: VfL Meißen II\nGast: SC Riesa\nHalle: SH \"Heiliger Grund\" Meißen (33212)\nAdresse: Goethestraße 27\, 01662 Meißen\n
LOCATION:SH \"Heiliger Grund\" Meißen (33212): Goethestraße 27\, 01662 Meißen
CATEGORIES:Saison 2022/23
END:VEVENT
BEGIN:VEVENT
DTSTAMP:20260425T215037Z
DTSTART;TZID=Europe/Berlin:20221112T170000
DTEND;TZID=Europe/Berlin:20221112T183000
SUMMARY:Verbandsliga Stfl. Ost ESV Dresden vs SC Riesa (15032)
UID:adc47533-3572-40f9-b855-1f549fb5babd
STATUS:CONFIRMED
LAST-MODIFIED:20221114T092758Z
DESCRIPTION:Verbandsliga Frauen Staffel Ost\nBegegnungs-Nr: 15032\nHeim: ESV Dresden\nGast: SC Riesa\nHalle: Lok-SH Dresden (33106)\nAdresse: Emmerich-Ambros-Ufer 74\, 01159 Dresden\n
LOCATION:Lok-SH Dresden (33106): Emmerich-Ambros-Ufer 74\, 01159 Dresden
CATEGORIES:Saison 2022/23
END:VEVENT
BEGIN:VEVENT
DTSTAMP:20260425T215037Z
DTSTART;TZID=Europe/Berlin:20221015T170000
DTEND;TZID=Europe/Berlin:20221015T183000
SUMMARY:Verbandsliga Stfl. Ost HSV Weinböhla vs SC Riesa (15023)
UID:95d27528-abbc-47b5-9c74-c5ef3bd4c44d
STATUS:CONFIRMED
LAST-MODIFIED:20221027T164550Z
DESCRIPTION:Verbandsliga Frauen Staffel Ost\nBegegnungs-Nr: 15023\nHeim: HSV Weinböhla\nGast: SC Riesa\nHalle: Nassau-SH Weinböhla (33224)\nAdresse: Meißner Str. 1\, 01689 Weinböhla\n
LOCATION:Nassau-SH Weinböhla (33224): Meißner Str. 1\, 01689 Weinböhla
CATEGORIES:Saison 2022/23
END:VEVENT
BEGIN:VEVENT
DTSTAMP:20260425T215037Z
DTSTART;TZID=Europe/Berlin:20220918T140000
DTEND;TZID=Europe/Berlin:20220918T153000
SUMMARY:Verbandsliga Stfl. Ost MSV Dresden vs SC Riesa (15004)
UID:2838b5a2-4611-4d26-99da-a1b59ef5ae7e
STATUS:CONFIRMED
LAST-MODIFIED:20220928T092601Z
DESCRIPTION:Verbandsliga Frauen Staffel Ost\nBegegnungs-Nr: 15004\nHeim: MSV Dresden\nGast: SC Riesa\nHalle: SH Bertolt-Brecht-Gymnasium Dresden (33129)\nAdresse: Thomaestraße 60\, 01307 Dresden\n
LOCATION:SH Bertolt-Brecht-Gymnasium Dresden (33129): Thomaestraße 60\, 01307 Dresden
CATEGORIES:Saison 2022/23
END:VEVENT
BEGIN:VEVENT
DTSTAMP:20260425T215037Z
DTSTART;TZID=Europe/Berlin:20221203T161500
DTEND;TZID=Europe/Berlin:20221203T174500
SUMMARY:Verbandsliga Stfl. Ost SSV Heidenau  vs SC Riesa (15041)
UID:5dcafe3c-e9e3-43c0-9842-d15598609887
STATUS:CONFIRMED
LAST-MODIFIED:20221206T105923Z
DESCRIPTION:Verbandsliga Frauen Staffel Ost\nBegegnungs-Nr: 15041\nHeim: SSV Heidenau \nGast: SC Riesa\nHalle: SH Pestalozzi-Gymnasium Heidenau (33306)\nAdresse: Hauptstraße 37\, 01809 Heidenau\n
LOCATION:SH Pestalozzi-Gymnasium Heidenau (33306): Hauptstraße 37\, 01809 Heidenau
CATEGORIES:Saison 2022/23
END:VEVENT
END:VCALENDAR
