BEGIN:VCALENDAR
PRODID:-//nuDatenautomaten//framework iCal4j //DE
VERSION:2.0
CALSCALE:GREGORIAN
BEGIN:VTIMEZONE
TZID:Europe/Berlin
LAST-MODIFIED:20260306T231828Z
TZURL:https://www.tzurl.org/zoneinfo/Europe/Berlin
X-LIC-LOCATION:Europe/Berlin
X-PROLEPTIC-TZNAME:LMT
BEGIN:STANDARD
TZNAME:CET
TZOFFSETFROM:+005328
TZOFFSETTO:+0100
DTSTART:18930401T000000
END:STANDARD
BEGIN:DAYLIGHT
TZNAME:CEST
TZOFFSETFROM:+0100
TZOFFSETTO:+0200
DTSTART:19160430T230000
RDATE:19400401T020000
RDATE:19430329T020000
RDATE:19460414T020000
RDATE:19470406T030000
RDATE:19480418T020000
RDATE:19490410T020000
RDATE:19800406T020000
END:DAYLIGHT
BEGIN:STANDARD
TZNAME:CET
TZOFFSETFROM:+0200
TZOFFSETTO:+0100
DTSTART:19161001T010000
RDATE:19421102T030000
RDATE:19431004T030000
RDATE:19441002T030000
RDATE:19451118T030000
RDATE:19461007T030000
END:STANDARD
BEGIN:DAYLIGHT
TZNAME:CEST
TZOFFSETFROM:+0100
TZOFFSETTO:+0200
DTSTART:19170416T020000
RRULE:FREQ=YEARLY;UNTIL=19180415T010000Z;BYMONTH=4;BYDAY=3MO
END:DAYLIGHT
BEGIN:STANDARD
TZNAME:CET
TZOFFSETFROM:+0200
TZOFFSETTO:+0100
DTSTART:19170917T030000
RRULE:FREQ=YEARLY;UNTIL=19180916T010000Z;BYMONTH=9;BYDAY=3MO
END:STANDARD
BEGIN:DAYLIGHT
TZNAME:CEST
TZOFFSETFROM:+0100
TZOFFSETTO:+0200
DTSTART:19440403T020000
RRULE:FREQ=YEARLY;UNTIL=19450402T010000Z;BYMONTH=4;BYDAY=1MO
END:DAYLIGHT
BEGIN:DAYLIGHT
TZNAME:CEMT
TZOFFSETFROM:+0200
TZOFFSETTO:+0300
DTSTART:19450524T020000
RDATE:19470511T030000
END:DAYLIGHT
BEGIN:DAYLIGHT
TZNAME:CEST
TZOFFSETFROM:+0300
TZOFFSETTO:+0200
DTSTART:19450924T030000
RDATE:19470629T030000
END:DAYLIGHT
BEGIN:STANDARD
TZNAME:CET
TZOFFSETFROM:+0100
TZOFFSETTO:+0100
DTSTART:19460101T000000
RDATE:19800101T000000
END:STANDARD
BEGIN:STANDARD
TZNAME:CET
TZOFFSETFROM:+0200
TZOFFSETTO:+0100
DTSTART:19471005T030000
RRULE:FREQ=YEARLY;UNTIL=19491002T010000Z;BYMONTH=10;BYDAY=1SU
END:STANDARD
BEGIN:STANDARD
TZNAME:CET
TZOFFSETFROM:+0200
TZOFFSETTO:+0100
DTSTART:19800928T030000
RRULE:FREQ=YEARLY;UNTIL=19950924T010000Z;BYMONTH=9;BYDAY=-1SU
END:STANDARD
BEGIN:DAYLIGHT
TZNAME:CEST
TZOFFSETFROM:+0100
TZOFFSETTO:+0200
DTSTART:19810329T020000
RRULE:FREQ=YEARLY;BYMONTH=3;BYDAY=-1SU
END:DAYLIGHT
BEGIN:STANDARD
TZNAME:CET
TZOFFSETFROM:+0200
TZOFFSETTO:+0100
DTSTART:19961027T030000
RRULE:FREQ=YEARLY;BYMONTH=10;BYDAY=-1SU
END:STANDARD
END:VTIMEZONE
BEGIN:VEVENT
DTSTAMP:20260421T072320Z
DTSTART;TZID=Europe/Berlin:20231022T140000
DTEND;TZID=Europe/Berlin:20231022T153000
SUMMARY:Bezirksklasse SG MoGoNo Leipzig II vs TuS Leipzig-Mockau III (22009)
UID:a47901db-6cb1-49e0-9852-1b002115a065
STATUS:CONFIRMED
LAST-MODIFIED:20231022T170513Z
DESCRIPTION:Bezirksklasse Frauen\nBegegnungs-Nr: 22009\nHeim: SG MoGoNo Leipzig II\nGast: TuS Leipzig-Mockau III\nHalle: SH Kästner-Grundschule Leipzig (31131)\nAdresse: Erfurter Str\, 04155 Leipzig\n
LOCATION:SH Kästner-Grundschule Leipzig (31131): Erfurter Str\, 04155 Leipzig
CATEGORIES:Saison 2023/24
END:VEVENT
BEGIN:VEVENT
DTSTAMP:20260421T072320Z
DTSTART;TZID=Europe/Berlin:20231210T160000
DTEND;TZID=Europe/Berlin:20231210T173000
SUMMARY:Bezirksklasse SG MoGoNo Leipzig II vs Roter Stern Leipzig II (22021)
UID:7440cf3a-4a1d-4714-a40a-bbb81ad573c1
STATUS:CONFIRMED
LAST-MODIFIED:20231210T202309Z
DESCRIPTION:Bezirksklasse Frauen\nBegegnungs-Nr: 22021\nHeim: SG MoGoNo Leipzig II\nGast: Roter Stern Leipzig II\nHalle: SH Kästner-Grundschule Leipzig (31131)\nAdresse: Erfurter Str\, 04155 Leipzig\n
LOCATION:SH Kästner-Grundschule Leipzig (31131): Erfurter Str\, 04155 Leipzig
CATEGORIES:Saison 2023/24
END:VEVENT
BEGIN:VEVENT
DTSTAMP:20260421T072320Z
DTSTART;TZID=Europe/Berlin:20240303T120000
DTEND;TZID=Europe/Berlin:20240303T133000
SUMMARY:Bezirksklasse SG MoGoNo Leipzig II vs Germania Zwenkau (22033)
UID:4554b8b4-df63-4d67-a994-967979c4d00e
STATUS:CONFIRMED
LAST-MODIFIED:20240303T140808Z
DESCRIPTION:Bezirksklasse Frauen\nBegegnungs-Nr: 22033\nHeim: SG MoGoNo Leipzig II\nGast: Germania Zwenkau\nHalle: SH Kästner-Grundschule Leipzig (31131)\nAdresse: Erfurter Str\, 04155 Leipzig\n
LOCATION:SH Kästner-Grundschule Leipzig (31131): Erfurter Str\, 04155 Leipzig
CATEGORIES:Saison 2023/24
END:VEVENT
BEGIN:VEVENT
DTSTAMP:20260421T072320Z
DTSTART;TZID=Europe/Berlin:20240421T160000
DTEND;TZID=Europe/Berlin:20240421T173000
SUMMARY:Bezirksklasse SG MoGoNo Leipzig II vs HV Böhlen (22039)
UID:d390db55-a692-4032-a095-264e1b0ea06d
STATUS:CONFIRMED
LAST-MODIFIED:20240516T071922Z
DESCRIPTION:Bezirksklasse Frauen\nBegegnungs-Nr: 22039\nHeim: SG MoGoNo Leipzig II\nGast: HV Böhlen\nHalle: SH Kästner-Grundschule Leipzig (31131)\nAdresse: Erfurter Str\, 04155 Leipzig\n
LOCATION:SH Kästner-Grundschule Leipzig (31131): Erfurter Str\, 04155 Leipzig
CATEGORIES:Saison 2023/24
END:VEVENT
BEGIN:VEVENT
DTSTAMP:20260421T072320Z
DTSTART;TZID=Europe/Berlin:20230910T160000
DTEND;TZID=Europe/Berlin:20230910T173000
SUMMARY:Bezirksklasse SG MoGoNo Leipzig II vs VfB Torgau (22003)
UID:8048f5b0-f74d-47a9-9b19-dfcb9e9be45a
STATUS:CONFIRMED
LAST-MODIFIED:20230911T200349Z
DESCRIPTION:Bezirksklasse Frauen\nBegegnungs-Nr: 22003\nHeim: SG MoGoNo Leipzig II\nGast: VfB Torgau\nHalle: SH Kästner-Grundschule Leipzig (31131)\nAdresse: Erfurter Str\, 04155 Leipzig\n
LOCATION:SH Kästner-Grundschule Leipzig (31131): Erfurter Str\, 04155 Leipzig
CATEGORIES:Saison 2023/24
END:VEVENT
BEGIN:VEVENT
DTSTAMP:20260421T072320Z
DTSTART;TZID=Europe/Berlin:20231126T180000
DTEND;TZID=Europe/Berlin:20231126T193000
SUMMARY:Bezirksklasse SG MoGoNo Leipzig II vs VfL Waldheim 54 (22016)
UID:2e8165a7-f4c9-41e2-a59f-04b5a9f57ce5
STATUS:CONFIRMED
LAST-MODIFIED:20231214T160102Z
DESCRIPTION:Bezirksklasse Frauen\nBegegnungs-Nr: 22016\nHeim: SG MoGoNo Leipzig II\nGast: VfL Waldheim 54\nHalle: SH Kästner-Grundschule Leipzig (31131)\nAdresse: Erfurter Str\, 04155 Leipzig\n
LOCATION:SH Kästner-Grundschule Leipzig (31131): Erfurter Str\, 04155 Leipzig
CATEGORIES:Saison 2023/24
END:VEVENT
BEGIN:VEVENT
DTSTAMP:20260421T072320Z
DTSTART;TZID=Europe/Berlin:20240203T160000
DTEND;TZID=Europe/Berlin:20240203T173000
SUMMARY:Bezirksklasse TuS Leipzig-Mockau III vs SG MoGoNo Leipzig II (22029)
UID:f6cc3cd4-a216-4689-82f1-6de0d2ce066e
STATUS:CONFIRMED
LAST-MODIFIED:20240204T172725Z
DESCRIPTION:Bezirksklasse Frauen\nBegegnungs-Nr: 22029\nHeim: TuS Leipzig-Mockau III\nGast: SG MoGoNo Leipzig II\nHalle: SH Leipzig-Wiederitzsch (31135)\nAdresse: Messeallee 21\, 04158 Leipzig\n
LOCATION:SH Leipzig-Wiederitzsch (31135): Messeallee 21\, 04158 Leipzig
CATEGORIES:Saison 2023/24
END:VEVENT
BEGIN:VEVENT
DTSTAMP:20260421T072320Z
DTSTART;TZID=Europe/Berlin:20240427T140000
DTEND;TZID=Europe/Berlin:20240427T153000
SUMMARY:Bezirksklasse Roter Stern Leipzig II vs SG MoGoNo Leipzig II (22040)
UID:b4a534d8-7fa2-4ef8-95f6-4083a6e63c5e
STATUS:CONFIRMED
LAST-MODIFIED:20240429T045114Z
DESCRIPTION:Bezirksklasse Frauen\nBegegnungs-Nr: 22040\nHeim: Roter Stern Leipzig II\nGast: SG MoGoNo Leipzig II\nHalle: SH Ostwald Gymnasium Leipzig-Lößnig (31105)\nAdresse: Willi-Bredel-Str. 13\, 04279 Leipzig\n
LOCATION:SH Ostwald Gymnasium Leipzig-Lößnig (31105): Willi-Bredel-Str. 13\, 04279 Leipzig
CATEGORIES:Saison 2023/24
END:VEVENT
BEGIN:VEVENT
DTSTAMP:20260421T072320Z
DTSTART;TZID=Europe/Berlin:20231028T160000
DTEND;TZID=Europe/Berlin:20231028T173000
SUMMARY:Bezirksklasse Germania Zwenkau vs SG MoGoNo Leipzig II (22011)
UID:bfc58174-d246-4ab2-a487-36cfc2859a83
STATUS:CONFIRMED
LAST-MODIFIED:20231029T194009Z
DESCRIPTION:Bezirksklasse Frauen\nBegegnungs-Nr: 22011\nHeim: Germania Zwenkau\nGast: SG MoGoNo Leipzig II\nHalle: Stadthalle Zwenkau (31113)\nAdresse: Heinrich-Mann-Weg 17\, 04442 Zwenkau\n
LOCATION:Stadthalle Zwenkau (31113): Heinrich-Mann-Weg 17\, 04442 Zwenkau
CATEGORIES:Saison 2023/24
END:VEVENT
BEGIN:VEVENT
DTSTAMP:20260421T072320Z
DTSTART;TZID=Europe/Berlin:20240210T170000
DTEND;TZID=Europe/Berlin:20240210T183000
SUMMARY:Bezirksklasse VfB Torgau vs SG MoGoNo Leipzig II (22031)
UID:128ef4e5-0d7d-403e-b867-e0bc30eed1ce
STATUS:CONFIRMED
LAST-MODIFIED:20240211T205425Z
DESCRIPTION:Bezirksklasse Frauen\nBegegnungs-Nr: 22031\nHeim: VfB Torgau\nGast: SG MoGoNo Leipzig II\nHalle: SH Am Wasserturm Torgau (31602)\nAdresse: Dahlener Str. 11 a\, 04860 Torgau\n
LOCATION:SH Am Wasserturm Torgau (31602): Dahlener Str. 11 a\, 04860 Torgau
CATEGORIES:Saison 2023/24
END:VEVENT
BEGIN:VEVENT
DTSTAMP:20260421T072320Z
DTSTART;TZID=Europe/Berlin:20231202T140000
DTEND;TZID=Europe/Berlin:20231202T153000
SUMMARY:Bezirksklasse HV Böhlen vs SG MoGoNo Leipzig II (22017)
UID:b909edaf-bab5-4f94-9172-b8726bf4688f
STATUS:CONFIRMED
LAST-MODIFIED:20231218T084316Z
DESCRIPTION:Bezirksklasse Frauen\nBegegnungs-Nr: 22017\nHeim: HV Böhlen\nGast: SG MoGoNo Leipzig II\nHalle: SH Oberschule Böhlen (31411)\nAdresse: Lessingstraße 1\, 04564 Böhlen\n
LOCATION:SH Oberschule Böhlen (31411): Lessingstraße 1\, 04564 Böhlen
CATEGORIES:Saison 2023/24
END:VEVENT
BEGIN:VEVENT
DTSTAMP:20260421T072320Z
DTSTART;TZID=Europe/Berlin:20240120T140000
DTEND;TZID=Europe/Berlin:20240120T153000
SUMMARY:Bezirksklasse VfL Waldheim 54 vs SG MoGoNo Leipzig II (22024)
UID:bd637b6f-2a4f-434b-9309-ca5151203b14
STATUS:CONFIRMED
LAST-MODIFIED:20240120T210053Z
DESCRIPTION:Bezirksklasse Frauen\nBegegnungs-Nr: 22024\nHeim: VfL Waldheim 54\nGast: SG MoGoNo Leipzig II\nHalle: Stadt-SH Waldheim (31204)\nAdresse: Am Schulberg 3 (Anfahrt zum Parkplatz über die Schönberger Straße)\, 04736 Waldheim\n
LOCATION:Stadt-SH Waldheim (31204): Am Schulberg 3 (Anfahrt zum Parkplatz über die Schönberger Straße)\, 04736 Waldheim
CATEGORIES:Saison 2023/24
END:VEVENT
END:VCALENDAR
