BEGIN:VCALENDAR
PRODID:-//nuDatenautomaten//framework iCal4j //DE
VERSION:2.0
CALSCALE:GREGORIAN
BEGIN:VTIMEZONE
TZID:Europe/Berlin
LAST-MODIFIED:20260306T231828Z
TZURL:https://www.tzurl.org/zoneinfo/Europe/Berlin
X-LIC-LOCATION:Europe/Berlin
X-PROLEPTIC-TZNAME:LMT
BEGIN:STANDARD
TZNAME:CET
TZOFFSETFROM:+005328
TZOFFSETTO:+0100
DTSTART:18930401T000000
END:STANDARD
BEGIN:DAYLIGHT
TZNAME:CEST
TZOFFSETFROM:+0100
TZOFFSETTO:+0200
DTSTART:19160430T230000
RDATE:19400401T020000
RDATE:19430329T020000
RDATE:19460414T020000
RDATE:19470406T030000
RDATE:19480418T020000
RDATE:19490410T020000
RDATE:19800406T020000
END:DAYLIGHT
BEGIN:STANDARD
TZNAME:CET
TZOFFSETFROM:+0200
TZOFFSETTO:+0100
DTSTART:19161001T010000
RDATE:19421102T030000
RDATE:19431004T030000
RDATE:19441002T030000
RDATE:19451118T030000
RDATE:19461007T030000
END:STANDARD
BEGIN:DAYLIGHT
TZNAME:CEST
TZOFFSETFROM:+0100
TZOFFSETTO:+0200
DTSTART:19170416T020000
RRULE:FREQ=YEARLY;UNTIL=19180415T010000Z;BYMONTH=4;BYDAY=3MO
END:DAYLIGHT
BEGIN:STANDARD
TZNAME:CET
TZOFFSETFROM:+0200
TZOFFSETTO:+0100
DTSTART:19170917T030000
RRULE:FREQ=YEARLY;UNTIL=19180916T010000Z;BYMONTH=9;BYDAY=3MO
END:STANDARD
BEGIN:DAYLIGHT
TZNAME:CEST
TZOFFSETFROM:+0100
TZOFFSETTO:+0200
DTSTART:19440403T020000
RRULE:FREQ=YEARLY;UNTIL=19450402T010000Z;BYMONTH=4;BYDAY=1MO
END:DAYLIGHT
BEGIN:DAYLIGHT
TZNAME:CEMT
TZOFFSETFROM:+0200
TZOFFSETTO:+0300
DTSTART:19450524T020000
RDATE:19470511T030000
END:DAYLIGHT
BEGIN:DAYLIGHT
TZNAME:CEST
TZOFFSETFROM:+0300
TZOFFSETTO:+0200
DTSTART:19450924T030000
RDATE:19470629T030000
END:DAYLIGHT
BEGIN:STANDARD
TZNAME:CET
TZOFFSETFROM:+0100
TZOFFSETTO:+0100
DTSTART:19460101T000000
RDATE:19800101T000000
END:STANDARD
BEGIN:STANDARD
TZNAME:CET
TZOFFSETFROM:+0200
TZOFFSETTO:+0100
DTSTART:19471005T030000
RRULE:FREQ=YEARLY;UNTIL=19491002T010000Z;BYMONTH=10;BYDAY=1SU
END:STANDARD
BEGIN:STANDARD
TZNAME:CET
TZOFFSETFROM:+0200
TZOFFSETTO:+0100
DTSTART:19800928T030000
RRULE:FREQ=YEARLY;UNTIL=19950924T010000Z;BYMONTH=9;BYDAY=-1SU
END:STANDARD
BEGIN:DAYLIGHT
TZNAME:CEST
TZOFFSETFROM:+0100
TZOFFSETTO:+0200
DTSTART:19810329T020000
RRULE:FREQ=YEARLY;BYMONTH=3;BYDAY=-1SU
END:DAYLIGHT
BEGIN:STANDARD
TZNAME:CET
TZOFFSETFROM:+0200
TZOFFSETTO:+0100
DTSTART:19961027T030000
RRULE:FREQ=YEARLY;BYMONTH=10;BYDAY=-1SU
END:STANDARD
END:VTIMEZONE
BEGIN:VEVENT
DTSTAMP:20260421T210715Z
DTSTART;TZID=Europe/Berlin:20231209T160000
DTEND;TZID=Europe/Berlin:20231209T173000
SUMMARY:OSL Frauen Stahl Rietschen vs HSG Obergurig-Cunewalde (2043)
UID:72a6a5af-a4f2-4e2c-8b80-be81920250ec
STATUS:CONFIRMED
LAST-MODIFIED:20231210T194246Z
DESCRIPTION:Ostsachsenliga Frauen\nBegegnungs-Nr: 2043\nHeim: Stahl Rietschen\nGast: HSG Obergurig-Cunewalde\nHalle: Oberlausitz-SH Rietschen (34403)\nAdresse: Am Festplatz 1\, 02956 Rietschen\n
LOCATION:Oberlausitz-SH Rietschen (34403): Am Festplatz 1\, 02956 Rietschen
CATEGORIES:Saison 2023/24
END:VEVENT
BEGIN:VEVENT
DTSTAMP:20260421T210715Z
DTSTART;TZID=Europe/Berlin:20240106T160000
DTEND;TZID=Europe/Berlin:20240106T173000
SUMMARY:OSL Frauen Stahl Rietschen vs OSV Zittau (2046)
UID:1811963d-3e89-41cc-9b78-c5350593186c
STATUS:CONFIRMED
LAST-MODIFIED:20240110T191943Z
DESCRIPTION:Ostsachsenliga Frauen\nBegegnungs-Nr: 2046\nHeim: Stahl Rietschen\nGast: OSV Zittau\nHalle: Oberlausitz-SH Rietschen (34403)\nAdresse: Am Festplatz 1\, 02956 Rietschen\n
LOCATION:Oberlausitz-SH Rietschen (34403): Am Festplatz 1\, 02956 Rietschen
CATEGORIES:Saison 2023/24
END:VEVENT
BEGIN:VEVENT
DTSTAMP:20260421T210715Z
DTSTART;TZID=Europe/Berlin:20240127T160000
DTEND;TZID=Europe/Berlin:20240127T173000
SUMMARY:OSL Frauen Stahl Rietschen vs HV Schwarz Weiß Sohland (2059)
UID:6a30c85d-ffae-4c35-8f36-b3f606e3e560
STATUS:CONFIRMED
LAST-MODIFIED:20240129T194253Z
DESCRIPTION:Ostsachsenliga Frauen\nBegegnungs-Nr: 2059\nHeim: Stahl Rietschen\nGast: HV Schwarz Weiß Sohland\nHalle: Oberlausitz-SH Rietschen (34403)\nAdresse: Am Festplatz 1\, 02956 Rietschen\n
LOCATION:Oberlausitz-SH Rietschen (34403): Am Festplatz 1\, 02956 Rietschen
CATEGORIES:Saison 2023/24
END:VEVENT
BEGIN:VEVENT
DTSTAMP:20260421T210715Z
DTSTART;TZID=Europe/Berlin:20230916T160000
DTEND;TZID=Europe/Berlin:20230916T173000
SUMMARY:OSL Frauen Stahl Rietschen vs Königswarthaer SV (2010)
UID:931bd660-e338-4d7d-aa6e-d4b65f169ead
STATUS:CONFIRMED
LAST-MODIFIED:20230918T194529Z
DESCRIPTION:Ostsachsenliga Frauen\nBegegnungs-Nr: 2010\nHeim: Stahl Rietschen\nGast: Königswarthaer SV\nHalle: Oberlausitz-SH Rietschen (34403)\nAdresse: Am Festplatz 1\, 02956 Rietschen\n
LOCATION:Oberlausitz-SH Rietschen (34403): Am Festplatz 1\, 02956 Rietschen
CATEGORIES:Saison 2023/24
END:VEVENT
BEGIN:VEVENT
DTSTAMP:20260421T210715Z
DTSTART;TZID=Europe/Berlin:20240302T160000
DTEND;TZID=Europe/Berlin:20240302T173000
SUMMARY:OSL Frauen Stahl Rietschen vs HSV 1923 Pulsnitz (2067)
UID:ac8d1038-b6fd-4783-8893-ec4ccd24361d
STATUS:CONFIRMED
LAST-MODIFIED:20240306T192054Z
DESCRIPTION:Ostsachsenliga Frauen\nBegegnungs-Nr: 2067\nHeim: Stahl Rietschen\nGast: HSV 1923 Pulsnitz\nHalle: Oberlausitz-SH Rietschen (34403)\nAdresse: Am Festplatz 1\, 02956 Rietschen\n
LOCATION:Oberlausitz-SH Rietschen (34403): Am Festplatz 1\, 02956 Rietschen
CATEGORIES:Saison 2023/24
END:VEVENT
BEGIN:VEVENT
DTSTAMP:20260421T210715Z
DTSTART;TZID=Europe/Berlin:20240316T160000
DTEND;TZID=Europe/Berlin:20240316T173000
SUMMARY:OSL Frauen Stahl Rietschen vs Koweg Görlitz (2075)
UID:fab6e2e8-8bb7-4642-9b9d-0154fd5d17fd
STATUS:CONFIRMED
LAST-MODIFIED:20240318T194928Z
DESCRIPTION:Ostsachsenliga Frauen\nBegegnungs-Nr: 2075\nHeim: Stahl Rietschen\nGast: Koweg Görlitz\nHalle: Oberlausitz-SH Rietschen (34403)\nAdresse: Am Festplatz 1\, 02956 Rietschen\n
LOCATION:Oberlausitz-SH Rietschen (34403): Am Festplatz 1\, 02956 Rietschen
CATEGORIES:Saison 2023/24
END:VEVENT
BEGIN:VEVENT
DTSTAMP:20260421T210715Z
DTSTART;TZID=Europe/Berlin:20230909T160000
DTEND;TZID=Europe/Berlin:20230909T173000
SUMMARY:OSL Frauen Stahl Rietschen vs Radeberger SV II (2006)
UID:e62e5a61-7266-4c1f-b7da-38214bbb00dc
STATUS:CONFIRMED
LAST-MODIFIED:20230911T191305Z
DESCRIPTION:Ostsachsenliga Frauen\nBegegnungs-Nr: 2006\nHeim: Stahl Rietschen\nGast: Radeberger SV II\nHalle: Oberlausitz-SH Rietschen (34403)\nAdresse: Am Festplatz 1\, 02956 Rietschen\n
LOCATION:Oberlausitz-SH Rietschen (34403): Am Festplatz 1\, 02956 Rietschen
CATEGORIES:Saison 2023/24
END:VEVENT
BEGIN:VEVENT
DTSTAMP:20260421T210715Z
DTSTART;TZID=Europe/Berlin:20231021T160000
DTEND;TZID=Europe/Berlin:20231021T173000
SUMMARY:OSL Frauen Stahl Rietschen vs HVH Kamenz (2018)
UID:6dfa87d5-ab49-4de3-a6e9-de6a5eb5fccb
STATUS:CONFIRMED
LAST-MODIFIED:20231027T185241Z
DESCRIPTION:Ostsachsenliga Frauen\nBegegnungs-Nr: 2018\nHeim: Stahl Rietschen\nGast: HVH Kamenz\nHalle: Oberlausitz-SH Rietschen (34403)\nAdresse: Am Festplatz 1\, 02956 Rietschen\n
LOCATION:Oberlausitz-SH Rietschen (34403): Am Festplatz 1\, 02956 Rietschen
CATEGORIES:Saison 2023/24
END:VEVENT
BEGIN:VEVENT
DTSTAMP:20260421T210715Z
DTSTART;TZID=Europe/Berlin:20231104T160000
DTEND;TZID=Europe/Berlin:20231104T173000
SUMMARY:OSL Frauen Stahl Rietschen vs OHC Bernstadt (2027)
UID:3e1d6841-cdad-4a9e-8458-6d9cbfe830ff
STATUS:CONFIRMED
LAST-MODIFIED:20231106T191916Z
DESCRIPTION:Ostsachsenliga Frauen\nBegegnungs-Nr: 2027\nHeim: Stahl Rietschen\nGast: OHC Bernstadt\nHalle: Oberlausitz-SH Rietschen (34403)\nAdresse: Am Festplatz 1\, 02956 Rietschen\n
LOCATION:Oberlausitz-SH Rietschen (34403): Am Festplatz 1\, 02956 Rietschen
CATEGORIES:Saison 2023/24
END:VEVENT
BEGIN:VEVENT
DTSTAMP:20260421T210715Z
DTSTART;TZID=Europe/Berlin:20240211T140000
DTEND;TZID=Europe/Berlin:20240211T153000
SUMMARY:OSL Frauen Radeberger SV II vs Stahl Rietschen (2051)
UID:0f970e32-11fe-42b0-b8ca-5a02befb9a68
STATUS:CONFIRMED
LAST-MODIFIED:20240215T202707Z
DESCRIPTION:Ostsachsenliga Frauen\nBegegnungs-Nr: 2051\nHeim: Radeberger SV II\nGast: Stahl Rietschen\nHalle: 3-Feld-Halle-BSZ Radeberg (34209)\nAdresse: Robert-Blum-Weg 5\, 01454 Radeberg\n
LOCATION:3-Feld-Halle-BSZ Radeberg (34209): Robert-Blum-Weg 5\, 01454 Radeberg
CATEGORIES:Saison 2023/24
END:VEVENT
BEGIN:VEVENT
DTSTAMP:20260421T210715Z
DTSTART;TZID=Europe/Berlin:20240120T160000
DTEND;TZID=Europe/Berlin:20240120T173000
SUMMARY:OSL Frauen Königswarthaer SV vs Stahl Rietschen (2055)
UID:fcf05c4f-c833-4deb-b868-aa76f135feed
STATUS:CONFIRMED
LAST-MODIFIED:20240123T201649Z
DESCRIPTION:Ostsachsenliga Frauen\nBegegnungs-Nr: 2055\nHeim: Königswarthaer SV\nGast: Stahl Rietschen\nHalle: Sporthalle \"Slavia\" Radibor (34103)\nAdresse: Dr.-Maria-Grollmus-Straße 3\, 02627 Radibor\n
LOCATION:Sporthalle \"Slavia\" Radibor (34103): Dr.-Maria-Grollmus-Straße 3\, 02627 Radibor
CATEGORIES:Saison 2023/24
END:VEVENT
BEGIN:VEVENT
DTSTAMP:20260421T210715Z
DTSTART;TZID=Europe/Berlin:20240204T160000
DTEND;TZID=Europe/Berlin:20240204T173000
SUMMARY:OSL Frauen HVH Kamenz vs Stahl Rietschen (2063)
UID:a5a252d4-40f5-413b-bacf-52009472af09
STATUS:CONFIRMED
LAST-MODIFIED:20240208T190415Z
DESCRIPTION:Ostsachsenliga Frauen\nBegegnungs-Nr: 2063\nHeim: HVH Kamenz\nGast: Stahl Rietschen\nHalle: SH Albert-Schweitzer-Gymnasium Kamenz (34204)\nAdresse: Am Flugplatz\, 01917 Kamenz\, Parkplatz - Macherstraße 142\n
LOCATION:SH Albert-Schweitzer-Gymnasium Kamenz (34204): Am Flugplatz\, 01917 Kamenz\, Parkplatz - Macherstraße 142
CATEGORIES:Saison 2023/24
END:VEVENT
BEGIN:VEVENT
DTSTAMP:20260421T210715Z
DTSTART;TZID=Europe/Berlin:20240309T160000
DTEND;TZID=Europe/Berlin:20240309T173000
SUMMARY:OSL Frauen OHC Bernstadt vs Stahl Rietschen (2072)
UID:896f61f3-15ed-4719-a009-d3d9754e856e
STATUS:CONFIRMED
LAST-MODIFIED:20240312T193543Z
DESCRIPTION:Ostsachsenliga Frauen\nBegegnungs-Nr: 2072\nHeim: OHC Bernstadt\nGast: Stahl Rietschen\nHalle: Sporthalle \"Pließnitztal\" Bernstadt (34108)\nAdresse: Am Pließnitztal 3\, 02748 Bernstadt a.d. Eigen OT Kunnersdorf\n
LOCATION:Sporthalle \"Pließnitztal\" Bernstadt (34108): Am Pließnitztal 3\, 02748 Bernstadt a.d. Eigen OT Kunnersdorf
CATEGORIES:Saison 2023/24
END:VEVENT
BEGIN:VEVENT
DTSTAMP:20260421T210715Z
DTSTART;TZID=Europe/Berlin:20240428T110000
DTEND;TZID=Europe/Berlin:20240428T123000
SUMMARY:OSL Frauen HSG Obergurig-Cunewalde vs Stahl Rietschen (2088)
UID:cd7c6436-9e91-4981-8356-9a77cb9827cd
STATUS:CONFIRMED
LAST-MODIFIED:20240514T085028Z
DESCRIPTION:Ostsachsenliga Frauen\nBegegnungs-Nr: 2088\nHeim: HSG Obergurig-Cunewalde\nGast: Stahl Rietschen\nHalle: 2-Feld-Halle Sorbisches Schul- und Begegnungszentrum Bautzen (34511)\nAdresse: Friedrich - List - Str. 8\, 02625 Bautzen\n
LOCATION:2-Feld-Halle Sorbisches Schul- und Begegnungszentrum Bautzen (34511): Friedrich - List - Str. 8\, 02625 Bautzen
CATEGORIES:Saison 2023/24
END:VEVENT
BEGIN:VEVENT
DTSTAMP:20260421T210715Z
DTSTART;TZID=Europe/Berlin:20230902T164500
DTEND;TZID=Europe/Berlin:20230902T181500
SUMMARY:OSL Frauen OSV Zittau vs Stahl Rietschen (2001)
UID:d9947d7e-a4a9-40af-a61e-5e621f396904
STATUS:CONFIRMED
LAST-MODIFIED:20230904T185055Z
DESCRIPTION:Ostsachsenliga Frauen\nBegegnungs-Nr: 2001\nHeim: OSV Zittau\nGast: Stahl Rietschen\nHalle: SH Zittau (34107)\nAdresse: Lisa - Tetzner - Str.\, 02763 Zittau\n
LOCATION:SH Zittau (34107): Lisa - Tetzner - Str.\, 02763 Zittau
CATEGORIES:Saison 2023/24
END:VEVENT
BEGIN:VEVENT
DTSTAMP:20260421T210715Z
DTSTART;TZID=Europe/Berlin:20230923T153000
DTEND;TZID=Europe/Berlin:20230923T170000
SUMMARY:OSL Frauen HV Schwarz Weiß Sohland vs Stahl Rietschen (2014)
UID:4751c84f-9472-4ede-b42d-ef9b710128f9
STATUS:CONFIRMED
LAST-MODIFIED:20230928T175716Z
DESCRIPTION:Ostsachsenliga Frauen\nBegegnungs-Nr: 2014\nHeim: HV Schwarz Weiß Sohland\nGast: Stahl Rietschen\nHalle: \"Oberland-Sporthalle\" Sohland (34501)\nAdresse: G. - Hauptmann - Str. 4 A\, 02689 Sohland\n
LOCATION:\"Oberland-Sporthalle\" Sohland (34501): G. - Hauptmann - Str. 4 A\, 02689 Sohland
CATEGORIES:Saison 2023/24
END:VEVENT
BEGIN:VEVENT
DTSTAMP:20260421T210715Z
DTSTART;TZID=Europe/Berlin:20231029T120000
DTEND;TZID=Europe/Berlin:20231029T133000
SUMMARY:OSL Frauen HSV 1923 Pulsnitz vs Stahl Rietschen (2022)
UID:469ba6a7-8352-4de0-80c5-3053f5179745
STATUS:CONFIRMED
LAST-MODIFIED:20231101T193405Z
DESCRIPTION:Ostsachsenliga Frauen\nBegegnungs-Nr: 2022\nHeim: HSV 1923 Pulsnitz\nGast: Stahl Rietschen\nHalle: Sportkomplex Pulsnitz (34208)\nAdresse: Hempelstr. 8\, 01896 Pulsnitz\n
LOCATION:Sportkomplex Pulsnitz (34208): Hempelstr. 8\, 01896 Pulsnitz
CATEGORIES:Saison 2023/24
END:VEVENT
BEGIN:VEVENT
DTSTAMP:20260421T210715Z
DTSTART;TZID=Europe/Berlin:20231217T140000
DTEND;TZID=Europe/Berlin:20231217T153000
SUMMARY:OSL Frauen Koweg Görlitz vs Stahl Rietschen (2030)
UID:2532c034-ecb1-43d5-b7fb-dca457d5d4d4
STATUS:CONFIRMED
LAST-MODIFIED:20231222T172959Z
DESCRIPTION:Ostsachsenliga Frauen\nBegegnungs-Nr: 2030\nHeim: Koweg Görlitz\nGast: Stahl Rietschen\nHalle: Emil-von-Schenckendorff-SH (34308)\nAdresse: Hugo-Keller-Straße 15\, 02826 Görlitz\n
LOCATION:Emil-von-Schenckendorff-SH (34308): Hugo-Keller-Straße 15\, 02826 Görlitz
CATEGORIES:Saison 2023/24
END:VEVENT
END:VCALENDAR
