BEGIN:VCALENDAR
PRODID:-//nuDatenautomaten//framework iCal4j //DE
VERSION:2.0
CALSCALE:GREGORIAN
BEGIN:VTIMEZONE
TZID:Europe/Berlin
LAST-MODIFIED:20260306T231828Z
TZURL:https://www.tzurl.org/zoneinfo/Europe/Berlin
X-LIC-LOCATION:Europe/Berlin
X-PROLEPTIC-TZNAME:LMT
BEGIN:STANDARD
TZNAME:CET
TZOFFSETFROM:+005328
TZOFFSETTO:+0100
DTSTART:18930401T000000
END:STANDARD
BEGIN:DAYLIGHT
TZNAME:CEST
TZOFFSETFROM:+0100
TZOFFSETTO:+0200
DTSTART:19160430T230000
RDATE:19400401T020000
RDATE:19430329T020000
RDATE:19460414T020000
RDATE:19470406T030000
RDATE:19480418T020000
RDATE:19490410T020000
RDATE:19800406T020000
END:DAYLIGHT
BEGIN:STANDARD
TZNAME:CET
TZOFFSETFROM:+0200
TZOFFSETTO:+0100
DTSTART:19161001T010000
RDATE:19421102T030000
RDATE:19431004T030000
RDATE:19441002T030000
RDATE:19451118T030000
RDATE:19461007T030000
END:STANDARD
BEGIN:DAYLIGHT
TZNAME:CEST
TZOFFSETFROM:+0100
TZOFFSETTO:+0200
DTSTART:19170416T020000
RRULE:FREQ=YEARLY;UNTIL=19180415T010000Z;BYMONTH=4;BYDAY=3MO
END:DAYLIGHT
BEGIN:STANDARD
TZNAME:CET
TZOFFSETFROM:+0200
TZOFFSETTO:+0100
DTSTART:19170917T030000
RRULE:FREQ=YEARLY;UNTIL=19180916T010000Z;BYMONTH=9;BYDAY=3MO
END:STANDARD
BEGIN:DAYLIGHT
TZNAME:CEST
TZOFFSETFROM:+0100
TZOFFSETTO:+0200
DTSTART:19440403T020000
RRULE:FREQ=YEARLY;UNTIL=19450402T010000Z;BYMONTH=4;BYDAY=1MO
END:DAYLIGHT
BEGIN:DAYLIGHT
TZNAME:CEMT
TZOFFSETFROM:+0200
TZOFFSETTO:+0300
DTSTART:19450524T020000
RDATE:19470511T030000
END:DAYLIGHT
BEGIN:DAYLIGHT
TZNAME:CEST
TZOFFSETFROM:+0300
TZOFFSETTO:+0200
DTSTART:19450924T030000
RDATE:19470629T030000
END:DAYLIGHT
BEGIN:STANDARD
TZNAME:CET
TZOFFSETFROM:+0100
TZOFFSETTO:+0100
DTSTART:19460101T000000
RDATE:19800101T000000
END:STANDARD
BEGIN:STANDARD
TZNAME:CET
TZOFFSETFROM:+0200
TZOFFSETTO:+0100
DTSTART:19471005T030000
RRULE:FREQ=YEARLY;UNTIL=19491002T010000Z;BYMONTH=10;BYDAY=1SU
END:STANDARD
BEGIN:STANDARD
TZNAME:CET
TZOFFSETFROM:+0200
TZOFFSETTO:+0100
DTSTART:19800928T030000
RRULE:FREQ=YEARLY;UNTIL=19950924T010000Z;BYMONTH=9;BYDAY=-1SU
END:STANDARD
BEGIN:DAYLIGHT
TZNAME:CEST
TZOFFSETFROM:+0100
TZOFFSETTO:+0200
DTSTART:19810329T020000
RRULE:FREQ=YEARLY;BYMONTH=3;BYDAY=-1SU
END:DAYLIGHT
BEGIN:STANDARD
TZNAME:CET
TZOFFSETFROM:+0200
TZOFFSETTO:+0100
DTSTART:19961027T030000
RRULE:FREQ=YEARLY;BYMONTH=10;BYDAY=-1SU
END:STANDARD
END:VTIMEZONE
BEGIN:VEVENT
DTSTAMP:20260420T175224Z
DTSTART;TZID=Europe/Berlin:20231209T131000
DTEND;TZID=Europe/Berlin:20231209T141000
SUMMARY:Bezirksliga mJC SG MoGoNo Leipzig II vs HSV Mölkau - Die Haie  (17068)
UID:388f9058-cd0e-4d92-a82a-6caca6e2c692
STATUS:CONFIRMED
LAST-MODIFIED:20231211T105415Z
DESCRIPTION:Bezirksliga männliche Jugend C\nBegegnungs-Nr: 17068\nHeim: SG MoGoNo Leipzig II\nGast: HSV Mölkau - Die Haie \nHalle: SH Kästner-Grundschule Leipzig (31131)\nAdresse: Erfurter Str\, 04155 Leipzig\n
LOCATION:SH Kästner-Grundschule Leipzig (31131): Erfurter Str\, 04155 Leipzig
CATEGORIES:Saison 2023/24
END:VEVENT
BEGIN:VEVENT
DTSTAMP:20260420T175224Z
DTSTART;TZID=Europe/Berlin:20231125T121000
DTEND;TZID=Europe/Berlin:20231125T131000
SUMMARY:Bezirksliga mJC SG MoGoNo Leipzig II vs SG MoGoNo Leipzig III (17056)
UID:6b19d801-bb13-40fe-9920-db48c0b4342d
STATUS:CONFIRMED
LAST-MODIFIED:20231127T091506Z
DESCRIPTION:Bezirksliga männliche Jugend C\nBegegnungs-Nr: 17056\nHeim: SG MoGoNo Leipzig II\nGast: SG MoGoNo Leipzig III\nHalle: SH Kästner-Grundschule Leipzig (31131)\nAdresse: Erfurter Str\, 04155 Leipzig\n
LOCATION:SH Kästner-Grundschule Leipzig (31131): Erfurter Str\, 04155 Leipzig
CATEGORIES:Saison 2023/24
END:VEVENT
BEGIN:VEVENT
DTSTAMP:20260420T175224Z
DTSTART;TZID=Europe/Berlin:20231029T120000
DTEND;TZID=Europe/Berlin:20231029T130000
SUMMARY:Bezirksliga mJC SG MoGoNo Leipzig II vs TuS Leipzig-Mockau (17035)
UID:a1e8ad18-530d-48d6-83ee-ef62d5cf7bfe
STATUS:CONFIRMED
LAST-MODIFIED:20231107T082855Z
DESCRIPTION:Bezirksliga männliche Jugend C\nBegegnungs-Nr: 17035\nHeim: SG MoGoNo Leipzig II\nGast: TuS Leipzig-Mockau\nHalle: SH Kästner-Grundschule Leipzig (31131)\nAdresse: Erfurter Str\, 04155 Leipzig\n
LOCATION:SH Kästner-Grundschule Leipzig (31131): Erfurter Str\, 04155 Leipzig
CATEGORIES:Saison 2023/24
END:VEVENT
BEGIN:VEVENT
DTSTAMP:20260420T175224Z
DTSTART;TZID=Europe/Berlin:20230923T140000
DTEND;TZID=Europe/Berlin:20230923T150000
SUMMARY:Bezirksliga mJC SG MoGoNo Leipzig II vs VfB Eilenburg (17021)
UID:e91175b8-a5ec-442c-a806-021c9889f426
STATUS:CONFIRMED
LAST-MODIFIED:20230924T110455Z
DESCRIPTION:Bezirksliga männliche Jugend C\nBegegnungs-Nr: 17021\nHeim: SG MoGoNo Leipzig II\nGast: VfB Eilenburg\nHalle: SH Kästner-Grundschule Leipzig (31131)\nAdresse: Erfurter Str\, 04155 Leipzig\n
LOCATION:SH Kästner-Grundschule Leipzig (31131): Erfurter Str\, 04155 Leipzig
CATEGORIES:Saison 2023/24
END:VEVENT
BEGIN:VEVENT
DTSTAMP:20260420T175224Z
DTSTART;TZID=Europe/Berlin:20230909T150000
DTEND;TZID=Europe/Berlin:20230909T160000
SUMMARY:Bezirksliga mJC SG MoGoNo Leipzig II vs Leipziger SV Südwest (17011)
UID:41478a52-6696-43e7-a4ba-cd85a0a0bb64
STATUS:CONFIRMED
LAST-MODIFIED:20230911T092126Z
DESCRIPTION:Bezirksliga männliche Jugend C\nBegegnungs-Nr: 17011\nHeim: SG MoGoNo Leipzig II\nGast: Leipziger SV Südwest\nHalle: SH Kästner-Grundschule Leipzig (31131)\nAdresse: Erfurter Str\, 04155 Leipzig\n
LOCATION:SH Kästner-Grundschule Leipzig (31131): Erfurter Str\, 04155 Leipzig
CATEGORIES:Saison 2023/24
END:VEVENT
BEGIN:VEVENT
DTSTAMP:20260420T175224Z
DTSTART;TZID=Europe/Berlin:20240505T110000
DTEND;TZID=Europe/Berlin:20240505T120000
SUMMARY:Bezirksliga mJC SG MoGoNo Leipzig II vs TSV Markkleeberg (17156)
UID:f0e1a24e-fd0c-4fd6-9bed-688c61f9cd8b
STATUS:CONFIRMED
LAST-MODIFIED:20240512T083643Z
DESCRIPTION:Bezirksliga männliche Jugend C\nBegegnungs-Nr: 17156\nHeim: SG MoGoNo Leipzig II\nGast: TSV Markkleeberg\nHalle: SH Kästner-Grundschule Leipzig (31131)\nAdresse: Erfurter Str\, 04155 Leipzig\n
LOCATION:SH Kästner-Grundschule Leipzig (31131): Erfurter Str\, 04155 Leipzig
CATEGORIES:Saison 2023/24
END:VEVENT
BEGIN:VEVENT
DTSTAMP:20260420T175224Z
DTSTART;TZID=Europe/Berlin:20240324T113000
DTEND;TZID=Europe/Berlin:20240324T123000
SUMMARY:Bezirksliga mJC SG MoGoNo Leipzig II vs HSG Neudorf/Döbeln (17131)
UID:ffed40df-1911-469b-8536-611a6e069dee
STATUS:CONFIRMED
LAST-MODIFIED:20240324T125350Z
DESCRIPTION:Bezirksliga männliche Jugend C\nBegegnungs-Nr: 17131\nHeim: SG MoGoNo Leipzig II\nGast: HSG Neudorf/Döbeln\nHalle: SH Kästner-Grundschule Leipzig (31131)\nAdresse: Erfurter Str\, 04155 Leipzig\n
LOCATION:SH Kästner-Grundschule Leipzig (31131): Erfurter Str\, 04155 Leipzig
CATEGORIES:Saison 2023/24
END:VEVENT
BEGIN:VEVENT
DTSTAMP:20260420T175224Z
DTSTART;TZID=Europe/Berlin:20231118T110000
DTEND;TZID=Europe/Berlin:20231118T120000
SUMMARY:Bezirksliga mJC SG MoGoNo Leipzig II vs Turbine Leipzig (17051)
UID:713a8a63-7f95-4030-af69-46cad4f30959
STATUS:CONFIRMED
LAST-MODIFIED:20231120T091908Z
DESCRIPTION:Bezirksliga männliche Jugend C\nBegegnungs-Nr: 17051\nHeim: SG MoGoNo Leipzig II\nGast: Turbine Leipzig\nHalle: SH Kästner-Grundschule Leipzig (31131)\nAdresse: Erfurter Str\, 04155 Leipzig\n
LOCATION:SH Kästner-Grundschule Leipzig (31131): Erfurter Str\, 04155 Leipzig
CATEGORIES:Saison 2023/24
END:VEVENT
BEGIN:VEVENT
DTSTAMP:20260420T175224Z
DTSTART;TZID=Europe/Berlin:20240414T143000
DTEND;TZID=Europe/Berlin:20240414T153000
SUMMARY:Bezirksliga mJC SG MoGoNo Leipzig II vs SG LVB (17138)
UID:2eb6fdd0-07bc-4189-ad4b-e0038d252f57
STATUS:CONFIRMED
LAST-MODIFIED:20240419T113322Z
DESCRIPTION:Bezirksliga männliche Jugend C\nBegegnungs-Nr: 17138\nHeim: SG MoGoNo Leipzig II\nGast: SG LVB\nHalle: SH Kästner-Grundschule Leipzig (31131)\nAdresse: Erfurter Str\, 04155 Leipzig\n
LOCATION:SH Kästner-Grundschule Leipzig (31131): Erfurter Str\, 04155 Leipzig
CATEGORIES:Saison 2023/24
END:VEVENT
BEGIN:VEVENT
DTSTAMP:20260420T175224Z
DTSTART;TZID=Europe/Berlin:20240203T150000
DTEND;TZID=Europe/Berlin:20240203T160000
SUMMARY:Bezirksliga mJC SG MoGoNo Leipzig II vs SV Leisnig 90 (17100)
UID:85c41514-34f7-43c8-a74c-0ead04919261
STATUS:CONFIRMED
LAST-MODIFIED:20240205T100840Z
DESCRIPTION:Bezirksliga männliche Jugend C\nBegegnungs-Nr: 17100\nHeim: SG MoGoNo Leipzig II\nGast: SV Leisnig 90\nHalle: SH Kästner-Grundschule Leipzig (31131)\nAdresse: Erfurter Str\, 04155 Leipzig\n
LOCATION:SH Kästner-Grundschule Leipzig (31131): Erfurter Str\, 04155 Leipzig
CATEGORIES:Saison 2023/24
END:VEVENT
BEGIN:VEVENT
DTSTAMP:20260420T175224Z
DTSTART;TZID=Europe/Berlin:20240120T130000
DTEND;TZID=Europe/Berlin:20240120T140000
SUMMARY:Bezirksliga mJC SG MoGoNo Leipzig II vs NHV Concordia Delitzsch (17087)
UID:65c48091-5828-49b2-b2d4-0ea18690e7b1
STATUS:CONFIRMED
LAST-MODIFIED:20240122T095555Z
DESCRIPTION:Bezirksliga männliche Jugend C\nBegegnungs-Nr: 17087\nHeim: SG MoGoNo Leipzig II\nGast: NHV Concordia Delitzsch\nHalle: SH Kästner-Grundschule Leipzig (31131)\nAdresse: Erfurter Str\, 04155 Leipzig\n
LOCATION:SH Kästner-Grundschule Leipzig (31131): Erfurter Str\, 04155 Leipzig
CATEGORIES:Saison 2023/24
END:VEVENT
BEGIN:VEVENT
DTSTAMP:20260420T175224Z
DTSTART;TZID=Europe/Berlin:20231203T100000
DTEND;TZID=Europe/Berlin:20231203T110000
SUMMARY:Bezirksliga mJC Turbine Leipzig vs SG MoGoNo Leipzig II (17062)
UID:937d4243-c336-4b25-9617-67a34bbb6548
STATUS:CONFIRMED
LAST-MODIFIED:20231205T172243Z
DESCRIPTION:Bezirksliga männliche Jugend C\nBegegnungs-Nr: 17062\nHeim: Turbine Leipzig\nGast: SG MoGoNo Leipzig II\nHalle: SH Ostwald Gymnasium Leipzig-Lößnig (31105)\nAdresse: Willi-Bredel-Str. 13\, 04279 Leipzig\n
LOCATION:SH Ostwald Gymnasium Leipzig-Lößnig (31105): Willi-Bredel-Str. 13\, 04279 Leipzig
CATEGORIES:Saison 2023/24
END:VEVENT
BEGIN:VEVENT
DTSTAMP:20260420T175224Z
DTSTART;TZID=Europe/Berlin:20231104T133000
DTEND;TZID=Europe/Berlin:20231104T143000
SUMMARY:Bezirksliga mJC SG LVB vs SG MoGoNo Leipzig II (17038)
UID:813166ff-e76d-4412-815e-14e767a86f07
STATUS:CONFIRMED
LAST-MODIFIED:20231107T082956Z
DESCRIPTION:Bezirksliga männliche Jugend C\nBegegnungs-Nr: 17038\nHeim: SG LVB\nGast: SG MoGoNo Leipzig II\nHalle: SH Gymnasium an der Telemannstraße  (31109)\nAdresse: Telemannstraße 9\, 04107 Leipzig\n
LOCATION:SH Gymnasium an der Telemannstraße  (31109): Telemannstraße 9\, 04107 Leipzig
CATEGORIES:Saison 2023/24
END:VEVENT
BEGIN:VEVENT
DTSTAMP:20260420T175224Z
DTSTART;TZID=Europe/Berlin:20230916T153000
DTEND;TZID=Europe/Berlin:20230916T163000
SUMMARY:Bezirksliga mJC SV Leisnig 90 vs SG MoGoNo Leipzig II (17015)
UID:53d059d4-a998-4bc8-a5a0-babcc793d4b4
STATUS:CONFIRMED
LAST-MODIFIED:20230918T091816Z
DESCRIPTION:Bezirksliga männliche Jugend C\nBegegnungs-Nr: 17015\nHeim: SV Leisnig 90\nGast: SG MoGoNo Leipzig II\nHalle: SH Leisnig (31205)\nAdresse: Chemnitzer Str. 101\, 04703 Leisnig\n
LOCATION:SH Leisnig (31205): Chemnitzer Str. 101\, 04703 Leisnig
CATEGORIES:Saison 2023/24
END:VEVENT
BEGIN:VEVENT
DTSTAMP:20260420T175224Z
DTSTART;TZID=Europe/Berlin:20230902T123000
DTEND;TZID=Europe/Berlin:20230902T133000
SUMMARY:Bezirksliga mJC NHV Concordia Delitzsch vs SG MoGoNo Leipzig II (17001)
UID:bd8baf71-f7d5-4913-adbb-4280d8b3cc12
STATUS:CONFIRMED
LAST-MODIFIED:20230904T094433Z
DESCRIPTION:Bezirksliga männliche Jugend C\nBegegnungs-Nr: 17001\nHeim: NHV Concordia Delitzsch\nGast: SG MoGoNo Leipzig II\nHalle: Mehrzweckhalle Delitzsch  (31304)\nAdresse: Karl-Marx-Str. 1\, 04509 Delitzsch\n
LOCATION:Mehrzweckhalle Delitzsch  (31304): Karl-Marx-Str. 1\, 04509 Delitzsch
CATEGORIES:Saison 2023/24
END:VEVENT
BEGIN:VEVENT
DTSTAMP:20260420T175224Z
DTSTART;TZID=Europe/Berlin:20240128T103000
DTEND;TZID=Europe/Berlin:20240128T113000
SUMMARY:Bezirksliga mJC Leipziger SV Südwest vs SG MoGoNo Leipzig II (17096)
UID:c9bb3def-afb7-45fe-bbe7-ae08af05ba0d
STATUS:CONFIRMED
LAST-MODIFIED:20240130T164645Z
DESCRIPTION:Bezirksliga männliche Jugend C\nBegegnungs-Nr: 17096\nHeim: Leipziger SV Südwest\nGast: SG MoGoNo Leipzig II\nHalle: SH An der Radrennbahn Leipzig (31128)\nAdresse: Windorfer Straße 63\, 04229 Leipzig\n
LOCATION:SH An der Radrennbahn Leipzig (31128): Windorfer Straße 63\, 04229 Leipzig
CATEGORIES:Saison 2023/24
END:VEVENT
BEGIN:VEVENT
DTSTAMP:20260420T175224Z
DTSTART;TZID=Europe/Berlin:20231217T140000
DTEND;TZID=Europe/Berlin:20231217T150000
SUMMARY:Bezirksliga mJC HSV Mölkau - Die Haie  vs SG MoGoNo Leipzig II (17078)
UID:ce3aeb70-38e1-42e6-a6cb-b8b4971c3a9b
STATUS:CONFIRMED
LAST-MODIFIED:20240102T122828Z
DESCRIPTION:Bezirksliga männliche Jugend C\nBegegnungs-Nr: 17078\nHeim: HSV Mölkau - Die Haie \nGast: SG MoGoNo Leipzig II\nHalle: SH Oberschule Leipzig-Mölkau (31106)\nAdresse: Schulstr. 6\, 04316 Leipzig\n
LOCATION:SH Oberschule Leipzig-Mölkau (31106): Schulstr. 6\, 04316 Leipzig
CATEGORIES:Saison 2023/24
END:VEVENT
BEGIN:VEVENT
DTSTAMP:20260420T175224Z
DTSTART;TZID=Europe/Berlin:20240428T113000
DTEND;TZID=Europe/Berlin:20240428T123000
SUMMARY:Bezirksliga mJC SG MoGoNo Leipzig III vs SG MoGoNo Leipzig II (17149)
UID:a9bb8ad1-0d63-45a2-b2b7-2844ce8cdca5
STATUS:CONFIRMED
LAST-MODIFIED:20240501T082009Z
DESCRIPTION:Bezirksliga männliche Jugend C\nBegegnungs-Nr: 17149\nHeim: SG MoGoNo Leipzig III\nGast: SG MoGoNo Leipzig II\nHalle: SH Kästner-Grundschule Leipzig (31131)\nAdresse: Erfurter Str\, 04155 Leipzig\n
LOCATION:SH Kästner-Grundschule Leipzig (31131): Erfurter Str\, 04155 Leipzig
CATEGORIES:Saison 2023/24
END:VEVENT
BEGIN:VEVENT
DTSTAMP:20260420T175224Z
DTSTART;TZID=Europe/Berlin:20240317T123000
DTEND;TZID=Europe/Berlin:20240317T133000
SUMMARY:Bezirksliga mJC TuS Leipzig-Mockau vs SG MoGoNo Leipzig II (17126)
UID:aaa27fc0-e84a-4c9c-9dca-6267f742cf39
STATUS:CONFIRMED
LAST-MODIFIED:20240317T155259Z
DESCRIPTION:Bezirksliga männliche Jugend C\nBegegnungs-Nr: 17126\nHeim: TuS Leipzig-Mockau\nGast: SG MoGoNo Leipzig II\nHalle: SH Leipzig-Wiederitzsch (31135)\nAdresse: Messeallee 21\, 04158 Leipzig\n
LOCATION:SH Leipzig-Wiederitzsch (31135): Messeallee 21\, 04158 Leipzig
CATEGORIES:Saison 2023/24
END:VEVENT
BEGIN:VEVENT
DTSTAMP:20260420T175224Z
DTSTART;TZID=Europe/Berlin:20240302T103000
DTEND;TZID=Europe/Berlin:20240302T113000
SUMMARY:Bezirksliga mJC VfB Eilenburg vs SG MoGoNo Leipzig II (17110)
UID:47300459-40e2-4875-8737-2f8e0fa693f8
STATUS:CONFIRMED
LAST-MODIFIED:20240304T084302Z
DESCRIPTION:Bezirksliga männliche Jugend C\nBegegnungs-Nr: 17110\nHeim: VfB Eilenburg\nGast: SG MoGoNo Leipzig II\nHalle: Belian-SH Eilenburg (31307)\nAdresse: Dr.-Belian-Str. 7\, 04838 Eilenburg\n
LOCATION:Belian-SH Eilenburg (31307): Dr.-Belian-Str. 7\, 04838 Eilenburg
CATEGORIES:Saison 2023/24
END:VEVENT
BEGIN:VEVENT
DTSTAMP:20260420T175224Z
DTSTART;TZID=Europe/Berlin:20240310T100000
DTEND;TZID=Europe/Berlin:20240310T110000
SUMMARY:Bezirksliga mJC TSV Markkleeberg vs SG MoGoNo Leipzig II (17108)
UID:e2403e97-60a7-43e3-b09d-f5feb3937581
STATUS:CONFIRMED
LAST-MODIFIED:20240311T093430Z
DESCRIPTION:Bezirksliga männliche Jugend C\nBegegnungs-Nr: 17108\nHeim: TSV Markkleeberg\nGast: SG MoGoNo Leipzig II\nHalle: Peter-Pohlmann-Sportzentrum (31123)\nAdresse: Mehringstraße 6\, 04416 Markkleeberg\n
LOCATION:Peter-Pohlmann-Sportzentrum (31123): Mehringstraße 6\, 04416 Markkleeberg
CATEGORIES:Saison 2023/24
END:VEVENT
BEGIN:VEVENT
DTSTAMP:20260420T175224Z
DTSTART;TZID=Europe/Berlin:20240107T112000
DTEND;TZID=Europe/Berlin:20240107T122000
SUMMARY:Bezirksliga mJC HSG Neudorf/Döbeln vs SG MoGoNo Leipzig II (17082)
UID:e432318d-543d-46af-8e96-fe95cedec15b
STATUS:CONFIRMED
LAST-MODIFIED:20240205T152851Z
DESCRIPTION:Bezirksliga männliche Jugend C\nBegegnungs-Nr: 17082\nHeim: HSG Neudorf/Döbeln\nGast: SG MoGoNo Leipzig II\nHalle: Stadt-SH Döbeln (31202)\nAdresse: Str. des Friedens 9\, 04720 Döbeln\n
LOCATION:Stadt-SH Döbeln (31202): Str. des Friedens 9\, 04720 Döbeln
CATEGORIES:Saison 2023/24
END:VEVENT
END:VCALENDAR
