BEGIN:VCALENDAR
PRODID:-//nuDatenautomaten//framework iCal4j //DE
VERSION:2.0
CALSCALE:GREGORIAN
BEGIN:VTIMEZONE
TZID:Europe/Berlin
LAST-MODIFIED:20260306T231828Z
TZURL:https://www.tzurl.org/zoneinfo/Europe/Berlin
X-LIC-LOCATION:Europe/Berlin
X-PROLEPTIC-TZNAME:LMT
BEGIN:STANDARD
TZNAME:CET
TZOFFSETFROM:+005328
TZOFFSETTO:+0100
DTSTART:18930401T000000
END:STANDARD
BEGIN:DAYLIGHT
TZNAME:CEST
TZOFFSETFROM:+0100
TZOFFSETTO:+0200
DTSTART:19160430T230000
RDATE:19400401T020000
RDATE:19430329T020000
RDATE:19460414T020000
RDATE:19470406T030000
RDATE:19480418T020000
RDATE:19490410T020000
RDATE:19800406T020000
END:DAYLIGHT
BEGIN:STANDARD
TZNAME:CET
TZOFFSETFROM:+0200
TZOFFSETTO:+0100
DTSTART:19161001T010000
RDATE:19421102T030000
RDATE:19431004T030000
RDATE:19441002T030000
RDATE:19451118T030000
RDATE:19461007T030000
END:STANDARD
BEGIN:DAYLIGHT
TZNAME:CEST
TZOFFSETFROM:+0100
TZOFFSETTO:+0200
DTSTART:19170416T020000
RRULE:FREQ=YEARLY;UNTIL=19180415T010000Z;BYMONTH=4;BYDAY=3MO
END:DAYLIGHT
BEGIN:STANDARD
TZNAME:CET
TZOFFSETFROM:+0200
TZOFFSETTO:+0100
DTSTART:19170917T030000
RRULE:FREQ=YEARLY;UNTIL=19180916T010000Z;BYMONTH=9;BYDAY=3MO
END:STANDARD
BEGIN:DAYLIGHT
TZNAME:CEST
TZOFFSETFROM:+0100
TZOFFSETTO:+0200
DTSTART:19440403T020000
RRULE:FREQ=YEARLY;UNTIL=19450402T010000Z;BYMONTH=4;BYDAY=1MO
END:DAYLIGHT
BEGIN:DAYLIGHT
TZNAME:CEMT
TZOFFSETFROM:+0200
TZOFFSETTO:+0300
DTSTART:19450524T020000
RDATE:19470511T030000
END:DAYLIGHT
BEGIN:DAYLIGHT
TZNAME:CEST
TZOFFSETFROM:+0300
TZOFFSETTO:+0200
DTSTART:19450924T030000
RDATE:19470629T030000
END:DAYLIGHT
BEGIN:STANDARD
TZNAME:CET
TZOFFSETFROM:+0100
TZOFFSETTO:+0100
DTSTART:19460101T000000
RDATE:19800101T000000
END:STANDARD
BEGIN:STANDARD
TZNAME:CET
TZOFFSETFROM:+0200
TZOFFSETTO:+0100
DTSTART:19471005T030000
RRULE:FREQ=YEARLY;UNTIL=19491002T010000Z;BYMONTH=10;BYDAY=1SU
END:STANDARD
BEGIN:STANDARD
TZNAME:CET
TZOFFSETFROM:+0200
TZOFFSETTO:+0100
DTSTART:19800928T030000
RRULE:FREQ=YEARLY;UNTIL=19950924T010000Z;BYMONTH=9;BYDAY=-1SU
END:STANDARD
BEGIN:DAYLIGHT
TZNAME:CEST
TZOFFSETFROM:+0100
TZOFFSETTO:+0200
DTSTART:19810329T020000
RRULE:FREQ=YEARLY;BYMONTH=3;BYDAY=-1SU
END:DAYLIGHT
BEGIN:STANDARD
TZNAME:CET
TZOFFSETFROM:+0200
TZOFFSETTO:+0100
DTSTART:19961027T030000
RRULE:FREQ=YEARLY;BYMONTH=10;BYDAY=-1SU
END:STANDARD
END:VTIMEZONE
BEGIN:VEVENT
DTSTAMP:20260424T132511Z
DTSTART;TZID=Europe/Berlin:20231202T160000
DTEND;TZID=Europe/Berlin:20231202T173000
SUMMARY:OSL Frauen OHC Bernstadt vs HVH Kamenz (2040)
UID:2fb54b6e-8270-4ecb-9d8b-75e63a4a7796
STATUS:CONFIRMED
LAST-MODIFIED:20231203T200015Z
DESCRIPTION:Ostsachsenliga Frauen\nBegegnungs-Nr: 2040\nHeim: OHC Bernstadt\nGast: HVH Kamenz\nHalle: Sporthalle \"Pließnitztal\" Bernstadt (34108)\nAdresse: Am Pließnitztal 3\, 02748 Bernstadt a.d. Eigen OT Kunnersdorf\n
LOCATION:Sporthalle \"Pließnitztal\" Bernstadt (34108): Am Pließnitztal 3\, 02748 Bernstadt a.d. Eigen OT Kunnersdorf
CATEGORIES:Saison 2023/24
END:VEVENT
BEGIN:VEVENT
DTSTAMP:20260424T132511Z
DTSTART;TZID=Europe/Berlin:20240106T160000
DTEND;TZID=Europe/Berlin:20240106T173000
SUMMARY:OSL Frauen OHC Bernstadt vs Radeberger SV II (2049)
UID:30e39c77-f9d0-437f-ba49-66ccc02b170e
STATUS:CONFIRMED
LAST-MODIFIED:20240110T192959Z
DESCRIPTION:Ostsachsenliga Frauen\nBegegnungs-Nr: 2049\nHeim: OHC Bernstadt\nGast: Radeberger SV II\nHalle: Sporthalle \"Pließnitztal\" Bernstadt (34108)\nAdresse: Am Pließnitztal 3\, 02748 Bernstadt a.d. Eigen OT Kunnersdorf\n
LOCATION:Sporthalle \"Pließnitztal\" Bernstadt (34108): Am Pließnitztal 3\, 02748 Bernstadt a.d. Eigen OT Kunnersdorf
CATEGORIES:Saison 2023/24
END:VEVENT
BEGIN:VEVENT
DTSTAMP:20260424T132511Z
DTSTART;TZID=Europe/Berlin:20240203T140000
DTEND;TZID=Europe/Berlin:20240203T153000
SUMMARY:OSL Frauen OHC Bernstadt vs HSG Obergurig-Cunewalde (2065)
UID:f65c0bd6-7429-4ed3-8a78-d0760da5a93d
STATUS:CONFIRMED
LAST-MODIFIED:20240204T120048Z
DESCRIPTION:Ostsachsenliga Frauen\nBegegnungs-Nr: 2065\nHeim: OHC Bernstadt\nGast: HSG Obergurig-Cunewalde\nHalle: Sporthalle \"Pließnitztal\" Bernstadt (34108)\nAdresse: Am Pließnitztal 3\, 02748 Bernstadt a.d. Eigen OT Kunnersdorf\n
LOCATION:Sporthalle \"Pließnitztal\" Bernstadt (34108): Am Pließnitztal 3\, 02748 Bernstadt a.d. Eigen OT Kunnersdorf
CATEGORIES:Saison 2023/24
END:VEVENT
BEGIN:VEVENT
DTSTAMP:20260424T132511Z
DTSTART;TZID=Europe/Berlin:20240309T160000
DTEND;TZID=Europe/Berlin:20240309T173000
SUMMARY:OSL Frauen OHC Bernstadt vs Stahl Rietschen (2072)
UID:896f61f3-15ed-4719-a009-d3d9754e856e
STATUS:CONFIRMED
LAST-MODIFIED:20240312T193543Z
DESCRIPTION:Ostsachsenliga Frauen\nBegegnungs-Nr: 2072\nHeim: OHC Bernstadt\nGast: Stahl Rietschen\nHalle: Sporthalle \"Pließnitztal\" Bernstadt (34108)\nAdresse: Am Pließnitztal 3\, 02748 Bernstadt a.d. Eigen OT Kunnersdorf\n
LOCATION:Sporthalle \"Pließnitztal\" Bernstadt (34108): Am Pließnitztal 3\, 02748 Bernstadt a.d. Eigen OT Kunnersdorf
CATEGORIES:Saison 2023/24
END:VEVENT
BEGIN:VEVENT
DTSTAMP:20260424T132511Z
DTSTART;TZID=Europe/Berlin:20240413T140000
DTEND;TZID=Europe/Berlin:20240413T153000
SUMMARY:OSL Frauen OHC Bernstadt vs HV Schwarz Weiß Sohland (2080)
UID:e8e95405-052a-44b9-a080-3f0e3669d36d
STATUS:CONFIRMED
LAST-MODIFIED:20240422T173356Z
DESCRIPTION:Ostsachsenliga Frauen\nBegegnungs-Nr: 2080\nHeim: OHC Bernstadt\nGast: HV Schwarz Weiß Sohland\nHalle: Sporthalle \"Pließnitztal\" Bernstadt (34108)\nAdresse: Am Pließnitztal 3\, 02748 Bernstadt a.d. Eigen OT Kunnersdorf\n
LOCATION:Sporthalle \"Pließnitztal\" Bernstadt (34108): Am Pließnitztal 3\, 02748 Bernstadt a.d. Eigen OT Kunnersdorf
CATEGORIES:Saison 2023/24
END:VEVENT
BEGIN:VEVENT
DTSTAMP:20260424T132511Z
DTSTART;TZID=Europe/Berlin:20240427T160000
DTEND;TZID=Europe/Berlin:20240427T173000
SUMMARY:OSL Frauen OHC Bernstadt vs HSV 1923 Pulsnitz (2090)
UID:febcd084-e373-45f2-8687-cf9723966748
STATUS:CONFIRMED
LAST-MODIFIED:20240429T184045Z
DESCRIPTION:Ostsachsenliga Frauen\nBegegnungs-Nr: 2090\nHeim: OHC Bernstadt\nGast: HSV 1923 Pulsnitz\nHalle: Sporthalle \"Pließnitztal\" Bernstadt (34108)\nAdresse: Am Pließnitztal 3\, 02748 Bernstadt a.d. Eigen OT Kunnersdorf\n
LOCATION:Sporthalle \"Pließnitztal\" Bernstadt (34108): Am Pließnitztal 3\, 02748 Bernstadt a.d. Eigen OT Kunnersdorf
CATEGORIES:Saison 2023/24
END:VEVENT
BEGIN:VEVENT
DTSTAMP:20260424T132511Z
DTSTART;TZID=Europe/Berlin:20231014T160000
DTEND;TZID=Europe/Berlin:20231014T173000
SUMMARY:OSL Frauen OHC Bernstadt vs Koweg Görlitz (2008)
UID:775e8e42-2439-4827-9927-b5f6d538c1de
STATUS:CONFIRMED
LAST-MODIFIED:20231016T183301Z
DESCRIPTION:Ostsachsenliga Frauen\nBegegnungs-Nr: 2008\nHeim: OHC Bernstadt\nGast: Koweg Görlitz\nHalle: Sporthalle \"Pließnitztal\" Bernstadt (34108)\nAdresse: Am Pließnitztal 3\, 02748 Bernstadt a.d. Eigen OT Kunnersdorf\n
LOCATION:Sporthalle \"Pließnitztal\" Bernstadt (34108): Am Pließnitztal 3\, 02748 Bernstadt a.d. Eigen OT Kunnersdorf
CATEGORIES:Saison 2023/24
END:VEVENT
BEGIN:VEVENT
DTSTAMP:20260424T132511Z
DTSTART;TZID=Europe/Berlin:20231028T160000
DTEND;TZID=Europe/Berlin:20231028T173000
SUMMARY:OSL Frauen OHC Bernstadt vs OSV Zittau (2021)
UID:3fcd0c07-c634-466d-8909-6c836dffe393
STATUS:CONFIRMED
LAST-MODIFIED:20231101T192930Z
DESCRIPTION:Ostsachsenliga Frauen\nBegegnungs-Nr: 2021\nHeim: OHC Bernstadt\nGast: OSV Zittau\nHalle: Sporthalle \"Pließnitztal\" Bernstadt (34108)\nAdresse: Am Pließnitztal 3\, 02748 Bernstadt a.d. Eigen OT Kunnersdorf\n
LOCATION:Sporthalle \"Pließnitztal\" Bernstadt (34108): Am Pließnitztal 3\, 02748 Bernstadt a.d. Eigen OT Kunnersdorf
CATEGORIES:Saison 2023/24
END:VEVENT
BEGIN:VEVENT
DTSTAMP:20260424T132511Z
DTSTART;TZID=Europe/Berlin:20231111T140000
DTEND;TZID=Europe/Berlin:20231111T153000
SUMMARY:OSL Frauen OHC Bernstadt vs Königswarthaer SV (2031)
UID:8d968141-961c-481b-abca-709c53a532c7
STATUS:CONFIRMED
LAST-MODIFIED:20231112T191830Z
DESCRIPTION:Ostsachsenliga Frauen\nBegegnungs-Nr: 2031\nHeim: OHC Bernstadt\nGast: Königswarthaer SV\nHalle: Sporthalle \"Pließnitztal\" Bernstadt (34108)\nAdresse: Am Pließnitztal 3\, 02748 Bernstadt a.d. Eigen OT Kunnersdorf\n
LOCATION:Sporthalle \"Pließnitztal\" Bernstadt (34108): Am Pließnitztal 3\, 02748 Bernstadt a.d. Eigen OT Kunnersdorf
CATEGORIES:Saison 2023/24
END:VEVENT
BEGIN:VEVENT
DTSTAMP:20260424T132511Z
DTSTART;TZID=Europe/Berlin:20240121T120000
DTEND;TZID=Europe/Berlin:20240121T133000
SUMMARY:OSL Frauen HSV 1923 Pulsnitz vs OHC Bernstadt (2045)
UID:ca103d41-eabc-429a-913e-9e39ddb5d6f9
STATUS:CONFIRMED
LAST-MODIFIED:20240123T202205Z
DESCRIPTION:Ostsachsenliga Frauen\nBegegnungs-Nr: 2045\nHeim: HSV 1923 Pulsnitz\nGast: OHC Bernstadt\nHalle: Sportkomplex Pulsnitz (34208)\nAdresse: Hempelstr. 8\, 01896 Pulsnitz\n
LOCATION:Sportkomplex Pulsnitz (34208): Hempelstr. 8\, 01896 Pulsnitz
CATEGORIES:Saison 2023/24
END:VEVENT
BEGIN:VEVENT
DTSTAMP:20260424T132511Z
DTSTART;TZID=Europe/Berlin:20240210T180000
DTEND;TZID=Europe/Berlin:20240210T193000
SUMMARY:OSL Frauen Koweg Görlitz vs OHC Bernstadt (2053)
UID:6c08bffc-90df-4de7-80ae-02d90daa05af
STATUS:CONFIRMED
LAST-MODIFIED:20240215T202344Z
DESCRIPTION:Ostsachsenliga Frauen\nBegegnungs-Nr: 2053\nHeim: Koweg Görlitz\nGast: OHC Bernstadt\nHalle: SH Rauschwalde (34301)\nAdresse: Diesterwegplatz 8\, 02827 Görlitz\n
LOCATION:SH Rauschwalde (34301): Diesterwegplatz 8\, 02827 Görlitz
CATEGORIES:Saison 2023/24
END:VEVENT
BEGIN:VEVENT
DTSTAMP:20260424T132511Z
DTSTART;TZID=Europe/Berlin:20240302T180000
DTEND;TZID=Europe/Berlin:20240302T193000
SUMMARY:OSL Frauen OSV Zittau vs OHC Bernstadt (2066)
UID:ce94506e-0247-45f6-a3f6-dcbd05fdd825
STATUS:CONFIRMED
LAST-MODIFIED:20240306T192525Z
DESCRIPTION:Ostsachsenliga Frauen\nBegegnungs-Nr: 2066\nHeim: OSV Zittau\nGast: OHC Bernstadt\nHalle: SH Zittau (34107)\nAdresse: Lisa - Tetzner - Str.\, 02763 Zittau\n
LOCATION:SH Zittau (34107): Lisa - Tetzner - Str.\, 02763 Zittau
CATEGORIES:Saison 2023/24
END:VEVENT
BEGIN:VEVENT
DTSTAMP:20260424T132511Z
DTSTART;TZID=Europe/Berlin:20240316T160000
DTEND;TZID=Europe/Berlin:20240316T173000
SUMMARY:OSL Frauen Königswarthaer SV vs OHC Bernstadt (2076)
UID:8f29192d-b6d2-48aa-b4a6-76de8716dd40
STATUS:CONFIRMED
LAST-MODIFIED:20240318T195116Z
DESCRIPTION:Ostsachsenliga Frauen\nBegegnungs-Nr: 2076\nHeim: Königswarthaer SV\nGast: OHC Bernstadt\nHalle: Sporthalle \"Slavia\" Radibor (34103)\nAdresse: Dr.-Maria-Grollmus-Straße 3\, 02627 Radibor\n
LOCATION:Sporthalle \"Slavia\" Radibor (34103): Dr.-Maria-Grollmus-Straße 3\, 02627 Radibor
CATEGORIES:Saison 2023/24
END:VEVENT
BEGIN:VEVENT
DTSTAMP:20260424T132511Z
DTSTART;TZID=Europe/Berlin:20240421T150000
DTEND;TZID=Europe/Berlin:20240421T163000
SUMMARY:OSL Frauen HVH Kamenz vs OHC Bernstadt (2085)
UID:86827f1c-7f5b-4841-9c04-c22f013dad76
STATUS:CONFIRMED
LAST-MODIFIED:20240422T174239Z
DESCRIPTION:Ostsachsenliga Frauen\nBegegnungs-Nr: 2085\nHeim: HVH Kamenz\nGast: OHC Bernstadt\nHalle: SH Albert-Schweitzer-Gymnasium Kamenz (34204)\nAdresse: Am Flugplatz\, 01917 Kamenz\, Parkplatz - Macherstraße 142\n
LOCATION:SH Albert-Schweitzer-Gymnasium Kamenz (34204): Am Flugplatz\, 01917 Kamenz\, Parkplatz - Macherstraße 142
CATEGORIES:Saison 2023/24
END:VEVENT
BEGIN:VEVENT
DTSTAMP:20260424T132511Z
DTSTART;TZID=Europe/Berlin:20230930T140000
DTEND;TZID=Europe/Berlin:20230930T153000
SUMMARY:OSL Frauen Radeberger SV II vs OHC Bernstadt (2004)
UID:87473b46-74c4-4707-9263-09b4735b6600
STATUS:CONFIRMED
LAST-MODIFIED:20231005T185948Z
DESCRIPTION:Ostsachsenliga Frauen\nBegegnungs-Nr: 2004\nHeim: Radeberger SV II\nGast: OHC Bernstadt\nHalle: 3-Feld-Halle-BSZ Radeberg (34209)\nAdresse: Robert-Blum-Weg 5\, 01454 Radeberg\n
LOCATION:3-Feld-Halle-BSZ Radeberg (34209): Robert-Blum-Weg 5\, 01454 Radeberg
CATEGORIES:Saison 2023/24
END:VEVENT
BEGIN:VEVENT
DTSTAMP:20260424T132511Z
DTSTART;TZID=Europe/Berlin:20231021T130000
DTEND;TZID=Europe/Berlin:20231021T143000
SUMMARY:OSL Frauen HSG Obergurig-Cunewalde vs OHC Bernstadt (2020)
UID:0bdb5ce2-a15c-4300-90d7-68f3c32a1b75
STATUS:CONFIRMED
LAST-MODIFIED:20231027T184520Z
DESCRIPTION:Ostsachsenliga Frauen\nBegegnungs-Nr: 2020\nHeim: HSG Obergurig-Cunewalde\nGast: OHC Bernstadt\nHalle: 2-Feld-Halle Sorbisches Schul- und Begegnungszentrum Bautzen (34511)\nAdresse: Friedrich - List - Str. 8\, 02625 Bautzen\n
LOCATION:2-Feld-Halle Sorbisches Schul- und Begegnungszentrum Bautzen (34511): Friedrich - List - Str. 8\, 02625 Bautzen
CATEGORIES:Saison 2023/24
END:VEVENT
BEGIN:VEVENT
DTSTAMP:20260424T132511Z
DTSTART;TZID=Europe/Berlin:20231104T160000
DTEND;TZID=Europe/Berlin:20231104T173000
SUMMARY:OSL Frauen Stahl Rietschen vs OHC Bernstadt (2027)
UID:3e1d6841-cdad-4a9e-8458-6d9cbfe830ff
STATUS:CONFIRMED
LAST-MODIFIED:20231106T191916Z
DESCRIPTION:Ostsachsenliga Frauen\nBegegnungs-Nr: 2027\nHeim: Stahl Rietschen\nGast: OHC Bernstadt\nHalle: Oberlausitz-SH Rietschen (34403)\nAdresse: Am Festplatz 1\, 02956 Rietschen\n
LOCATION:Oberlausitz-SH Rietschen (34403): Am Festplatz 1\, 02956 Rietschen
CATEGORIES:Saison 2023/24
END:VEVENT
BEGIN:VEVENT
DTSTAMP:20260424T132511Z
DTSTART;TZID=Europe/Berlin:20231125T153000
DTEND;TZID=Europe/Berlin:20231125T170000
SUMMARY:OSL Frauen HV Schwarz Weiß Sohland vs OHC Bernstadt (2035)
UID:30fc0c3b-d57a-4016-804b-4941bf2351d2
STATUS:CONFIRMED
LAST-MODIFIED:20231127T200342Z
DESCRIPTION:Ostsachsenliga Frauen\nBegegnungs-Nr: 2035\nHeim: HV Schwarz Weiß Sohland\nGast: OHC Bernstadt\nHalle: \"Oberland-Sporthalle\" Sohland (34501)\nAdresse: G. - Hauptmann - Str. 4 A\, 02689 Sohland\n
LOCATION:\"Oberland-Sporthalle\" Sohland (34501): G. - Hauptmann - Str. 4 A\, 02689 Sohland
CATEGORIES:Saison 2023/24
END:VEVENT
END:VCALENDAR
