BEGIN:VCALENDAR
PRODID:-//nuDatenautomaten//framework iCal4j //DE
VERSION:2.0
CALSCALE:GREGORIAN
BEGIN:VTIMEZONE
TZID:Europe/Berlin
LAST-MODIFIED:20260306T231828Z
TZURL:https://www.tzurl.org/zoneinfo/Europe/Berlin
X-LIC-LOCATION:Europe/Berlin
X-PROLEPTIC-TZNAME:LMT
BEGIN:STANDARD
TZNAME:CET
TZOFFSETFROM:+005328
TZOFFSETTO:+0100
DTSTART:18930401T000000
END:STANDARD
BEGIN:DAYLIGHT
TZNAME:CEST
TZOFFSETFROM:+0100
TZOFFSETTO:+0200
DTSTART:19160430T230000
RDATE:19400401T020000
RDATE:19430329T020000
RDATE:19460414T020000
RDATE:19470406T030000
RDATE:19480418T020000
RDATE:19490410T020000
RDATE:19800406T020000
END:DAYLIGHT
BEGIN:STANDARD
TZNAME:CET
TZOFFSETFROM:+0200
TZOFFSETTO:+0100
DTSTART:19161001T010000
RDATE:19421102T030000
RDATE:19431004T030000
RDATE:19441002T030000
RDATE:19451118T030000
RDATE:19461007T030000
END:STANDARD
BEGIN:DAYLIGHT
TZNAME:CEST
TZOFFSETFROM:+0100
TZOFFSETTO:+0200
DTSTART:19170416T020000
RRULE:FREQ=YEARLY;UNTIL=19180415T010000Z;BYMONTH=4;BYDAY=3MO
END:DAYLIGHT
BEGIN:STANDARD
TZNAME:CET
TZOFFSETFROM:+0200
TZOFFSETTO:+0100
DTSTART:19170917T030000
RRULE:FREQ=YEARLY;UNTIL=19180916T010000Z;BYMONTH=9;BYDAY=3MO
END:STANDARD
BEGIN:DAYLIGHT
TZNAME:CEST
TZOFFSETFROM:+0100
TZOFFSETTO:+0200
DTSTART:19440403T020000
RRULE:FREQ=YEARLY;UNTIL=19450402T010000Z;BYMONTH=4;BYDAY=1MO
END:DAYLIGHT
BEGIN:DAYLIGHT
TZNAME:CEMT
TZOFFSETFROM:+0200
TZOFFSETTO:+0300
DTSTART:19450524T020000
RDATE:19470511T030000
END:DAYLIGHT
BEGIN:DAYLIGHT
TZNAME:CEST
TZOFFSETFROM:+0300
TZOFFSETTO:+0200
DTSTART:19450924T030000
RDATE:19470629T030000
END:DAYLIGHT
BEGIN:STANDARD
TZNAME:CET
TZOFFSETFROM:+0100
TZOFFSETTO:+0100
DTSTART:19460101T000000
RDATE:19800101T000000
END:STANDARD
BEGIN:STANDARD
TZNAME:CET
TZOFFSETFROM:+0200
TZOFFSETTO:+0100
DTSTART:19471005T030000
RRULE:FREQ=YEARLY;UNTIL=19491002T010000Z;BYMONTH=10;BYDAY=1SU
END:STANDARD
BEGIN:STANDARD
TZNAME:CET
TZOFFSETFROM:+0200
TZOFFSETTO:+0100
DTSTART:19800928T030000
RRULE:FREQ=YEARLY;UNTIL=19950924T010000Z;BYMONTH=9;BYDAY=-1SU
END:STANDARD
BEGIN:DAYLIGHT
TZNAME:CEST
TZOFFSETFROM:+0100
TZOFFSETTO:+0200
DTSTART:19810329T020000
RRULE:FREQ=YEARLY;BYMONTH=3;BYDAY=-1SU
END:DAYLIGHT
BEGIN:STANDARD
TZNAME:CET
TZOFFSETFROM:+0200
TZOFFSETTO:+0100
DTSTART:19961027T030000
RRULE:FREQ=YEARLY;BYMONTH=10;BYDAY=-1SU
END:STANDARD
END:VTIMEZONE
BEGIN:VEVENT
DTSTAMP:20260422T161608Z
DTSTART;TZID=Europe/Berlin:20260418T113000
DTEND;TZID=Europe/Berlin:20260418T120000
SUMMARY:Regionsliga gFJ C Görlitzer HC vs TBSV Neugersdorf (14662)
UID:153d4fa8-caea-42c0-9c8a-2a47272119b1
STATUS:CONFIRMED
LAST-MODIFIED:20260407T162053Z
DESCRIPTION:Regionsliga  gFJ Staffel C\nBegegnungs-Nr: 14662\nHeim: Görlitzer HC\nGast: TBSV Neugersdorf\nHalle: Sporthalle \"Pließnitztal\" Bernstadt (34108)\nAdresse: Am Pließnitztal 3\, 02748 Bernstadt a.d. Eigen OT Kunnersdorf\n
LOCATION:Sporthalle \"Pließnitztal\" Bernstadt (34108): Am Pließnitztal 3\, 02748 Bernstadt a.d. Eigen OT Kunnersdorf
CATEGORIES:Saison 2025/26
END:VEVENT
BEGIN:VEVENT
DTSTAMP:20260422T161608Z
DTSTART;TZID=Europe/Berlin:20260321T095000
DTEND;TZID=Europe/Berlin:20260321T102000
SUMMARY:Regionsliga gFJ C Görlitzer HC vs HV Eibau (14651)
UID:0af328ab-43d3-4679-8c5b-eedb1a7658f3
STATUS:CONFIRMED
LAST-MODIFIED:20260325T154450Z
DESCRIPTION:Regionsliga  gFJ Staffel C\nBegegnungs-Nr: 14651\nHeim: Görlitzer HC\nGast: HV Eibau\nHalle: SH Rauschwalde (34301)\nAdresse: Diesterwegplatz 8\, 02827 Görlitz\n
LOCATION:SH Rauschwalde (34301): Diesterwegplatz 8\, 02827 Görlitz
CATEGORIES:Saison 2025/26
END:VEVENT
BEGIN:VEVENT
DTSTAMP:20260422T161608Z
DTSTART;TZID=Europe/Berlin:20260308T151000
DTEND;TZID=Europe/Berlin:20260308T154000
SUMMARY:Regionsliga gFJ C Görlitzer HC vs OHC Bernstadt (14646)
UID:7386696d-e6e4-429b-86bc-88c402fadfb7
STATUS:CONFIRMED
LAST-MODIFIED:20260310T143741Z
DESCRIPTION:Regionsliga  gFJ Staffel C\nBegegnungs-Nr: 14646\nHeim: Görlitzer HC\nGast: OHC Bernstadt\nHalle: Sporthalle \"Pließnitztal\" Bernstadt (34108)\nAdresse: Am Pließnitztal 3\, 02748 Bernstadt a.d. Eigen OT Kunnersdorf\n
LOCATION:Sporthalle \"Pließnitztal\" Bernstadt (34108): Am Pließnitztal 3\, 02748 Bernstadt a.d. Eigen OT Kunnersdorf
CATEGORIES:Saison 2025/26
END:VEVENT
BEGIN:VEVENT
DTSTAMP:20260422T161608Z
DTSTART;TZID=Europe/Berlin:20260117T111000
DTEND;TZID=Europe/Berlin:20260117T114000
SUMMARY:Regionsliga gFJ C Görlitzer HC vs Görlitzer HC II (14639)
UID:1e484ee1-47fd-48f7-ba6b-39e6054b32cf
STATUS:CONFIRMED
LAST-MODIFIED:20260128T100312Z
DESCRIPTION:Regionsliga  gFJ Staffel C\nBegegnungs-Nr: 14639\nHeim: Görlitzer HC\nGast: Görlitzer HC II\nHalle: SH BSZ \"Christoph Lüders\" (34304)\nAdresse: Sattigstraße 10\, 02826 Görlitz\n
LOCATION:SH BSZ \"Christoph Lüders\" (34304): Sattigstraße 10\, 02826 Görlitz
CATEGORIES:Saison 2025/26
END:VEVENT
BEGIN:VEVENT
DTSTAMP:20260422T161608Z
DTSTART;TZID=Europe/Berlin:20251129T102000
DTEND;TZID=Europe/Berlin:20251129T105000
SUMMARY:Regionsliga gFJ C Görlitzer HC vs Koweg Görlitz (14624)
UID:ea0d850f-83de-4f77-9656-8617b9fc0d44
STATUS:CONFIRMED
LAST-MODIFIED:20251221T100142Z
DESCRIPTION:Regionsliga  gFJ Staffel C\nBegegnungs-Nr: 14624\nHeim: Görlitzer HC\nGast: Koweg Görlitz\nHalle: SH BSZ \"Christoph Lüders\" (34304)\nAdresse: Sattigstraße 10\, 02826 Görlitz\n
LOCATION:SH BSZ \"Christoph Lüders\" (34304): Sattigstraße 10\, 02826 Görlitz
CATEGORIES:Saison 2025/26
END:VEVENT
BEGIN:VEVENT
DTSTAMP:20260422T161608Z
DTSTART;TZID=Europe/Berlin:20251129T094000
DTEND;TZID=Europe/Berlin:20251129T101000
SUMMARY:Regionsliga gFJ C Görlitzer HC vs Görlitzer HC II (14623)
UID:0f8b65f7-2c27-4897-b455-69b2a238ad70
STATUS:CONFIRMED
LAST-MODIFIED:20251221T100024Z
DESCRIPTION:Regionsliga  gFJ Staffel C\nBegegnungs-Nr: 14623\nHeim: Görlitzer HC\nGast: Görlitzer HC II\nHalle: SH BSZ \"Christoph Lüders\" (34304)\nAdresse: Sattigstraße 10\, 02826 Görlitz\n
LOCATION:SH BSZ \"Christoph Lüders\" (34304): Sattigstraße 10\, 02826 Görlitz
CATEGORIES:Saison 2025/26
END:VEVENT
BEGIN:VEVENT
DTSTAMP:20260422T161608Z
DTSTART;TZID=Europe/Berlin:20251115T104000
DTEND;TZID=Europe/Berlin:20251115T111000
SUMMARY:Regionsliga gFJ C Görlitzer HC vs OHC Bernstadt (14619)
UID:3e76d847-513d-412e-98ea-eab73468dfe2
STATUS:CONFIRMED
LAST-MODIFIED:20251117T153816Z
DESCRIPTION:Regionsliga  gFJ Staffel C\nBegegnungs-Nr: 14619\nHeim: Görlitzer HC\nGast: OHC Bernstadt\nHalle: SH Rauschwalde (34301)\nAdresse: Diesterwegplatz 8\, 02827 Görlitz\n
LOCATION:SH Rauschwalde (34301): Diesterwegplatz 8\, 02827 Görlitz
CATEGORIES:Saison 2025/26
END:VEVENT
BEGIN:VEVENT
DTSTAMP:20260422T161608Z
DTSTART;TZID=Europe/Berlin:20251101T103000
DTEND;TZID=Europe/Berlin:20251101T110000
SUMMARY:Regionsliga gFJ C Görlitzer HC vs OSV Zittau (14610)
UID:b80bd712-5075-4225-b6c5-da00dbfa5173
STATUS:CONFIRMED
LAST-MODIFIED:20251102T152627Z
DESCRIPTION:Regionsliga  gFJ Staffel C\nBegegnungs-Nr: 14610\nHeim: Görlitzer HC\nGast: OSV Zittau\nHalle: SH BSZ \"Christoph Lüders\" (34304)\nAdresse: Sattigstraße 10\, 02826 Görlitz\n
LOCATION:SH BSZ \"Christoph Lüders\" (34304): Sattigstraße 10\, 02826 Görlitz
CATEGORIES:Saison 2025/26
END:VEVENT
BEGIN:VEVENT
DTSTAMP:20260422T161608Z
DTSTART;TZID=Europe/Berlin:20250928T111000
DTEND;TZID=Europe/Berlin:20250928T114000
SUMMARY:Regionsliga gFJ C Görlitzer HC vs HV Eibau (14607)
UID:45a6fff9-e951-44ab-beab-7929598da1ee
STATUS:CONFIRMED
LAST-MODIFIED:20251002T135732Z
DESCRIPTION:Regionsliga  gFJ Staffel C\nBegegnungs-Nr: 14607\nHeim: Görlitzer HC\nGast: HV Eibau\nHalle: SH BSZ \"Christoph Lüders\" (34304)\nAdresse: Sattigstraße 10\, 02826 Görlitz\n
LOCATION:SH BSZ \"Christoph Lüders\" (34304): Sattigstraße 10\, 02826 Görlitz
CATEGORIES:Saison 2025/26
END:VEVENT
BEGIN:VEVENT
DTSTAMP:20260422T161608Z
DTSTART;TZID=Europe/Berlin:20260418T100000
DTEND;TZID=Europe/Berlin:20260418T103000
SUMMARY:Regionsliga gFJ C OHC Bernstadt vs Görlitzer HC (14660)
UID:4ac2be68-646c-476b-b8ac-5daea53eb898
STATUS:CONFIRMED
LAST-MODIFIED:20260407T161843Z
DESCRIPTION:Regionsliga  gFJ Staffel C\nBegegnungs-Nr: 14660\nHeim: OHC Bernstadt\nGast: Görlitzer HC\nHalle: Sporthalle \"Pließnitztal\" Bernstadt (34108)\nAdresse: Am Pließnitztal 3\, 02748 Bernstadt a.d. Eigen OT Kunnersdorf\n
LOCATION:Sporthalle \"Pließnitztal\" Bernstadt (34108): Am Pließnitztal 3\, 02748 Bernstadt a.d. Eigen OT Kunnersdorf
CATEGORIES:Saison 2025/26
END:VEVENT
BEGIN:VEVENT
DTSTAMP:20260422T161608Z
DTSTART;TZID=Europe/Berlin:20260321T104000
DTEND;TZID=Europe/Berlin:20260321T111000
SUMMARY:Regionsliga gFJ C Koweg Görlitz vs Görlitzer HC (14652)
UID:a473d691-8934-4bb7-901a-6be8503cdb5c
STATUS:CONFIRMED
LAST-MODIFIED:20260325T154535Z
DESCRIPTION:Regionsliga  gFJ Staffel C\nBegegnungs-Nr: 14652\nHeim: Koweg Görlitz\nGast: Görlitzer HC\nHalle: SH Rauschwalde (34301)\nAdresse: Diesterwegplatz 8\, 02827 Görlitz\n
LOCATION:SH Rauschwalde (34301): Diesterwegplatz 8\, 02827 Görlitz
CATEGORIES:Saison 2025/26
END:VEVENT
BEGIN:VEVENT
DTSTAMP:20260422T161608Z
DTSTART;TZID=Europe/Berlin:20260308T134000
DTEND;TZID=Europe/Berlin:20260308T141000
SUMMARY:Regionsliga gFJ C TBSV Neugersdorf vs Görlitzer HC (14644)
UID:c7d04876-1e4b-43bb-a948-c944fb58a5a7
STATUS:CONFIRMED
LAST-MODIFIED:20260310T143605Z
DESCRIPTION:Regionsliga  gFJ Staffel C\nBegegnungs-Nr: 14644\nHeim: TBSV Neugersdorf\nGast: Görlitzer HC\nHalle: Sporthalle \"Pließnitztal\" Bernstadt (34108)\nAdresse: Am Pließnitztal 3\, 02748 Bernstadt a.d. Eigen OT Kunnersdorf\n
LOCATION:Sporthalle \"Pließnitztal\" Bernstadt (34108): Am Pließnitztal 3\, 02748 Bernstadt a.d. Eigen OT Kunnersdorf
CATEGORIES:Saison 2025/26
END:VEVENT
BEGIN:VEVENT
DTSTAMP:20260422T161608Z
DTSTART;TZID=Europe/Berlin:20260117T090000
DTEND;TZID=Europe/Berlin:20260117T093000
SUMMARY:Regionsliga gFJ C OSV Zittau vs Görlitzer HC (14636)
UID:97aac20f-7e68-4185-af97-98ebf981f474
STATUS:CONFIRMED
LAST-MODIFIED:20260128T100024Z
DESCRIPTION:Regionsliga  gFJ Staffel C\nBegegnungs-Nr: 14636\nHeim: OSV Zittau\nGast: Görlitzer HC\nHalle: SH BSZ \"Christoph Lüders\" (34304)\nAdresse: Sattigstraße 10\, 02826 Görlitz\n
LOCATION:SH BSZ \"Christoph Lüders\" (34304): Sattigstraße 10\, 02826 Görlitz
CATEGORIES:Saison 2025/26
END:VEVENT
BEGIN:VEVENT
DTSTAMP:20260422T161608Z
DTSTART;TZID=Europe/Berlin:20251213T105000
DTEND;TZID=Europe/Berlin:20251213T112000
SUMMARY:Regionsliga gFJ C Görlitzer HC II vs Görlitzer HC (14630)
UID:9e4baf81-488e-4e79-827d-38bf070d6d7c
STATUS:CONFIRMED
LAST-MODIFIED:20251221T100720Z
DESCRIPTION:Regionsliga  gFJ Staffel C\nBegegnungs-Nr: 14630\nHeim: Görlitzer HC II\nGast: Görlitzer HC\nHalle: SH Am Kottmar Eibau (34105)\nAdresse: Jahnstr. 20 a\, 02739 Eibau\n
LOCATION:SH Am Kottmar Eibau (34105): Jahnstr. 20 a\, 02739 Eibau
CATEGORIES:Saison 2025/26
END:VEVENT
BEGIN:VEVENT
DTSTAMP:20260422T161608Z
DTSTART;TZID=Europe/Berlin:20251213T100000
DTEND;TZID=Europe/Berlin:20251213T103000
SUMMARY:Regionsliga gFJ C HV Eibau vs Görlitzer HC (14629)
UID:288befa2-84ab-4afc-a1d9-51612c7e07bf
STATUS:CONFIRMED
LAST-MODIFIED:20251221T100647Z
DESCRIPTION:Regionsliga  gFJ Staffel C\nBegegnungs-Nr: 14629\nHeim: HV Eibau\nGast: Görlitzer HC\nHalle: SH Am Kottmar Eibau (34105)\nAdresse: Jahnstr. 20 a\, 02739 Eibau\n
LOCATION:SH Am Kottmar Eibau (34105): Jahnstr. 20 a\, 02739 Eibau
CATEGORIES:Saison 2025/26
END:VEVENT
BEGIN:VEVENT
DTSTAMP:20260422T161608Z
DTSTART;TZID=Europe/Berlin:20251115T121000
DTEND;TZID=Europe/Berlin:20251115T124000
SUMMARY:Regionsliga gFJ C Koweg Görlitz vs Görlitzer HC (14621)
UID:e75f83e3-2282-45a3-9366-2a7c6a94e72f
STATUS:CONFIRMED
LAST-MODIFIED:20251117T154409Z
DESCRIPTION:Regionsliga  gFJ Staffel C\nBegegnungs-Nr: 14621\nHeim: Koweg Görlitz\nGast: Görlitzer HC\nHalle: SH Rauschwalde (34301)\nAdresse: Diesterwegplatz 8\, 02827 Görlitz\n
LOCATION:SH Rauschwalde (34301): Diesterwegplatz 8\, 02827 Görlitz
CATEGORIES:Saison 2025/26
END:VEVENT
BEGIN:VEVENT
DTSTAMP:20260422T161608Z
DTSTART;TZID=Europe/Berlin:20251101T094000
DTEND;TZID=Europe/Berlin:20251101T101000
SUMMARY:Regionsliga gFJ C TBSV Neugersdorf vs Görlitzer HC (14609)
UID:54a0a49f-a8b6-487f-9f85-c0971f7f076d
STATUS:CONFIRMED
LAST-MODIFIED:20251102T152523Z
DESCRIPTION:Regionsliga  gFJ Staffel C\nBegegnungs-Nr: 14609\nHeim: TBSV Neugersdorf\nGast: Görlitzer HC\nHalle: SH BSZ \"Christoph Lüders\" (34304)\nAdresse: Sattigstraße 10\, 02826 Görlitz\n
LOCATION:SH BSZ \"Christoph Lüders\" (34304): Sattigstraße 10\, 02826 Görlitz
CATEGORIES:Saison 2025/26
END:VEVENT
BEGIN:VEVENT
DTSTAMP:20260422T161608Z
DTSTART;TZID=Europe/Berlin:20250928T090000
DTEND;TZID=Europe/Berlin:20250928T093000
SUMMARY:Regionsliga gFJ C OSV Zittau vs Görlitzer HC (14604)
UID:b3cade83-21d7-4924-ad3d-6b7cf795bd29
STATUS:CONFIRMED
LAST-MODIFIED:20251002T135218Z
DESCRIPTION:Regionsliga  gFJ Staffel C\nBegegnungs-Nr: 14604\nHeim: OSV Zittau\nGast: Görlitzer HC\nHalle: SH BSZ \"Christoph Lüders\" (34304)\nAdresse: Sattigstraße 10\, 02826 Görlitz\n
LOCATION:SH BSZ \"Christoph Lüders\" (34304): Sattigstraße 10\, 02826 Görlitz
CATEGORIES:Saison 2025/26
END:VEVENT
END:VCALENDAR
