BEGIN:VCALENDAR
PRODID:-//nuDatenautomaten//framework iCal4j //DE
VERSION:2.0
CALSCALE:GREGORIAN
BEGIN:VTIMEZONE
TZID:Europe/Berlin
LAST-MODIFIED:20260306T231828Z
TZURL:https://www.tzurl.org/zoneinfo/Europe/Berlin
X-LIC-LOCATION:Europe/Berlin
X-PROLEPTIC-TZNAME:LMT
BEGIN:STANDARD
TZNAME:CET
TZOFFSETFROM:+005328
TZOFFSETTO:+0100
DTSTART:18930401T000000
END:STANDARD
BEGIN:DAYLIGHT
TZNAME:CEST
TZOFFSETFROM:+0100
TZOFFSETTO:+0200
DTSTART:19160430T230000
RDATE:19400401T020000
RDATE:19430329T020000
RDATE:19460414T020000
RDATE:19470406T030000
RDATE:19480418T020000
RDATE:19490410T020000
RDATE:19800406T020000
END:DAYLIGHT
BEGIN:STANDARD
TZNAME:CET
TZOFFSETFROM:+0200
TZOFFSETTO:+0100
DTSTART:19161001T010000
RDATE:19421102T030000
RDATE:19431004T030000
RDATE:19441002T030000
RDATE:19451118T030000
RDATE:19461007T030000
END:STANDARD
BEGIN:DAYLIGHT
TZNAME:CEST
TZOFFSETFROM:+0100
TZOFFSETTO:+0200
DTSTART:19170416T020000
RRULE:FREQ=YEARLY;UNTIL=19180415T010000Z;BYMONTH=4;BYDAY=3MO
END:DAYLIGHT
BEGIN:STANDARD
TZNAME:CET
TZOFFSETFROM:+0200
TZOFFSETTO:+0100
DTSTART:19170917T030000
RRULE:FREQ=YEARLY;UNTIL=19180916T010000Z;BYMONTH=9;BYDAY=3MO
END:STANDARD
BEGIN:DAYLIGHT
TZNAME:CEST
TZOFFSETFROM:+0100
TZOFFSETTO:+0200
DTSTART:19440403T020000
RRULE:FREQ=YEARLY;UNTIL=19450402T010000Z;BYMONTH=4;BYDAY=1MO
END:DAYLIGHT
BEGIN:DAYLIGHT
TZNAME:CEMT
TZOFFSETFROM:+0200
TZOFFSETTO:+0300
DTSTART:19450524T020000
RDATE:19470511T030000
END:DAYLIGHT
BEGIN:DAYLIGHT
TZNAME:CEST
TZOFFSETFROM:+0300
TZOFFSETTO:+0200
DTSTART:19450924T030000
RDATE:19470629T030000
END:DAYLIGHT
BEGIN:STANDARD
TZNAME:CET
TZOFFSETFROM:+0100
TZOFFSETTO:+0100
DTSTART:19460101T000000
RDATE:19800101T000000
END:STANDARD
BEGIN:STANDARD
TZNAME:CET
TZOFFSETFROM:+0200
TZOFFSETTO:+0100
DTSTART:19471005T030000
RRULE:FREQ=YEARLY;UNTIL=19491002T010000Z;BYMONTH=10;BYDAY=1SU
END:STANDARD
BEGIN:STANDARD
TZNAME:CET
TZOFFSETFROM:+0200
TZOFFSETTO:+0100
DTSTART:19800928T030000
RRULE:FREQ=YEARLY;UNTIL=19950924T010000Z;BYMONTH=9;BYDAY=-1SU
END:STANDARD
BEGIN:DAYLIGHT
TZNAME:CEST
TZOFFSETFROM:+0100
TZOFFSETTO:+0200
DTSTART:19810329T020000
RRULE:FREQ=YEARLY;BYMONTH=3;BYDAY=-1SU
END:DAYLIGHT
BEGIN:STANDARD
TZNAME:CET
TZOFFSETFROM:+0200
TZOFFSETTO:+0100
DTSTART:19961027T030000
RRULE:FREQ=YEARLY;BYMONTH=10;BYDAY=-1SU
END:STANDARD
END:VTIMEZONE
BEGIN:VEVENT
DTSTAMP:20260421T062430Z
DTSTART;TZID=Europe/Berlin:20260606T133000
DTEND;TZID=Europe/Berlin:20260606T140000
SUMMARY:SpecialLiga NHV Concordia Delitzsch vs WfaA LB Glauchau (24028)
UID:9d4fcfd3-8012-4bdb-98ed-f155de6775ec
STATUS:CONFIRMED
LAST-MODIFIED:20250811T190120Z
DESCRIPTION:SpecialLiga Sachsen\nBegegnungs-Nr: 24028\nHeim: NHV Concordia Delitzsch\nGast: WfaA LB Glauchau\nHalle: SH \"Heiliger Grund\" Meißen (33212)\nAdresse: Goethestraße 27\, 01662 Meißen\n
LOCATION:SH \"Heiliger Grund\" Meißen (33212): Goethestraße 27\, 01662 Meißen
CATEGORIES:Saison 2025/26
END:VEVENT
BEGIN:VEVENT
DTSTAMP:20260421T062430Z
DTSTART;TZID=Europe/Berlin:20260606T120000
DTEND;TZID=Europe/Berlin:20260606T123000
SUMMARY:SpecialLiga NHV Concordia Delitzsch vs Golden Spirits (24025)
UID:45403a18-fa81-4b61-b4ed-3d312d3493c8
STATUS:CONFIRMED
LAST-MODIFIED:20250811T190120Z
DESCRIPTION:SpecialLiga Sachsen\nBegegnungs-Nr: 24025\nHeim: NHV Concordia Delitzsch\nGast: Golden Spirits\nHalle: SH \"Heiliger Grund\" Meißen (33212)\nAdresse: Goethestraße 27\, 01662 Meißen\n
LOCATION:SH \"Heiliger Grund\" Meißen (33212): Goethestraße 27\, 01662 Meißen
CATEGORIES:Saison 2025/26
END:VEVENT
BEGIN:VEVENT
DTSTAMP:20260421T062430Z
DTSTART;TZID=Europe/Berlin:20260314T114500
DTEND;TZID=Europe/Berlin:20260314T121500
SUMMARY:SpecialLiga NHV Concordia Delitzsch vs Golden Spirits (24015)
UID:dab1da99-81c1-40ad-b80f-68d8f077d1d7
STATUS:CONFIRMED
LAST-MODIFIED:20250811T190120Z
DESCRIPTION:SpecialLiga Sachsen\nBegegnungs-Nr: 24015\nHeim: NHV Concordia Delitzsch\nGast: Golden Spirits\nHalle: Mehrzweckhalle Delitzsch  (31304)\nAdresse: Karl-Marx-Str. 1\, 04509 Delitzsch\n
LOCATION:Mehrzweckhalle Delitzsch  (31304): Karl-Marx-Str. 1\, 04509 Delitzsch
CATEGORIES:Saison 2025/26
END:VEVENT
BEGIN:VEVENT
DTSTAMP:20260421T062430Z
DTSTART;TZID=Europe/Berlin:20260314T100000
DTEND;TZID=Europe/Berlin:20260314T103000
SUMMARY:SpecialLiga NHV Concordia Delitzsch vs VfL Meißen (24013)
UID:4273d5a2-f0f5-45c5-88a3-f77fe63cb07f
STATUS:CONFIRMED
LAST-MODIFIED:20250811T190120Z
DESCRIPTION:SpecialLiga Sachsen\nBegegnungs-Nr: 24013\nHeim: NHV Concordia Delitzsch\nGast: VfL Meißen\nHalle: Mehrzweckhalle Delitzsch  (31304)\nAdresse: Karl-Marx-Str. 1\, 04509 Delitzsch\n
LOCATION:Mehrzweckhalle Delitzsch  (31304): Karl-Marx-Str. 1\, 04509 Delitzsch
CATEGORIES:Saison 2025/26
END:VEVENT
BEGIN:VEVENT
DTSTAMP:20260421T062430Z
DTSTART;TZID=Europe/Berlin:20260228T104500
DTEND;TZID=Europe/Berlin:20260228T111500
SUMMARY:SpecialLiga NHV Concordia Delitzsch vs WfaA LB Glauchau (24010)
UID:c271a842-d9b0-47f0-8787-16a316212699
STATUS:CONFIRMED
LAST-MODIFIED:20250811T190120Z
DESCRIPTION:SpecialLiga Sachsen\nBegegnungs-Nr: 24010\nHeim: NHV Concordia Delitzsch\nGast: WfaA LB Glauchau\nHalle: Elb-SH Radebeul West (33203)\nAdresse: An der Festwiese 1\, 01445 Radebeul\n
LOCATION:Elb-SH Radebeul West (33203): An der Festwiese 1\, 01445 Radebeul
CATEGORIES:Saison 2025/26
END:VEVENT
BEGIN:VEVENT
DTSTAMP:20260421T062430Z
DTSTART;TZID=Europe/Berlin:20251129T123000
DTEND;TZID=Europe/Berlin:20251129T130000
SUMMARY:SpecialLiga NHV Concordia Delitzsch vs Radebeuler HV (24008)
UID:89380f95-d60d-40a8-b83a-5135581261ed
STATUS:CONFIRMED
LAST-MODIFIED:20250811T190120Z
DESCRIPTION:SpecialLiga Sachsen\nBegegnungs-Nr: 24008\nHeim: NHV Concordia Delitzsch\nGast: Radebeuler HV\nHalle: SH \"Heiliger Grund\" Meißen (33212)\nAdresse: Goethestraße 27\, 01662 Meißen\n
LOCATION:SH \"Heiliger Grund\" Meißen (33212): Goethestraße 27\, 01662 Meißen
CATEGORIES:Saison 2025/26
END:VEVENT
BEGIN:VEVENT
DTSTAMP:20260421T062430Z
DTSTART;TZID=Europe/Berlin:20260606T140000
DTEND;TZID=Europe/Berlin:20260606T143000
SUMMARY:SpecialLiga VfL Meißen vs NHV Concordia Delitzsch (24029)
UID:7b261d36-81e9-4e95-8801-484005ac3867
STATUS:CONFIRMED
LAST-MODIFIED:20250811T190120Z
DESCRIPTION:SpecialLiga Sachsen\nBegegnungs-Nr: 24029\nHeim: VfL Meißen\nGast: NHV Concordia Delitzsch\nHalle: SH \"Heiliger Grund\" Meißen (33212)\nAdresse: Goethestraße 27\, 01662 Meißen\n
LOCATION:SH \"Heiliger Grund\" Meißen (33212): Goethestraße 27\, 01662 Meißen
CATEGORIES:Saison 2025/26
END:VEVENT
BEGIN:VEVENT
DTSTAMP:20260421T062430Z
DTSTART;TZID=Europe/Berlin:20260606T103000
DTEND;TZID=Europe/Berlin:20260606T110000
SUMMARY:SpecialLiga Radebeuler HV vs NHV Concordia Delitzsch (24022)
UID:8042efbb-a978-483f-904e-6c7fd6d390ca
STATUS:CONFIRMED
LAST-MODIFIED:20250811T190120Z
DESCRIPTION:SpecialLiga Sachsen\nBegegnungs-Nr: 24022\nHeim: Radebeuler HV\nGast: NHV Concordia Delitzsch\nHalle: SH \"Heiliger Grund\" Meißen (33212)\nAdresse: Goethestraße 27\, 01662 Meißen\n
LOCATION:SH \"Heiliger Grund\" Meißen (33212): Goethestraße 27\, 01662 Meißen
CATEGORIES:Saison 2025/26
END:VEVENT
BEGIN:VEVENT
DTSTAMP:20260421T062430Z
DTSTART;TZID=Europe/Berlin:20260228T114500
DTEND;TZID=Europe/Berlin:20260228T121500
SUMMARY:SpecialLiga Golden Spirits vs NHV Concordia Delitzsch (24011)
UID:8d712dc0-11a0-416d-905d-fccd855593bc
STATUS:CONFIRMED
LAST-MODIFIED:20250811T190120Z
DESCRIPTION:SpecialLiga Sachsen\nBegegnungs-Nr: 24011\nHeim: Golden Spirits\nGast: NHV Concordia Delitzsch\nHalle: Elb-SH Radebeul West (33203)\nAdresse: An der Festwiese 1\, 01445 Radebeul\n
LOCATION:Elb-SH Radebeul West (33203): An der Festwiese 1\, 01445 Radebeul
CATEGORIES:Saison 2025/26
END:VEVENT
BEGIN:VEVENT
DTSTAMP:20260421T062430Z
DTSTART;TZID=Europe/Berlin:20251129T104500
DTEND;TZID=Europe/Berlin:20251129T111500
SUMMARY:SpecialLiga WfaA LB Glauchau vs NHV Concordia Delitzsch (24006)
UID:f8d6fb61-1157-4324-81c6-074ef8af8e93
STATUS:CONFIRMED
LAST-MODIFIED:20250811T190120Z
DESCRIPTION:SpecialLiga Sachsen\nBegegnungs-Nr: 24006\nHeim: WfaA LB Glauchau\nGast: NHV Concordia Delitzsch\nHalle: SH \"Heiliger Grund\" Meißen (33212)\nAdresse: Goethestraße 27\, 01662 Meißen\n
LOCATION:SH \"Heiliger Grund\" Meißen (33212): Goethestraße 27\, 01662 Meißen
CATEGORIES:Saison 2025/26
END:VEVENT
BEGIN:VEVENT
DTSTAMP:20260421T062430Z
DTSTART;TZID=Europe/Berlin:20251025T140000
DTEND;TZID=Europe/Berlin:20251025T143000
SUMMARY:SpecialLiga VfL Meißen vs NHV Concordia Delitzsch (24004)
UID:5d75000a-1423-4320-a1b9-d8913752a9b9
STATUS:CONFIRMED
LAST-MODIFIED:20250811T190120Z
DESCRIPTION:SpecialLiga Sachsen\nBegegnungs-Nr: 24004\nHeim: VfL Meißen\nGast: NHV Concordia Delitzsch\nHalle: SWH-Arena (4126)\nAdresse: Nietlebener Straße 16 \, 06126 Halle/Saale\n
LOCATION:SWH-Arena (4126): Nietlebener Straße 16 \, 06126 Halle/Saale
CATEGORIES:Saison 2025/26
END:VEVENT
BEGIN:VEVENT
DTSTAMP:20260421T062430Z
DTSTART;TZID=Europe/Berlin:20251025T121500
DTEND;TZID=Europe/Berlin:20251025T124500
SUMMARY:SpecialLiga Radebeuler HV vs NHV Concordia Delitzsch (24002)
UID:1593fa0a-6187-414a-9862-fe3539c1c8d5
STATUS:CONFIRMED
LAST-MODIFIED:20250811T190120Z
DESCRIPTION:SpecialLiga Sachsen\nBegegnungs-Nr: 24002\nHeim: Radebeuler HV\nGast: NHV Concordia Delitzsch\nHalle: SWH-Arena (4126)\nAdresse: Nietlebener Straße 16 \, 06126 Halle/Saale\n
LOCATION:SWH-Arena (4126): Nietlebener Straße 16 \, 06126 Halle/Saale
CATEGORIES:Saison 2025/26
END:VEVENT
END:VCALENDAR
