BEGIN:VCALENDAR
PRODID:-//nuDatenautomaten//framework iCal4j //DE
VERSION:2.0
CALSCALE:GREGORIAN
BEGIN:VTIMEZONE
TZID:Europe/Berlin
LAST-MODIFIED:20260306T231828Z
TZURL:https://www.tzurl.org/zoneinfo/Europe/Berlin
X-LIC-LOCATION:Europe/Berlin
X-PROLEPTIC-TZNAME:LMT
BEGIN:STANDARD
TZNAME:CET
TZOFFSETFROM:+005328
TZOFFSETTO:+0100
DTSTART:18930401T000000
END:STANDARD
BEGIN:DAYLIGHT
TZNAME:CEST
TZOFFSETFROM:+0100
TZOFFSETTO:+0200
DTSTART:19160430T230000
RDATE:19400401T020000
RDATE:19430329T020000
RDATE:19460414T020000
RDATE:19470406T030000
RDATE:19480418T020000
RDATE:19490410T020000
RDATE:19800406T020000
END:DAYLIGHT
BEGIN:STANDARD
TZNAME:CET
TZOFFSETFROM:+0200
TZOFFSETTO:+0100
DTSTART:19161001T010000
RDATE:19421102T030000
RDATE:19431004T030000
RDATE:19441002T030000
RDATE:19451118T030000
RDATE:19461007T030000
END:STANDARD
BEGIN:DAYLIGHT
TZNAME:CEST
TZOFFSETFROM:+0100
TZOFFSETTO:+0200
DTSTART:19170416T020000
RRULE:FREQ=YEARLY;UNTIL=19180415T010000Z;BYMONTH=4;BYDAY=3MO
END:DAYLIGHT
BEGIN:STANDARD
TZNAME:CET
TZOFFSETFROM:+0200
TZOFFSETTO:+0100
DTSTART:19170917T030000
RRULE:FREQ=YEARLY;UNTIL=19180916T010000Z;BYMONTH=9;BYDAY=3MO
END:STANDARD
BEGIN:DAYLIGHT
TZNAME:CEST
TZOFFSETFROM:+0100
TZOFFSETTO:+0200
DTSTART:19440403T020000
RRULE:FREQ=YEARLY;UNTIL=19450402T010000Z;BYMONTH=4;BYDAY=1MO
END:DAYLIGHT
BEGIN:DAYLIGHT
TZNAME:CEMT
TZOFFSETFROM:+0200
TZOFFSETTO:+0300
DTSTART:19450524T020000
RDATE:19470511T030000
END:DAYLIGHT
BEGIN:DAYLIGHT
TZNAME:CEST
TZOFFSETFROM:+0300
TZOFFSETTO:+0200
DTSTART:19450924T030000
RDATE:19470629T030000
END:DAYLIGHT
BEGIN:STANDARD
TZNAME:CET
TZOFFSETFROM:+0100
TZOFFSETTO:+0100
DTSTART:19460101T000000
RDATE:19800101T000000
END:STANDARD
BEGIN:STANDARD
TZNAME:CET
TZOFFSETFROM:+0200
TZOFFSETTO:+0100
DTSTART:19471005T030000
RRULE:FREQ=YEARLY;UNTIL=19491002T010000Z;BYMONTH=10;BYDAY=1SU
END:STANDARD
BEGIN:STANDARD
TZNAME:CET
TZOFFSETFROM:+0200
TZOFFSETTO:+0100
DTSTART:19800928T030000
RRULE:FREQ=YEARLY;UNTIL=19950924T010000Z;BYMONTH=9;BYDAY=-1SU
END:STANDARD
BEGIN:DAYLIGHT
TZNAME:CEST
TZOFFSETFROM:+0100
TZOFFSETTO:+0200
DTSTART:19810329T020000
RRULE:FREQ=YEARLY;BYMONTH=3;BYDAY=-1SU
END:DAYLIGHT
BEGIN:STANDARD
TZNAME:CET
TZOFFSETFROM:+0200
TZOFFSETTO:+0100
DTSTART:19961027T030000
RRULE:FREQ=YEARLY;BYMONTH=10;BYDAY=-1SU
END:STANDARD
END:VTIMEZONE
BEGIN:VEVENT
DTSTAMP:20260420T143355Z
DTSTART;TZID=Europe/Berlin:20260426T130000
DTEND;TZID=Europe/Berlin:20260426T140000
SUMMARY:ROL gJF HSG Freiberg vs Geringswalder HV (520072)
UID:fc866484-3ad6-4f05-b6a1-f615650f29d9
STATUS:CONFIRMED
DESCRIPTION:Regionsoberliga gem. F-Jugend\nBegegnungs-Nr: 520072\nHeim: HSG Freiberg\nGast: Geringswalder HV\nHalle: Ernst-Grube-Halle Freiberg (32401)\nAdresse: Tschaikowskistr. 2\, 09599 Freiberg\n
LOCATION:Ernst-Grube-Halle Freiberg (32401): Tschaikowskistr. 2\, 09599 Freiberg
CATEGORIES:Saison 2025/26
END:VEVENT
BEGIN:VEVENT
DTSTAMP:20260420T143355Z
DTSTART;TZID=Europe/Berlin:20260124T100000
DTEND;TZID=Europe/Berlin:20260124T110000
SUMMARY:ROL gJF HSG Freiberg vs BSV Limbach-O. (520027)
UID:0a84c6f1-5816-45d1-aed1-8ccfa8dee46b
STATUS:CONFIRMED
LAST-MODIFIED:20260107T195818Z
DESCRIPTION:Regionsoberliga gem. F-Jugend\nBegegnungs-Nr: 520027\nHeim: HSG Freiberg\nGast: BSV Limbach-O.\nHalle: Ernst-Grube-Halle Freiberg (32401)\nAdresse: Tschaikowskistr. 2\, 09599 Freiberg\n
LOCATION:Ernst-Grube-Halle Freiberg (32401): Tschaikowskistr. 2\, 09599 Freiberg
CATEGORIES:Saison 2025/26
END:VEVENT
BEGIN:VEVENT
DTSTAMP:20260420T143355Z
DTSTART;TZID=Europe/Berlin:20260124T120000
DTEND;TZID=Europe/Berlin:20260124T130000
SUMMARY:ROL gJF HSG Freiberg vs Roßweiner SV (520025)
UID:b7d4b695-8b9a-4019-9510-8b9a1363bd9a
STATUS:CONFIRMED
LAST-MODIFIED:20260107T200234Z
DESCRIPTION:Regionsoberliga gem. F-Jugend\nBegegnungs-Nr: 520025\nHeim: HSG Freiberg\nGast: Roßweiner SV\nHalle: Ernst-Grube-Halle Freiberg (32401)\nAdresse: Tschaikowskistr. 2\, 09599 Freiberg\n
LOCATION:Ernst-Grube-Halle Freiberg (32401): Tschaikowskistr. 2\, 09599 Freiberg
CATEGORIES:Saison 2025/26
END:VEVENT
BEGIN:VEVENT
DTSTAMP:20260420T143355Z
DTSTART;TZID=Europe/Berlin:20251115T113000
DTEND;TZID=Europe/Berlin:20251115T123000
SUMMARY:ROL gJF HSG Freiberg vs Burgstädter HC (520014)
UID:c9394791-d4b3-4b44-95fa-7178c283854e
STATUS:CONFIRMED
DESCRIPTION:Regionsoberliga gem. F-Jugend\nBegegnungs-Nr: 520014\nHeim: HSG Freiberg\nGast: Burgstädter HC\nHalle: Stadt-SH Roßwein (31203)\nAdresse: Grafestraße 1\, 04741 Roßwein\n
LOCATION:Stadt-SH Roßwein (31203): Grafestraße 1\, 04741 Roßwein
CATEGORIES:Saison 2025/26
END:VEVENT
BEGIN:VEVENT
DTSTAMP:20260420T143355Z
DTSTART;TZID=Europe/Berlin:20260426T110000
DTEND;TZID=Europe/Berlin:20260426T120000
SUMMARY:ROL gJF HSG Freiberg vs Grün-Weiß Niederwiesa (520070)
UID:2564c2e3-a377-4119-b6b5-4debf4e88d2d
STATUS:CONFIRMED
DESCRIPTION:Regionsoberliga gem. F-Jugend\nBegegnungs-Nr: 520070\nHeim: HSG Freiberg\nGast: Grün-Weiß Niederwiesa\nHalle: Ernst-Grube-Halle Freiberg (32401)\nAdresse: Tschaikowskistr. 2\, 09599 Freiberg\n
LOCATION:Ernst-Grube-Halle Freiberg (32401): Tschaikowskistr. 2\, 09599 Freiberg
CATEGORIES:Saison 2025/26
END:VEVENT
BEGIN:VEVENT
DTSTAMP:20260420T143355Z
DTSTART;TZID=Europe/Berlin:20260321T170000
DTEND;TZID=Europe/Berlin:20260321T180000
SUMMARY:ROL gJF HSG Freiberg vs SV 04 Plauen-O. (520060)
UID:1b6e4cc8-9ac4-4f7e-b4db-2621eed7c7cb
STATUS:CONFIRMED
DESCRIPTION:Regionsoberliga gem. F-Jugend\nBegegnungs-Nr: 520060\nHeim: HSG Freiberg\nGast: SV 04 Plauen-O.\nHalle: Ernst-Grube-Halle Freiberg (32401)\nAdresse: Tschaikowskistr. 2\, 09599 Freiberg\n
LOCATION:Ernst-Grube-Halle Freiberg (32401): Tschaikowskistr. 2\, 09599 Freiberg
CATEGORIES:Saison 2025/26
END:VEVENT
BEGIN:VEVENT
DTSTAMP:20260420T143355Z
DTSTART;TZID=Europe/Berlin:20260321T150000
DTEND;TZID=Europe/Berlin:20260321T160000
SUMMARY:ROL gJF HSG Freiberg vs Buteo Youngsters Chemnitz II (520058)
UID:575d171e-a417-4347-bfee-1af0d28e6163
STATUS:CONFIRMED
DESCRIPTION:Regionsoberliga gem. F-Jugend\nBegegnungs-Nr: 520058\nHeim: HSG Freiberg\nGast: Buteo Youngsters Chemnitz II\nHalle: Ernst-Grube-Halle Freiberg (32401)\nAdresse: Tschaikowskistr. 2\, 09599 Freiberg\n
LOCATION:Ernst-Grube-Halle Freiberg (32401): Tschaikowskistr. 2\, 09599 Freiberg
CATEGORIES:Saison 2025/26
END:VEVENT
BEGIN:VEVENT
DTSTAMP:20260420T143355Z
DTSTART;TZID=Europe/Berlin:20260301T140000
DTEND;TZID=Europe/Berlin:20260301T150000
SUMMARY:ROL gJF HSG Freiberg vs Buteo Youngsters Chemnitz (520047)
UID:b20200c8-c387-48f5-be1c-eae15cbe38a3
STATUS:CONFIRMED
DESCRIPTION:Regionsoberliga gem. F-Jugend\nBegegnungs-Nr: 520047\nHeim: HSG Freiberg\nGast: Buteo Youngsters Chemnitz\nHalle: SH an der August-Bebel-Schule (32211)\nAdresse: Mittweidaer Straße 43\, 09326 Geringswalde\n
LOCATION:SH an der August-Bebel-Schule (32211): Mittweidaer Straße 43\, 09326 Geringswalde
CATEGORIES:Saison 2025/26
END:VEVENT
BEGIN:VEVENT
DTSTAMP:20260420T143355Z
DTSTART;TZID=Europe/Berlin:20260131T100000
DTEND;TZID=Europe/Berlin:20260131T110000
SUMMARY:ROL gJF BSV Limbach-O. vs HSG Freiberg (520037)
UID:9a311cc0-a1d9-4654-ae15-c71c43a19c87
STATUS:CONFIRMED
DESCRIPTION:Regionsoberliga gem. F-Jugend\nBegegnungs-Nr: 520037\nHeim: BSV Limbach-O.\nGast: HSG Freiberg\nHalle: GSH Limbach-Oberfrohna (32201)\nAdresse: Anna-Esche-Gäßchen 1\, 09212 Limbach-Oberfrohna\n
LOCATION:GSH Limbach-Oberfrohna (32201): Anna-Esche-Gäßchen 1\, 09212 Limbach-Oberfrohna
CATEGORIES:Saison 2025/26
END:VEVENT
BEGIN:VEVENT
DTSTAMP:20260420T143355Z
DTSTART;TZID=Europe/Berlin:20251129T110000
DTEND;TZID=Europe/Berlin:20251129T120000
SUMMARY:ROL gJF Buteo Youngsters Chemnitz vs HSG Freiberg (520020)
UID:7ffb0a81-ccaf-407c-97a9-17f58b7ad305
STATUS:CONFIRMED
DESCRIPTION:Regionsoberliga gem. F-Jugend\nBegegnungs-Nr: 520020\nHeim: Buteo Youngsters Chemnitz\nGast: HSG Freiberg\nHalle: Lok-SH Chemnitz (32111)\nAdresse: Christian-Wehner-Strasse 4\, 09113 Chemnitz\n
LOCATION:Lok-SH Chemnitz (32111): Christian-Wehner-Strasse 4\, 09113 Chemnitz
CATEGORIES:Saison 2025/26
END:VEVENT
BEGIN:VEVENT
DTSTAMP:20260420T143355Z
DTSTART;TZID=Europe/Berlin:20251129T100000
DTEND;TZID=Europe/Berlin:20251129T110000
SUMMARY:ROL gJF Buteo Youngsters Chemnitz II vs HSG Freiberg (520019)
UID:4385df94-e8f1-429f-8ec4-d6c602cf68d6
STATUS:CONFIRMED
DESCRIPTION:Regionsoberliga gem. F-Jugend\nBegegnungs-Nr: 520019\nHeim: Buteo Youngsters Chemnitz II\nGast: HSG Freiberg\nHalle: Lok-SH Chemnitz (32111)\nAdresse: Christian-Wehner-Strasse 4\, 09113 Chemnitz\n
LOCATION:Lok-SH Chemnitz (32111): Christian-Wehner-Strasse 4\, 09113 Chemnitz
CATEGORIES:Saison 2025/26
END:VEVENT
BEGIN:VEVENT
DTSTAMP:20260420T143355Z
DTSTART;TZID=Europe/Berlin:20251122T133000
DTEND;TZID=Europe/Berlin:20251122T143000
SUMMARY:ROL gJF Burgstädter HC vs HSG Freiberg (520017)
UID:f990c488-b982-4bd8-86fa-6fe2df88956a
STATUS:CONFIRMED
DESCRIPTION:Regionsoberliga gem. F-Jugend\nBegegnungs-Nr: 520017\nHeim: Burgstädter HC\nGast: HSG Freiberg\nHalle: Sporthalle Niederwiesa (32419)\nAdresse: Mühlenstr. 21\, 09577 Niederwiesa\n
LOCATION:Sporthalle Niederwiesa (32419): Mühlenstr. 21\, 09577 Niederwiesa
CATEGORIES:Saison 2025/26
END:VEVENT
BEGIN:VEVENT
DTSTAMP:20260420T143355Z
DTSTART;TZID=Europe/Berlin:20251122T123000
DTEND;TZID=Europe/Berlin:20251122T133000
SUMMARY:ROL gJF Grün-Weiß Niederwiesa vs HSG Freiberg (520016)
UID:b9375d55-9b43-4b71-8509-0367adbb8193
STATUS:CONFIRMED
DESCRIPTION:Regionsoberliga gem. F-Jugend\nBegegnungs-Nr: 520016\nHeim: Grün-Weiß Niederwiesa\nGast: HSG Freiberg\nHalle: Sporthalle Niederwiesa (32419)\nAdresse: Mühlenstr. 21\, 09577 Niederwiesa\n
LOCATION:Sporthalle Niederwiesa (32419): Mühlenstr. 21\, 09577 Niederwiesa
CATEGORIES:Saison 2025/26
END:VEVENT
BEGIN:VEVENT
DTSTAMP:20260420T143355Z
DTSTART;TZID=Europe/Berlin:20251115T103000
DTEND;TZID=Europe/Berlin:20251115T113000
SUMMARY:ROL gJF Roßweiner SV vs HSG Freiberg (520013)
UID:b1ec8cf4-0cb9-4883-8bc3-fe47a9176157
STATUS:CONFIRMED
DESCRIPTION:Regionsoberliga gem. F-Jugend\nBegegnungs-Nr: 520013\nHeim: Roßweiner SV\nGast: HSG Freiberg\nHalle: Stadt-SH Roßwein (31203)\nAdresse: Grafestraße 1\, 04741 Roßwein\n
LOCATION:Stadt-SH Roßwein (31203): Grafestraße 1\, 04741 Roßwein
CATEGORIES:Saison 2025/26
END:VEVENT
BEGIN:VEVENT
DTSTAMP:20260420T143355Z
DTSTART;TZID=Europe/Berlin:20260301T130000
DTEND;TZID=Europe/Berlin:20260301T140000
SUMMARY:ROL gJF Geringswalder HV vs HSG Freiberg (520046)
UID:7436f935-f4fb-4c7c-9cf5-3e17d6617c26
STATUS:CONFIRMED
DESCRIPTION:Regionsoberliga gem. F-Jugend\nBegegnungs-Nr: 520046\nHeim: Geringswalder HV\nGast: HSG Freiberg\nHalle: SH an der August-Bebel-Schule (32211)\nAdresse: Mittweidaer Straße 43\, 09326 Geringswalde\n
LOCATION:SH an der August-Bebel-Schule (32211): Mittweidaer Straße 43\, 09326 Geringswalde
CATEGORIES:Saison 2025/26
END:VEVENT
BEGIN:VEVENT
DTSTAMP:20260420T143355Z
DTSTART;TZID=Europe/Berlin:20260131T110000
DTEND;TZID=Europe/Berlin:20260131T120000
SUMMARY:ROL gJF SV 04 Plauen-O. vs HSG Freiberg (520038)
UID:d6094059-03d6-4d2a-940e-b28dd9aac64e
STATUS:CONFIRMED
DESCRIPTION:Regionsoberliga gem. F-Jugend\nBegegnungs-Nr: 520038\nHeim: SV 04 Plauen-O.\nGast: HSG Freiberg\nHalle: GSH Limbach-Oberfrohna (32201)\nAdresse: Anna-Esche-Gäßchen 1\, 09212 Limbach-Oberfrohna\n
LOCATION:GSH Limbach-Oberfrohna (32201): Anna-Esche-Gäßchen 1\, 09212 Limbach-Oberfrohna
CATEGORIES:Saison 2025/26
END:VEVENT
END:VCALENDAR
