BEGIN:VCALENDAR
PRODID:-//nuDatenautomaten//framework iCal4j //DE
VERSION:2.0
CALSCALE:GREGORIAN
BEGIN:VTIMEZONE
TZID:Europe/Berlin
LAST-MODIFIED:20260306T231828Z
TZURL:https://www.tzurl.org/zoneinfo/Europe/Berlin
X-LIC-LOCATION:Europe/Berlin
X-PROLEPTIC-TZNAME:LMT
BEGIN:STANDARD
TZNAME:CET
TZOFFSETFROM:+005328
TZOFFSETTO:+0100
DTSTART:18930401T000000
END:STANDARD
BEGIN:DAYLIGHT
TZNAME:CEST
TZOFFSETFROM:+0100
TZOFFSETTO:+0200
DTSTART:19160430T230000
RDATE:19400401T020000
RDATE:19430329T020000
RDATE:19460414T020000
RDATE:19470406T030000
RDATE:19480418T020000
RDATE:19490410T020000
RDATE:19800406T020000
END:DAYLIGHT
BEGIN:STANDARD
TZNAME:CET
TZOFFSETFROM:+0200
TZOFFSETTO:+0100
DTSTART:19161001T010000
RDATE:19421102T030000
RDATE:19431004T030000
RDATE:19441002T030000
RDATE:19451118T030000
RDATE:19461007T030000
END:STANDARD
BEGIN:DAYLIGHT
TZNAME:CEST
TZOFFSETFROM:+0100
TZOFFSETTO:+0200
DTSTART:19170416T020000
RRULE:FREQ=YEARLY;UNTIL=19180415T010000Z;BYMONTH=4;BYDAY=3MO
END:DAYLIGHT
BEGIN:STANDARD
TZNAME:CET
TZOFFSETFROM:+0200
TZOFFSETTO:+0100
DTSTART:19170917T030000
RRULE:FREQ=YEARLY;UNTIL=19180916T010000Z;BYMONTH=9;BYDAY=3MO
END:STANDARD
BEGIN:DAYLIGHT
TZNAME:CEST
TZOFFSETFROM:+0100
TZOFFSETTO:+0200
DTSTART:19440403T020000
RRULE:FREQ=YEARLY;UNTIL=19450402T010000Z;BYMONTH=4;BYDAY=1MO
END:DAYLIGHT
BEGIN:DAYLIGHT
TZNAME:CEMT
TZOFFSETFROM:+0200
TZOFFSETTO:+0300
DTSTART:19450524T020000
RDATE:19470511T030000
END:DAYLIGHT
BEGIN:DAYLIGHT
TZNAME:CEST
TZOFFSETFROM:+0300
TZOFFSETTO:+0200
DTSTART:19450924T030000
RDATE:19470629T030000
END:DAYLIGHT
BEGIN:STANDARD
TZNAME:CET
TZOFFSETFROM:+0100
TZOFFSETTO:+0100
DTSTART:19460101T000000
RDATE:19800101T000000
END:STANDARD
BEGIN:STANDARD
TZNAME:CET
TZOFFSETFROM:+0200
TZOFFSETTO:+0100
DTSTART:19471005T030000
RRULE:FREQ=YEARLY;UNTIL=19491002T010000Z;BYMONTH=10;BYDAY=1SU
END:STANDARD
BEGIN:STANDARD
TZNAME:CET
TZOFFSETFROM:+0200
TZOFFSETTO:+0100
DTSTART:19800928T030000
RRULE:FREQ=YEARLY;UNTIL=19950924T010000Z;BYMONTH=9;BYDAY=-1SU
END:STANDARD
BEGIN:DAYLIGHT
TZNAME:CEST
TZOFFSETFROM:+0100
TZOFFSETTO:+0200
DTSTART:19810329T020000
RRULE:FREQ=YEARLY;BYMONTH=3;BYDAY=-1SU
END:DAYLIGHT
BEGIN:STANDARD
TZNAME:CET
TZOFFSETFROM:+0200
TZOFFSETTO:+0100
DTSTART:19961027T030000
RRULE:FREQ=YEARLY;BYMONTH=10;BYDAY=-1SU
END:STANDARD
END:VTIMEZONE
BEGIN:VEVENT
DTSTAMP:20260425T034451Z
DTSTART;TZID=Europe/Berlin:20260606T103000
DTEND;TZID=Europe/Berlin:20260606T110000
SUMMARY:SpecialLiga Radebeuler HV vs NHV Concordia Delitzsch (24022)
UID:8042efbb-a978-483f-904e-6c7fd6d390ca
STATUS:CONFIRMED
LAST-MODIFIED:20250811T190120Z
DESCRIPTION:SpecialLiga Sachsen\nBegegnungs-Nr: 24022\nHeim: Radebeuler HV\nGast: NHV Concordia Delitzsch\nHalle: SH \"Heiliger Grund\" Meißen (33212)\nAdresse: Goethestraße 27\, 01662 Meißen\n
LOCATION:SH \"Heiliger Grund\" Meißen (33212): Goethestraße 27\, 01662 Meißen
CATEGORIES:Saison 2025/26
END:VEVENT
BEGIN:VEVENT
DTSTAMP:20260425T034451Z
DTSTART;TZID=Europe/Berlin:20260411T114500
DTEND;TZID=Europe/Berlin:20260411T121500
SUMMARY:SpecialLiga Radebeuler HV vs VfL Meißen (24019)
UID:fb1abaa6-a2d8-4925-8ddf-d7c7926fa020
STATUS:CONFIRMED
LAST-MODIFIED:20250811T190120Z
DESCRIPTION:SpecialLiga Sachsen\nBegegnungs-Nr: 24019\nHeim: Radebeuler HV\nGast: VfL Meißen\nHalle: Sachsenlandhalle Glauchau (32204)\nAdresse: An der Sachsenlandhalle 3\, 08371 Glauchau\n
LOCATION:Sachsenlandhalle Glauchau (32204): An der Sachsenlandhalle 3\, 08371 Glauchau
CATEGORIES:Saison 2025/26
END:VEVENT
BEGIN:VEVENT
DTSTAMP:20260425T034451Z
DTSTART;TZID=Europe/Berlin:20260606T143000
DTEND;TZID=Europe/Berlin:20260606T150000
SUMMARY:SpecialLiga Radebeuler HV vs WfaA LB Glauchau (24030)
UID:de3fb952-8fbf-4032-9a15-f5655c54d0c4
STATUS:CONFIRMED
LAST-MODIFIED:20250811T190120Z
DESCRIPTION:SpecialLiga Sachsen\nBegegnungs-Nr: 24030\nHeim: Radebeuler HV\nGast: WfaA LB Glauchau\nHalle: SH \"Heiliger Grund\" Meißen (33212)\nAdresse: Goethestraße 27\, 01662 Meißen\n
LOCATION:SH \"Heiliger Grund\" Meißen (33212): Goethestraße 27\, 01662 Meißen
CATEGORIES:Saison 2025/26
END:VEVENT
BEGIN:VEVENT
DTSTAMP:20260425T034451Z
DTSTART;TZID=Europe/Berlin:20260228T123000
DTEND;TZID=Europe/Berlin:20260228T130000
SUMMARY:SpecialLiga Radebeuler HV vs WfaA LB Glauchau (24012)
UID:77e4f0a9-2c86-4f93-91a3-4e81e6028016
STATUS:CONFIRMED
LAST-MODIFIED:20250811T190120Z
DESCRIPTION:SpecialLiga Sachsen\nBegegnungs-Nr: 24012\nHeim: Radebeuler HV\nGast: WfaA LB Glauchau\nHalle: Elb-SH Radebeul West (33203)\nAdresse: An der Festwiese 1\, 01445 Radebeul\n
LOCATION:Elb-SH Radebeul West (33203): An der Festwiese 1\, 01445 Radebeul
CATEGORIES:Saison 2025/26
END:VEVENT
BEGIN:VEVENT
DTSTAMP:20260425T034451Z
DTSTART;TZID=Europe/Berlin:20260228T100000
DTEND;TZID=Europe/Berlin:20260228T103000
SUMMARY:SpecialLiga Radebeuler HV vs Golden Spirits (24009)
UID:aa5cb57c-5d2b-4bd6-a00b-b901454dd0fe
STATUS:CONFIRMED
LAST-MODIFIED:20250811T190120Z
DESCRIPTION:SpecialLiga Sachsen\nBegegnungs-Nr: 24009\nHeim: Radebeuler HV\nGast: Golden Spirits\nHalle: Elb-SH Radebeul West (33203)\nAdresse: An der Festwiese 1\, 01445 Radebeul\n
LOCATION:Elb-SH Radebeul West (33203): An der Festwiese 1\, 01445 Radebeul
CATEGORIES:Saison 2025/26
END:VEVENT
BEGIN:VEVENT
DTSTAMP:20260425T034451Z
DTSTART;TZID=Europe/Berlin:20251025T121500
DTEND;TZID=Europe/Berlin:20251025T124500
SUMMARY:SpecialLiga Radebeuler HV vs NHV Concordia Delitzsch (24002)
UID:1593fa0a-6187-414a-9862-fe3539c1c8d5
STATUS:CONFIRMED
LAST-MODIFIED:20250811T190120Z
DESCRIPTION:SpecialLiga Sachsen\nBegegnungs-Nr: 24002\nHeim: Radebeuler HV\nGast: NHV Concordia Delitzsch\nHalle: SWH-Arena (4126)\nAdresse: Nietlebener Straße 16 \, 06126 Halle/Saale\n
LOCATION:SWH-Arena (4126): Nietlebener Straße 16 \, 06126 Halle/Saale
CATEGORIES:Saison 2025/26
END:VEVENT
BEGIN:VEVENT
DTSTAMP:20260425T034451Z
DTSTART;TZID=Europe/Berlin:20260606T130000
DTEND;TZID=Europe/Berlin:20260606T133000
SUMMARY:SpecialLiga Golden Spirits vs Radebeuler HV (24027)
UID:2aece4e6-080b-434f-83d5-806928db0643
STATUS:CONFIRMED
LAST-MODIFIED:20250811T190120Z
DESCRIPTION:SpecialLiga Sachsen\nBegegnungs-Nr: 24027\nHeim: Golden Spirits\nGast: Radebeuler HV\nHalle: SH \"Heiliger Grund\" Meißen (33212)\nAdresse: Goethestraße 27\, 01662 Meißen\n
LOCATION:SH \"Heiliger Grund\" Meißen (33212): Goethestraße 27\, 01662 Meißen
CATEGORIES:Saison 2025/26
END:VEVENT
BEGIN:VEVENT
DTSTAMP:20260425T034451Z
DTSTART;TZID=Europe/Berlin:20260606T113000
DTEND;TZID=Europe/Berlin:20260606T120000
SUMMARY:SpecialLiga VfL Meißen vs Radebeuler HV (24024)
UID:9d089293-bc84-46b5-95bb-bcea96cea640
STATUS:CONFIRMED
LAST-MODIFIED:20250811T190120Z
DESCRIPTION:SpecialLiga Sachsen\nBegegnungs-Nr: 24024\nHeim: VfL Meißen\nGast: Radebeuler HV\nHalle: SH \"Heiliger Grund\" Meißen (33212)\nAdresse: Goethestraße 27\, 01662 Meißen\n
LOCATION:SH \"Heiliger Grund\" Meißen (33212): Goethestraße 27\, 01662 Meißen
CATEGORIES:Saison 2025/26
END:VEVENT
BEGIN:VEVENT
DTSTAMP:20260425T034451Z
DTSTART;TZID=Europe/Berlin:20260411T100000
DTEND;TZID=Europe/Berlin:20260411T103000
SUMMARY:SpecialLiga WfaA LB Glauchau vs Radebeuler HV (24017)
UID:86324ef8-317a-4422-947d-21edebd8a192
STATUS:CONFIRMED
LAST-MODIFIED:20250811T190120Z
DESCRIPTION:SpecialLiga Sachsen\nBegegnungs-Nr: 24017\nHeim: WfaA LB Glauchau\nGast: Radebeuler HV\nHalle: Sachsenlandhalle Glauchau (32204)\nAdresse: An der Sachsenlandhalle 3\, 08371 Glauchau\n
LOCATION:Sachsenlandhalle Glauchau (32204): An der Sachsenlandhalle 3\, 08371 Glauchau
CATEGORIES:Saison 2025/26
END:VEVENT
BEGIN:VEVENT
DTSTAMP:20260425T034451Z
DTSTART;TZID=Europe/Berlin:20251129T123000
DTEND;TZID=Europe/Berlin:20251129T130000
SUMMARY:SpecialLiga NHV Concordia Delitzsch vs Radebeuler HV (24008)
UID:89380f95-d60d-40a8-b83a-5135581261ed
STATUS:CONFIRMED
LAST-MODIFIED:20250811T190120Z
DESCRIPTION:SpecialLiga Sachsen\nBegegnungs-Nr: 24008\nHeim: NHV Concordia Delitzsch\nGast: Radebeuler HV\nHalle: SH \"Heiliger Grund\" Meißen (33212)\nAdresse: Goethestraße 27\, 01662 Meißen\n
LOCATION:SH \"Heiliger Grund\" Meißen (33212): Goethestraße 27\, 01662 Meißen
CATEGORIES:Saison 2025/26
END:VEVENT
BEGIN:VEVENT
DTSTAMP:20260425T034451Z
DTSTART;TZID=Europe/Berlin:20251129T100000
DTEND;TZID=Europe/Berlin:20251129T103000
SUMMARY:SpecialLiga VfL Meißen vs Radebeuler HV (24005)
UID:275215a5-74c7-4fa3-9bb1-bf74a00b45a9
STATUS:CONFIRMED
LAST-MODIFIED:20250811T190120Z
DESCRIPTION:SpecialLiga Sachsen\nBegegnungs-Nr: 24005\nHeim: VfL Meißen\nGast: Radebeuler HV\nHalle: SH \"Heiliger Grund\" Meißen (33212)\nAdresse: Goethestraße 27\, 01662 Meißen\n
LOCATION:SH \"Heiliger Grund\" Meißen (33212): Goethestraße 27\, 01662 Meißen
CATEGORIES:Saison 2025/26
END:VEVENT
BEGIN:VEVENT
DTSTAMP:20260425T034451Z
DTSTART;TZID=Europe/Berlin:20251025T131500
DTEND;TZID=Europe/Berlin:20251025T134500
SUMMARY:SpecialLiga Golden Spirits vs Radebeuler HV (24003)
UID:0402194c-757e-41b4-91f3-8320f1fff2f7
STATUS:CONFIRMED
LAST-MODIFIED:20250811T190120Z
DESCRIPTION:SpecialLiga Sachsen\nBegegnungs-Nr: 24003\nHeim: Golden Spirits\nGast: Radebeuler HV\nHalle: SWH-Arena (4126)\nAdresse: Nietlebener Straße 16 \, 06126 Halle/Saale\n
LOCATION:SWH-Arena (4126): Nietlebener Straße 16 \, 06126 Halle/Saale
CATEGORIES:Saison 2025/26
END:VEVENT
END:VCALENDAR
