BEGIN:VCALENDAR
PRODID:-//nuDatenautomaten//framework iCal4j //DE
VERSION:2.0
CALSCALE:GREGORIAN
BEGIN:VTIMEZONE
TZID:Europe/Berlin
LAST-MODIFIED:20260306T231828Z
TZURL:https://www.tzurl.org/zoneinfo/Europe/Berlin
X-LIC-LOCATION:Europe/Berlin
X-PROLEPTIC-TZNAME:LMT
BEGIN:STANDARD
TZNAME:CET
TZOFFSETFROM:+005328
TZOFFSETTO:+0100
DTSTART:18930401T000000
END:STANDARD
BEGIN:DAYLIGHT
TZNAME:CEST
TZOFFSETFROM:+0100
TZOFFSETTO:+0200
DTSTART:19160430T230000
RDATE:19400401T020000
RDATE:19430329T020000
RDATE:19460414T020000
RDATE:19470406T030000
RDATE:19480418T020000
RDATE:19490410T020000
RDATE:19800406T020000
END:DAYLIGHT
BEGIN:STANDARD
TZNAME:CET
TZOFFSETFROM:+0200
TZOFFSETTO:+0100
DTSTART:19161001T010000
RDATE:19421102T030000
RDATE:19431004T030000
RDATE:19441002T030000
RDATE:19451118T030000
RDATE:19461007T030000
END:STANDARD
BEGIN:DAYLIGHT
TZNAME:CEST
TZOFFSETFROM:+0100
TZOFFSETTO:+0200
DTSTART:19170416T020000
RRULE:FREQ=YEARLY;UNTIL=19180415T010000Z;BYMONTH=4;BYDAY=3MO
END:DAYLIGHT
BEGIN:STANDARD
TZNAME:CET
TZOFFSETFROM:+0200
TZOFFSETTO:+0100
DTSTART:19170917T030000
RRULE:FREQ=YEARLY;UNTIL=19180916T010000Z;BYMONTH=9;BYDAY=3MO
END:STANDARD
BEGIN:DAYLIGHT
TZNAME:CEST
TZOFFSETFROM:+0100
TZOFFSETTO:+0200
DTSTART:19440403T020000
RRULE:FREQ=YEARLY;UNTIL=19450402T010000Z;BYMONTH=4;BYDAY=1MO
END:DAYLIGHT
BEGIN:DAYLIGHT
TZNAME:CEMT
TZOFFSETFROM:+0200
TZOFFSETTO:+0300
DTSTART:19450524T020000
RDATE:19470511T030000
END:DAYLIGHT
BEGIN:DAYLIGHT
TZNAME:CEST
TZOFFSETFROM:+0300
TZOFFSETTO:+0200
DTSTART:19450924T030000
RDATE:19470629T030000
END:DAYLIGHT
BEGIN:STANDARD
TZNAME:CET
TZOFFSETFROM:+0100
TZOFFSETTO:+0100
DTSTART:19460101T000000
RDATE:19800101T000000
END:STANDARD
BEGIN:STANDARD
TZNAME:CET
TZOFFSETFROM:+0200
TZOFFSETTO:+0100
DTSTART:19471005T030000
RRULE:FREQ=YEARLY;UNTIL=19491002T010000Z;BYMONTH=10;BYDAY=1SU
END:STANDARD
BEGIN:STANDARD
TZNAME:CET
TZOFFSETFROM:+0200
TZOFFSETTO:+0100
DTSTART:19800928T030000
RRULE:FREQ=YEARLY;UNTIL=19950924T010000Z;BYMONTH=9;BYDAY=-1SU
END:STANDARD
BEGIN:DAYLIGHT
TZNAME:CEST
TZOFFSETFROM:+0100
TZOFFSETTO:+0200
DTSTART:19810329T020000
RRULE:FREQ=YEARLY;BYMONTH=3;BYDAY=-1SU
END:DAYLIGHT
BEGIN:STANDARD
TZNAME:CET
TZOFFSETFROM:+0200
TZOFFSETTO:+0100
DTSTART:19961027T030000
RRULE:FREQ=YEARLY;BYMONTH=10;BYDAY=-1SU
END:STANDARD
END:VTIMEZONE
BEGIN:VEVENT
DTSTAMP:20260423T232649Z
DTSTART;TZID=Europe/Berlin:20251129T090000
DTEND;TZID=Europe/Berlin:20251129T093000
SUMMARY:Regionsliga gFJ A Radeberger SV II vs Radeberger SV (14015)
UID:052a39f8-e6b7-4cd3-a431-1565d20470c8
STATUS:CONFIRMED
DESCRIPTION:Regionsliga  gFJ Staffel A\nBegegnungs-Nr: 14015\nHeim: Radeberger SV II\nGast: Radeberger SV\nHalle: 3-Feld-Halle-BSZ Radeberg (34209)\nAdresse: Robert-Blum-Weg 5\, 01454 Radeberg\n
LOCATION:3-Feld-Halle-BSZ Radeberg (34209): Robert-Blum-Weg 5\, 01454 Radeberg
CATEGORIES:Saison 2025/26
END:VEVENT
BEGIN:VEVENT
DTSTAMP:20260423T232649Z
DTSTART;TZID=Europe/Berlin:20251206T100000
DTEND;TZID=Europe/Berlin:20251206T103000
SUMMARY:Regionsliga gFJ A Radeberger SV II vs HSV 1923 Pulsnitz (14002)
UID:d1d5560a-cb5e-46a7-8295-2360142b9f26
STATUS:CONFIRMED
DESCRIPTION:Regionsliga  gFJ Staffel A\nBegegnungs-Nr: 14002\nHeim: Radeberger SV II\nGast: HSV 1923 Pulsnitz\nHalle: 3-Feld-Halle-BSZ Radeberg (34209)\nAdresse: Robert-Blum-Weg 5\, 01454 Radeberg\n
LOCATION:3-Feld-Halle-BSZ Radeberg (34209): Robert-Blum-Weg 5\, 01454 Radeberg
CATEGORIES:Saison 2025/26
END:VEVENT
BEGIN:VEVENT
DTSTAMP:20260423T232649Z
DTSTART;TZID=Europe/Berlin:20260314T113000
DTEND;TZID=Europe/Berlin:20260314T120000
SUMMARY:Regionsliga gFJ A Radeberger SV II vs LHV Hoyerswerda (14042)
UID:cba7751f-e235-40d7-994f-262243fac63f
STATUS:CONFIRMED
LAST-MODIFIED:20260310T131135Z
DESCRIPTION:Regionsliga  gFJ Staffel A\nBegegnungs-Nr: 14042\nHeim: Radeberger SV II\nGast: LHV Hoyerswerda\nHalle: 3-Feld-Halle-BSZ Radeberg (34209)\nAdresse: Robert-Blum-Weg 5\, 01454 Radeberg\n
LOCATION:3-Feld-Halle-BSZ Radeberg (34209): Robert-Blum-Weg 5\, 01454 Radeberg
CATEGORIES:Saison 2025/26
END:VEVENT
BEGIN:VEVENT
DTSTAMP:20260423T232649Z
DTSTART;TZID=Europe/Berlin:20260314T090000
DTEND;TZID=Europe/Berlin:20260314T093000
SUMMARY:Regionsliga gFJ A Radeberger SV II vs HC Rödertal  (14039)
UID:2d6e9c26-fd0e-40df-890e-9f667152e035
STATUS:CONFIRMED
LAST-MODIFIED:20260310T130405Z
DESCRIPTION:Regionsliga  gFJ Staffel A\nBegegnungs-Nr: 14039\nHeim: Radeberger SV II\nGast: HC Rödertal \nHalle: 3-Feld-Halle-BSZ Radeberg (34209)\nAdresse: Robert-Blum-Weg 5\, 01454 Radeberg\n
LOCATION:3-Feld-Halle-BSZ Radeberg (34209): Robert-Blum-Weg 5\, 01454 Radeberg
CATEGORIES:Saison 2025/26
END:VEVENT
BEGIN:VEVENT
DTSTAMP:20260423T232649Z
DTSTART;TZID=Europe/Berlin:20260308T113000
DTEND;TZID=Europe/Berlin:20260308T120000
SUMMARY:Regionsliga gFJ A Radeberger SV II vs HVH Kamenz (14028)
UID:80adede8-4cb7-4d5b-be63-86a9b094bb34
STATUS:CONFIRMED
LAST-MODIFIED:20260130T123905Z
DESCRIPTION:Regionsliga  gFJ Staffel A\nBegegnungs-Nr: 14028\nHeim: Radeberger SV II\nGast: HVH Kamenz\nHalle: SH Albert-Schweitzer-Gymnasium Kamenz (34204)\nAdresse: Am Flugplatz\, 01917 Kamenz\, Parkplatz - Macherstraße 142\n
LOCATION:SH Albert-Schweitzer-Gymnasium Kamenz (34204): Am Flugplatz\, 01917 Kamenz\, Parkplatz - Macherstraße 142
CATEGORIES:Saison 2025/26
END:VEVENT
BEGIN:VEVENT
DTSTAMP:20260423T232649Z
DTSTART;TZID=Europe/Berlin:20260308T095000
DTEND;TZID=Europe/Berlin:20260308T102000
SUMMARY:Regionsliga gFJ A Radeberger SV II vs SV Lok Königsbrück  (14026)
UID:60fc6c92-21ee-4150-af17-299637256f0c
STATUS:CONFIRMED
LAST-MODIFIED:20260130T123558Z
DESCRIPTION:Regionsliga  gFJ Staffel A\nBegegnungs-Nr: 14026\nHeim: Radeberger SV II\nGast: SV Lok Königsbrück \nHalle: SH Albert-Schweitzer-Gymnasium Kamenz (34204)\nAdresse: Am Flugplatz\, 01917 Kamenz\, Parkplatz - Macherstraße 142\n
LOCATION:SH Albert-Schweitzer-Gymnasium Kamenz (34204): Am Flugplatz\, 01917 Kamenz\, Parkplatz - Macherstraße 142
CATEGORIES:Saison 2025/26
END:VEVENT
BEGIN:VEVENT
DTSTAMP:20260423T232649Z
DTSTART;TZID=Europe/Berlin:20251129T104000
DTEND;TZID=Europe/Berlin:20251129T111000
SUMMARY:Regionsliga gFJ A HVH Kamenz vs Radeberger SV II (14017)
UID:2aa16ce8-9ffb-44d6-ae2c-e968912ab536
STATUS:CONFIRMED
DESCRIPTION:Regionsliga  gFJ Staffel A\nBegegnungs-Nr: 14017\nHeim: HVH Kamenz\nGast: Radeberger SV II\nHalle: 3-Feld-Halle-BSZ Radeberg (34209)\nAdresse: Robert-Blum-Weg 5\, 01454 Radeberg\n
LOCATION:3-Feld-Halle-BSZ Radeberg (34209): Robert-Blum-Weg 5\, 01454 Radeberg
CATEGORIES:Saison 2025/26
END:VEVENT
BEGIN:VEVENT
DTSTAMP:20260423T232649Z
DTSTART;TZID=Europe/Berlin:20251109T113000
DTEND;TZID=Europe/Berlin:20251109T120000
SUMMARY:Regionsliga gFJ A HC Rödertal  vs Radeberger SV II (14014)
UID:7d290dc5-5898-4f43-8c52-9ea9e1d838d7
STATUS:CONFIRMED
LAST-MODIFIED:20260126T185921Z
DESCRIPTION:Regionsliga  gFJ Staffel A\nBegegnungs-Nr: 14014\nHeim: HC Rödertal \nGast: Radeberger SV II\nHalle: 3-Feld-Halle-GY Großröhrsdorf (34514)\nAdresse: Melanchthonstraße 21\, 01900  Großröhrsdorf\n
LOCATION:3-Feld-Halle-GY Großröhrsdorf (34514): Melanchthonstraße 21\, 01900  Großröhrsdorf
CATEGORIES:Saison 2025/26
END:VEVENT
BEGIN:VEVENT
DTSTAMP:20260423T232649Z
DTSTART;TZID=Europe/Berlin:20251109T095000
DTEND;TZID=Europe/Berlin:20251109T102000
SUMMARY:Regionsliga gFJ A LHV Hoyerswerda vs Radeberger SV II (14012)
UID:8501f15c-b40d-47e5-9d94-8a5b4522f94b
STATUS:CONFIRMED
LAST-MODIFIED:20260126T185645Z
DESCRIPTION:Regionsliga  gFJ Staffel A\nBegegnungs-Nr: 14012\nHeim: LHV Hoyerswerda\nGast: Radeberger SV II\nHalle: 3-Feld-Halle-GY Großröhrsdorf (34514)\nAdresse: Melanchthonstraße 21\, 01900  Großröhrsdorf\n
LOCATION:3-Feld-Halle-GY Großröhrsdorf (34514): Melanchthonstraße 21\, 01900  Großröhrsdorf
CATEGORIES:Saison 2025/26
END:VEVENT
BEGIN:VEVENT
DTSTAMP:20260423T232649Z
DTSTART;TZID=Europe/Berlin:20251206T090000
DTEND;TZID=Europe/Berlin:20251206T093000
SUMMARY:Regionsliga gFJ A Radeberger SV vs Radeberger SV II (14001)
UID:9e5afa6f-a13f-4e54-8bd3-478f5dd3a1f9
STATUS:CONFIRMED
DESCRIPTION:Regionsliga  gFJ Staffel A\nBegegnungs-Nr: 14001\nHeim: Radeberger SV\nGast: Radeberger SV II\nHalle: 3-Feld-Halle-BSZ Radeberg (34209)\nAdresse: Robert-Blum-Weg 5\, 01454 Radeberg\n
LOCATION:3-Feld-Halle-BSZ Radeberg (34209): Robert-Blum-Weg 5\, 01454 Radeberg
CATEGORIES:Saison 2025/26
END:VEVENT
BEGIN:VEVENT
DTSTAMP:20260423T232649Z
DTSTART;TZID=Europe/Berlin:20260201T130000
DTEND;TZID=Europe/Berlin:20260201T133000
SUMMARY:Regionsliga gFJ A HSV 1923 Pulsnitz vs Radeberger SV II (14035)
UID:b0805c64-3af2-4c02-97b1-09f809290425
STATUS:CONFIRMED
DESCRIPTION:Regionsliga  gFJ Staffel A\nBegegnungs-Nr: 14035\nHeim: HSV 1923 Pulsnitz\nGast: Radeberger SV II\nHalle: Sportkomplex Pulsnitz (34208)\nAdresse: Hempelstr. 8\, 01896 Pulsnitz\n
LOCATION:Sportkomplex Pulsnitz (34208): Hempelstr. 8\, 01896 Pulsnitz
CATEGORIES:Saison 2025/26
END:VEVENT
BEGIN:VEVENT
DTSTAMP:20260423T232649Z
DTSTART;TZID=Europe/Berlin:20260201T112000
DTEND;TZID=Europe/Berlin:20260201T115000
SUMMARY:Regionsliga gFJ A SV Lok Königsbrück  vs Radeberger SV II (14033)
UID:a1047b07-692f-4504-be3c-561ad06d4adc
STATUS:CONFIRMED
DESCRIPTION:Regionsliga  gFJ Staffel A\nBegegnungs-Nr: 14033\nHeim: SV Lok Königsbrück \nGast: Radeberger SV II\nHalle: Sportkomplex Pulsnitz (34208)\nAdresse: Hempelstr. 8\, 01896 Pulsnitz\n
LOCATION:Sportkomplex Pulsnitz (34208): Hempelstr. 8\, 01896 Pulsnitz
CATEGORIES:Saison 2025/26
END:VEVENT
END:VCALENDAR
