BEGIN:VCALENDAR
PRODID:-//nuDatenautomaten//framework iCal4j //DE
VERSION:2.0
CALSCALE:GREGORIAN
BEGIN:VTIMEZONE
TZID:Europe/Berlin
LAST-MODIFIED:20260306T231828Z
TZURL:https://www.tzurl.org/zoneinfo/Europe/Berlin
X-LIC-LOCATION:Europe/Berlin
X-PROLEPTIC-TZNAME:LMT
BEGIN:STANDARD
TZNAME:CET
TZOFFSETFROM:+005328
TZOFFSETTO:+0100
DTSTART:18930401T000000
END:STANDARD
BEGIN:DAYLIGHT
TZNAME:CEST
TZOFFSETFROM:+0100
TZOFFSETTO:+0200
DTSTART:19160430T230000
RDATE:19400401T020000
RDATE:19430329T020000
RDATE:19460414T020000
RDATE:19470406T030000
RDATE:19480418T020000
RDATE:19490410T020000
RDATE:19800406T020000
END:DAYLIGHT
BEGIN:STANDARD
TZNAME:CET
TZOFFSETFROM:+0200
TZOFFSETTO:+0100
DTSTART:19161001T010000
RDATE:19421102T030000
RDATE:19431004T030000
RDATE:19441002T030000
RDATE:19451118T030000
RDATE:19461007T030000
END:STANDARD
BEGIN:DAYLIGHT
TZNAME:CEST
TZOFFSETFROM:+0100
TZOFFSETTO:+0200
DTSTART:19170416T020000
RRULE:FREQ=YEARLY;UNTIL=19180415T010000Z;BYMONTH=4;BYDAY=3MO
END:DAYLIGHT
BEGIN:STANDARD
TZNAME:CET
TZOFFSETFROM:+0200
TZOFFSETTO:+0100
DTSTART:19170917T030000
RRULE:FREQ=YEARLY;UNTIL=19180916T010000Z;BYMONTH=9;BYDAY=3MO
END:STANDARD
BEGIN:DAYLIGHT
TZNAME:CEST
TZOFFSETFROM:+0100
TZOFFSETTO:+0200
DTSTART:19440403T020000
RRULE:FREQ=YEARLY;UNTIL=19450402T010000Z;BYMONTH=4;BYDAY=1MO
END:DAYLIGHT
BEGIN:DAYLIGHT
TZNAME:CEMT
TZOFFSETFROM:+0200
TZOFFSETTO:+0300
DTSTART:19450524T020000
RDATE:19470511T030000
END:DAYLIGHT
BEGIN:DAYLIGHT
TZNAME:CEST
TZOFFSETFROM:+0300
TZOFFSETTO:+0200
DTSTART:19450924T030000
RDATE:19470629T030000
END:DAYLIGHT
BEGIN:STANDARD
TZNAME:CET
TZOFFSETFROM:+0100
TZOFFSETTO:+0100
DTSTART:19460101T000000
RDATE:19800101T000000
END:STANDARD
BEGIN:STANDARD
TZNAME:CET
TZOFFSETFROM:+0200
TZOFFSETTO:+0100
DTSTART:19471005T030000
RRULE:FREQ=YEARLY;UNTIL=19491002T010000Z;BYMONTH=10;BYDAY=1SU
END:STANDARD
BEGIN:STANDARD
TZNAME:CET
TZOFFSETFROM:+0200
TZOFFSETTO:+0100
DTSTART:19800928T030000
RRULE:FREQ=YEARLY;UNTIL=19950924T010000Z;BYMONTH=9;BYDAY=-1SU
END:STANDARD
BEGIN:DAYLIGHT
TZNAME:CEST
TZOFFSETFROM:+0100
TZOFFSETTO:+0200
DTSTART:19810329T020000
RRULE:FREQ=YEARLY;BYMONTH=3;BYDAY=-1SU
END:DAYLIGHT
BEGIN:STANDARD
TZNAME:CET
TZOFFSETFROM:+0200
TZOFFSETTO:+0100
DTSTART:19961027T030000
RRULE:FREQ=YEARLY;BYMONTH=10;BYDAY=-1SU
END:STANDARD
END:VTIMEZONE
BEGIN:VEVENT
DTSTAMP:20260423T185553Z
DTSTART;TZID=Europe/Berlin:20260110T190000
DTEND;TZID=Europe/Berlin:20260110T203000
SUMMARY:2. Regionsklasse Leipzig SG MoGoNo Leipzig III vs Roter Stern Leipzig II (14016)
UID:b034e102-d7ec-49a0-ba95-41274235baec
STATUS:CONFIRMED
LAST-MODIFIED:20260131T112713Z
DESCRIPTION:2. Regionsklasse Leipzig\nBegegnungs-Nr: 14016\nHeim: SG MoGoNo Leipzig III\nGast: Roter Stern Leipzig II\nHalle: SH Kästner-Grundschule Leipzig (31131)\nAdresse: Erfurter Str\, 04155 Leipzig\n
LOCATION:SH Kästner-Grundschule Leipzig (31131): Erfurter Str\, 04155 Leipzig
CATEGORIES:Saison 2025/26
END:VEVENT
BEGIN:VEVENT
DTSTAMP:20260423T185553Z
DTSTART;TZID=Europe/Berlin:20251122T190000
DTEND;TZID=Europe/Berlin:20251122T203000
SUMMARY:2. Regionsklasse Leipzig SG MoGoNo Leipzig III vs TuS Leipzig-Mockau (14013)
UID:787b5922-c9cd-4d7c-8a72-928fe52051e4
STATUS:CONFIRMED
LAST-MODIFIED:20251125T163116Z
DESCRIPTION:2. Regionsklasse Leipzig\nBegegnungs-Nr: 14013\nHeim: SG MoGoNo Leipzig III\nGast: TuS Leipzig-Mockau\nHalle: SH Kästner-Grundschule Leipzig (31131)\nAdresse: Erfurter Str\, 04155 Leipzig\n
LOCATION:SH Kästner-Grundschule Leipzig (31131): Erfurter Str\, 04155 Leipzig
CATEGORIES:Saison 2025/26
END:VEVENT
BEGIN:VEVENT
DTSTAMP:20260423T185553Z
DTSTART;TZID=Europe/Berlin:20250907T130000
DTEND;TZID=Europe/Berlin:20250907T143000
SUMMARY:2. Regionsklasse Leipzig SG MoGoNo Leipzig III vs Roter Stern Leipzig III (14002)
UID:719b5600-1bdf-459e-963d-0481f3346698
STATUS:CONFIRMED
LAST-MODIFIED:20250908T142153Z
DESCRIPTION:2. Regionsklasse Leipzig\nBegegnungs-Nr: 14002\nHeim: SG MoGoNo Leipzig III\nGast: Roter Stern Leipzig III\nHalle: SH Kästner-Grundschule Leipzig (31131)\nAdresse: Erfurter Str\, 04155 Leipzig\n
LOCATION:SH Kästner-Grundschule Leipzig (31131): Erfurter Str\, 04155 Leipzig
CATEGORIES:Saison 2025/26
END:VEVENT
BEGIN:VEVENT
DTSTAMP:20260423T185553Z
DTSTART;TZID=Europe/Berlin:20260418T150000
DTEND;TZID=Europe/Berlin:20260418T163000
SUMMARY:2. Regionsklasse Leipzig SG MoGoNo Leipzig III vs Leipziger SV Südwest II (14029)
UID:b826eef2-b9b9-4383-9f6e-81dcbf126134
STATUS:CONFIRMED
DESCRIPTION:2. Regionsklasse Leipzig\nBegegnungs-Nr: 14029\nHeim: SG MoGoNo Leipzig III\nGast: Leipziger SV Südwest II\nHalle: SH Kästner-Grundschule Leipzig (31131)\nAdresse: Erfurter Str\, 04155 Leipzig\n
LOCATION:SH Kästner-Grundschule Leipzig (31131): Erfurter Str\, 04155 Leipzig
CATEGORIES:Saison 2025/26
END:VEVENT
BEGIN:VEVENT
DTSTAMP:20260423T185553Z
DTSTART;TZID=Europe/Berlin:20260321T190000
DTEND;TZID=Europe/Berlin:20260321T203000
SUMMARY:2. Regionsklasse Leipzig SG MoGoNo Leipzig III vs TSG 1861 Taucha II (14026)
UID:0787b15d-315f-4f3d-a5d1-412d0b127053
STATUS:CONFIRMED
LAST-MODIFIED:20260326T161205Z
DESCRIPTION:2. Regionsklasse Leipzig\nBegegnungs-Nr: 14026\nHeim: SG MoGoNo Leipzig III\nGast: TSG 1861 Taucha II\nHalle: SH Kästner-Grundschule Leipzig (31131)\nAdresse: Erfurter Str\, 04155 Leipzig\n
LOCATION:SH Kästner-Grundschule Leipzig (31131): Erfurter Str\, 04155 Leipzig
CATEGORIES:Saison 2025/26
END:VEVENT
BEGIN:VEVENT
DTSTAMP:20260423T185553Z
DTSTART;TZID=Europe/Berlin:20260117T110000
DTEND;TZID=Europe/Berlin:20260117T123000
SUMMARY:2. Regionsklasse Leipzig Roter Stern Leipzig III vs SG MoGoNo Leipzig III (14017)
UID:b7c71cca-47c5-4d95-83eb-ef783a93c4bc
STATUS:CONFIRMED
LAST-MODIFIED:20260131T112814Z
DESCRIPTION:2. Regionsklasse Leipzig\nBegegnungs-Nr: 14017\nHeim: Roter Stern Leipzig III\nGast: SG MoGoNo Leipzig III\nHalle: SH Ostwald Gymnasium Leipzig-Lößnig (31105)\nAdresse: Willi-Bredel-Str. 13\, 04279 Leipzig\n
LOCATION:SH Ostwald Gymnasium Leipzig-Lößnig (31105): Willi-Bredel-Str. 13\, 04279 Leipzig
CATEGORIES:Saison 2025/26
END:VEVENT
BEGIN:VEVENT
DTSTAMP:20260423T185553Z
DTSTART;TZID=Europe/Berlin:20251130T120000
DTEND;TZID=Europe/Berlin:20251130T133000
SUMMARY:2. Regionsklasse Leipzig Leipziger SV Südwest II vs SG MoGoNo Leipzig III (14014)
UID:465a5187-baeb-4907-81fa-b1bd749d77f3
STATUS:CONFIRMED
LAST-MODIFIED:20251202T121313Z
DESCRIPTION:2. Regionsklasse Leipzig\nBegegnungs-Nr: 14014\nHeim: Leipziger SV Südwest II\nGast: SG MoGoNo Leipzig III\nHalle: SH An der Radrennbahn Leipzig (31128)\nAdresse: Windorfer Straße 63\, 04229 Leipzig\n
LOCATION:SH An der Radrennbahn Leipzig (31128): Windorfer Straße 63\, 04229 Leipzig
CATEGORIES:Saison 2025/26
END:VEVENT
BEGIN:VEVENT
DTSTAMP:20260423T185553Z
DTSTART;TZID=Europe/Berlin:20251109T173000
DTEND;TZID=Europe/Berlin:20251109T190000
SUMMARY:2. Regionsklasse Leipzig TSG 1861 Taucha II vs SG MoGoNo Leipzig III (14011)
UID:fde4da00-5763-4d70-abb8-41a03b72f9d3
STATUS:CONFIRMED
LAST-MODIFIED:20251110T144538Z
DESCRIPTION:2. Regionsklasse Leipzig\nBegegnungs-Nr: 14011\nHeim: TSG 1861 Taucha II\nGast: SG MoGoNo Leipzig III\nHalle: Mehrzweckhalle Taucha (31112)\nAdresse: Geschwister-Scholl-Str. 6\, 04425 Taucha\n
LOCATION:Mehrzweckhalle Taucha (31112): Geschwister-Scholl-Str. 6\, 04425 Taucha
CATEGORIES:Saison 2025/26
END:VEVENT
BEGIN:VEVENT
DTSTAMP:20260423T185553Z
DTSTART;TZID=Europe/Berlin:20250830T174500
DTEND;TZID=Europe/Berlin:20250830T191500
SUMMARY:2. Regionsklasse Leipzig Roter Stern Leipzig II vs SG MoGoNo Leipzig III (14001)
UID:722cda70-3fa2-41d1-a258-1ba3c074f0e4
STATUS:CONFIRMED
LAST-MODIFIED:20250903T134618Z
DESCRIPTION:2. Regionsklasse Leipzig\nBegegnungs-Nr: 14001\nHeim: Roter Stern Leipzig II\nGast: SG MoGoNo Leipzig III\nHalle: SH Ostwald Gymnasium Leipzig-Lößnig (31105)\nAdresse: Willi-Bredel-Str. 13\, 04279 Leipzig\n
LOCATION:SH Ostwald Gymnasium Leipzig-Lößnig (31105): Willi-Bredel-Str. 13\, 04279 Leipzig
CATEGORIES:Saison 2025/26
END:VEVENT
BEGIN:VEVENT
DTSTAMP:20260423T185553Z
DTSTART;TZID=Europe/Berlin:20260328T173000
DTEND;TZID=Europe/Berlin:20260328T190000
SUMMARY:2. Regionsklasse Leipzig TuS Leipzig-Mockau vs SG MoGoNo Leipzig III (14027)
UID:da037113-1832-4bdd-84e1-08632922e59b
STATUS:CONFIRMED
LAST-MODIFIED:20260410T062100Z
DESCRIPTION:2. Regionsklasse Leipzig\nBegegnungs-Nr: 14027\nHeim: TuS Leipzig-Mockau\nGast: SG MoGoNo Leipzig III\nHalle: Sporthalle Marie-Curie-Gymnasium Wiederitzsch (31137)\nAdresse: Messeallee 19\, 04158 Leipzig (OT Wiederitzsch)\n
LOCATION:Sporthalle Marie-Curie-Gymnasium Wiederitzsch (31137): Messeallee 19\, 04158 Leipzig (OT Wiederitzsch)
CATEGORIES:Saison 2025/26
END:VEVENT
END:VCALENDAR
