BEGIN:VCALENDAR
PRODID:-//nuDatenautomaten//framework iCal4j //DE
VERSION:2.0
CALSCALE:GREGORIAN
BEGIN:VTIMEZONE
TZID:Europe/Berlin
LAST-MODIFIED:20260306T231828Z
TZURL:https://www.tzurl.org/zoneinfo/Europe/Berlin
X-LIC-LOCATION:Europe/Berlin
X-PROLEPTIC-TZNAME:LMT
BEGIN:STANDARD
TZNAME:CET
TZOFFSETFROM:+005328
TZOFFSETTO:+0100
DTSTART:18930401T000000
END:STANDARD
BEGIN:DAYLIGHT
TZNAME:CEST
TZOFFSETFROM:+0100
TZOFFSETTO:+0200
DTSTART:19160430T230000
RDATE:19400401T020000
RDATE:19430329T020000
RDATE:19460414T020000
RDATE:19470406T030000
RDATE:19480418T020000
RDATE:19490410T020000
RDATE:19800406T020000
END:DAYLIGHT
BEGIN:STANDARD
TZNAME:CET
TZOFFSETFROM:+0200
TZOFFSETTO:+0100
DTSTART:19161001T010000
RDATE:19421102T030000
RDATE:19431004T030000
RDATE:19441002T030000
RDATE:19451118T030000
RDATE:19461007T030000
END:STANDARD
BEGIN:DAYLIGHT
TZNAME:CEST
TZOFFSETFROM:+0100
TZOFFSETTO:+0200
DTSTART:19170416T020000
RRULE:FREQ=YEARLY;UNTIL=19180415T010000Z;BYMONTH=4;BYDAY=3MO
END:DAYLIGHT
BEGIN:STANDARD
TZNAME:CET
TZOFFSETFROM:+0200
TZOFFSETTO:+0100
DTSTART:19170917T030000
RRULE:FREQ=YEARLY;UNTIL=19180916T010000Z;BYMONTH=9;BYDAY=3MO
END:STANDARD
BEGIN:DAYLIGHT
TZNAME:CEST
TZOFFSETFROM:+0100
TZOFFSETTO:+0200
DTSTART:19440403T020000
RRULE:FREQ=YEARLY;UNTIL=19450402T010000Z;BYMONTH=4;BYDAY=1MO
END:DAYLIGHT
BEGIN:DAYLIGHT
TZNAME:CEMT
TZOFFSETFROM:+0200
TZOFFSETTO:+0300
DTSTART:19450524T020000
RDATE:19470511T030000
END:DAYLIGHT
BEGIN:DAYLIGHT
TZNAME:CEST
TZOFFSETFROM:+0300
TZOFFSETTO:+0200
DTSTART:19450924T030000
RDATE:19470629T030000
END:DAYLIGHT
BEGIN:STANDARD
TZNAME:CET
TZOFFSETFROM:+0100
TZOFFSETTO:+0100
DTSTART:19460101T000000
RDATE:19800101T000000
END:STANDARD
BEGIN:STANDARD
TZNAME:CET
TZOFFSETFROM:+0200
TZOFFSETTO:+0100
DTSTART:19471005T030000
RRULE:FREQ=YEARLY;UNTIL=19491002T010000Z;BYMONTH=10;BYDAY=1SU
END:STANDARD
BEGIN:STANDARD
TZNAME:CET
TZOFFSETFROM:+0200
TZOFFSETTO:+0100
DTSTART:19800928T030000
RRULE:FREQ=YEARLY;UNTIL=19950924T010000Z;BYMONTH=9;BYDAY=-1SU
END:STANDARD
BEGIN:DAYLIGHT
TZNAME:CEST
TZOFFSETFROM:+0100
TZOFFSETTO:+0200
DTSTART:19810329T020000
RRULE:FREQ=YEARLY;BYMONTH=3;BYDAY=-1SU
END:DAYLIGHT
BEGIN:STANDARD
TZNAME:CET
TZOFFSETFROM:+0200
TZOFFSETTO:+0100
DTSTART:19961027T030000
RRULE:FREQ=YEARLY;BYMONTH=10;BYDAY=-1SU
END:STANDARD
END:VTIMEZONE
BEGIN:VEVENT
DTSTAMP:20260419T222440Z
DTSTART;TZID=Europe/Berlin:20250927T140000
DTEND;TZID=Europe/Berlin:20250927T153000
SUMMARY:Regionsliga Leipzig HV Böhlen vs TSG 1861 Taucha (22021)
UID:d26efd60-094e-4887-bfcd-afeea19ef68f
STATUS:CONFIRMED
LAST-MODIFIED:20250930T080441Z
DESCRIPTION:Regionsliga Leipzig\nBegegnungs-Nr: 22021\nHeim: HV Böhlen\nGast: TSG 1861 Taucha\nHalle: SH Oberschule Böhlen (31411)\nAdresse: Lessingstraße 1\, 04564 Böhlen\n
LOCATION:SH Oberschule Böhlen (31411): Lessingstraße 1\, 04564 Böhlen
CATEGORIES:Saison 2025/26
END:VEVENT
BEGIN:VEVENT
DTSTAMP:20260419T222440Z
DTSTART;TZID=Europe/Berlin:20260228T140000
DTEND;TZID=Europe/Berlin:20260228T153000
SUMMARY:Regionsliga Leipzig HV Böhlen vs TuS Leipzig-Mockau III (22081)
UID:be087321-25e4-41cb-811a-95a2cfc1225e
STATUS:CONFIRMED
LAST-MODIFIED:20260316T080020Z
DESCRIPTION:Regionsliga Leipzig\nBegegnungs-Nr: 22081\nHeim: HV Böhlen\nGast: TuS Leipzig-Mockau III\nHalle: SH Oberschule Böhlen (31411)\nAdresse: Lessingstraße 1\, 04564 Böhlen\n
LOCATION:SH Oberschule Böhlen (31411): Lessingstraße 1\, 04564 Böhlen
CATEGORIES:Saison 2025/26
END:VEVENT
BEGIN:VEVENT
DTSTAMP:20260419T222440Z
DTSTART;TZID=Europe/Berlin:20260425T160000
DTEND;TZID=Europe/Berlin:20260425T173000
SUMMARY:Regionsliga Leipzig HV Böhlen vs SV Lok Leipzig-M. (22107)
UID:3a04c9a0-1895-4b91-9261-c527bd9e1fb9
STATUS:CONFIRMED
DESCRIPTION:Regionsliga Leipzig\nBegegnungs-Nr: 22107\nHeim: HV Böhlen\nGast: SV Lok Leipzig-M.\nHalle: SH Oberschule Böhlen (31411)\nAdresse: Lessingstraße 1\, 04564 Böhlen\n
LOCATION:SH Oberschule Böhlen (31411): Lessingstraße 1\, 04564 Böhlen
CATEGORIES:Saison 2025/26
END:VEVENT
BEGIN:VEVENT
DTSTAMP:20260419T222440Z
DTSTART;TZID=Europe/Berlin:20260307T140000
DTEND;TZID=Europe/Berlin:20260307T153000
SUMMARY:Regionsliga Leipzig HV Böhlen vs VfL Waldheim 54 (22087)
UID:4f5868f1-ce5f-4c41-b1c2-819bd0c80664
STATUS:CONFIRMED
LAST-MODIFIED:20260309T140740Z
DESCRIPTION:Regionsliga Leipzig\nBegegnungs-Nr: 22087\nHeim: HV Böhlen\nGast: VfL Waldheim 54\nHalle: SH Oberschule Böhlen (31411)\nAdresse: Lessingstraße 1\, 04564 Böhlen\n
LOCATION:SH Oberschule Böhlen (31411): Lessingstraße 1\, 04564 Böhlen
CATEGORIES:Saison 2025/26
END:VEVENT
BEGIN:VEVENT
DTSTAMP:20260419T222440Z
DTSTART;TZID=Europe/Berlin:20260131T140000
DTEND;TZID=Europe/Berlin:20260131T153000
SUMMARY:Regionsliga Leipzig HV Böhlen vs SV Leisnig 90 (22073)
UID:ce84ffc5-f480-4242-b474-dabfaa4b82ac
STATUS:CONFIRMED
LAST-MODIFIED:20260202T150648Z
DESCRIPTION:Regionsliga Leipzig\nBegegnungs-Nr: 22073\nHeim: HV Böhlen\nGast: SV Leisnig 90\nHalle: SH Oberschule Böhlen (31411)\nAdresse: Lessingstraße 1\, 04564 Böhlen\n
LOCATION:SH Oberschule Böhlen (31411): Lessingstraße 1\, 04564 Böhlen
CATEGORIES:Saison 2025/26
END:VEVENT
BEGIN:VEVENT
DTSTAMP:20260419T222440Z
DTSTART;TZID=Europe/Berlin:20260328T140000
DTEND;TZID=Europe/Berlin:20260328T153000
SUMMARY:Regionsliga Leipzig HV Böhlen vs Roter Stern Leipzig II (22096)
UID:c9a0ed8d-cb13-456e-b96e-25d2ec1b6b54
STATUS:CONFIRMED
LAST-MODIFIED:20260401T102605Z
DESCRIPTION:Regionsliga Leipzig\nBegegnungs-Nr: 22096\nHeim: HV Böhlen\nGast: Roter Stern Leipzig II\nHalle: SH Oberschule Böhlen (31411)\nAdresse: Lessingstraße 1\, 04564 Böhlen\n
LOCATION:SH Oberschule Böhlen (31411): Lessingstraße 1\, 04564 Böhlen
CATEGORIES:Saison 2025/26
END:VEVENT
BEGIN:VEVENT
DTSTAMP:20260419T222440Z
DTSTART;TZID=Europe/Berlin:20260117T160000
DTEND;TZID=Europe/Berlin:20260117T173000
SUMMARY:Regionsliga Leipzig HV Böhlen vs HSV Mölkau - Die Haie  II (22063)
UID:fcdeb725-d7c7-4443-8f9b-aef7684493b1
STATUS:CONFIRMED
LAST-MODIFIED:20260119T134900Z
DESCRIPTION:Regionsliga Leipzig\nBegegnungs-Nr: 22063\nHeim: HV Böhlen\nGast: HSV Mölkau - Die Haie  II\nHalle: SH Oberschule Böhlen (31411)\nAdresse: Lessingstraße 1\, 04564 Böhlen\n
LOCATION:SH Oberschule Böhlen (31411): Lessingstraße 1\, 04564 Böhlen
CATEGORIES:Saison 2025/26
END:VEVENT
BEGIN:VEVENT
DTSTAMP:20260419T222440Z
DTSTART;TZID=Europe/Berlin:20251129T160000
DTEND;TZID=Europe/Berlin:20251129T173000
SUMMARY:Regionsliga Leipzig HV Böhlen vs SG MoGoNo Leipzig II (22049)
UID:f7317c17-dd64-4280-b20d-aa781f8d6cc9
STATUS:CONFIRMED
LAST-MODIFIED:20251201T095241Z
DESCRIPTION:Regionsliga Leipzig\nBegegnungs-Nr: 22049\nHeim: HV Böhlen\nGast: SG MoGoNo Leipzig II\nHalle: SH Oberschule Böhlen (31411)\nAdresse: Lessingstraße 1\, 04564 Böhlen\n
LOCATION:SH Oberschule Böhlen (31411): Lessingstraße 1\, 04564 Böhlen
CATEGORIES:Saison 2025/26
END:VEVENT
BEGIN:VEVENT
DTSTAMP:20260419T222440Z
DTSTART;TZID=Europe/Berlin:20251108T140000
DTEND;TZID=Europe/Berlin:20251108T153000
SUMMARY:Regionsliga Leipzig HV Böhlen vs Bornaer HV 09 (22036)
UID:fc31bcdc-427a-47cc-9e80-17f43fd742bc
STATUS:CONFIRMED
LAST-MODIFIED:20251110T083728Z
DESCRIPTION:Regionsliga Leipzig\nBegegnungs-Nr: 22036\nHeim: HV Böhlen\nGast: Bornaer HV 09\nHalle: SH Oberschule Böhlen (31411)\nAdresse: Lessingstraße 1\, 04564 Böhlen\n
LOCATION:SH Oberschule Böhlen (31411): Lessingstraße 1\, 04564 Böhlen
CATEGORIES:Saison 2025/26
END:VEVENT
BEGIN:VEVENT
DTSTAMP:20260419T222440Z
DTSTART;TZID=Europe/Berlin:20251115T160000
DTEND;TZID=Europe/Berlin:20251115T173000
SUMMARY:Regionsliga Leipzig HV Böhlen vs VfB Eilenburg II (22040)
UID:dd13e627-3bcb-40b8-b4fa-05451929b1ac
STATUS:CONFIRMED
LAST-MODIFIED:20251119T144614Z
DESCRIPTION:Regionsliga Leipzig\nBegegnungs-Nr: 22040\nHeim: HV Böhlen\nGast: VfB Eilenburg II\nHalle: SH Oberschule Böhlen (31411)\nAdresse: Lessingstraße 1\, 04564 Böhlen\n
LOCATION:SH Oberschule Böhlen (31411): Lessingstraße 1\, 04564 Böhlen
CATEGORIES:Saison 2025/26
END:VEVENT
BEGIN:VEVENT
DTSTAMP:20260419T222440Z
DTSTART;TZID=Europe/Berlin:20251025T160000
DTEND;TZID=Europe/Berlin:20251025T173000
SUMMARY:Regionsliga Leipzig TuS Leipzig-Mockau III vs HV Böhlen (22026)
UID:23225c7f-fd06-4992-b465-4592fbd0cddb
STATUS:CONFIRMED
LAST-MODIFIED:20251027T075125Z
DESCRIPTION:Regionsliga Leipzig\nBegegnungs-Nr: 22026\nHeim: TuS Leipzig-Mockau III\nGast: HV Böhlen\nHalle: Sporthalle Marie-Curie-Gymnasium Wiederitzsch (31137)\nAdresse: Messeallee 19\, 04158 Leipzig (OT Wiederitzsch)\n
LOCATION:Sporthalle Marie-Curie-Gymnasium Wiederitzsch (31137): Messeallee 19\, 04158 Leipzig (OT Wiederitzsch)
CATEGORIES:Saison 2025/26
END:VEVENT
BEGIN:VEVENT
DTSTAMP:20260419T222440Z
DTSTART;TZID=Europe/Berlin:20250920T163000
DTEND;TZID=Europe/Berlin:20250920T180000
SUMMARY:Regionsliga Leipzig SV Leisnig 90 vs HV Böhlen (22017)
UID:c6c102ce-9f16-4f72-b125-e7b376c1477c
STATUS:CONFIRMED
LAST-MODIFIED:20250922T100047Z
DESCRIPTION:Regionsliga Leipzig\nBegegnungs-Nr: 22017\nHeim: SV Leisnig 90\nGast: HV Böhlen\nHalle: SH Leisnig (31205)\nAdresse: Chemnitzer Str. 101\, 04703 Leisnig\n
LOCATION:SH Leisnig (31205): Chemnitzer Str. 101\, 04703 Leisnig
CATEGORIES:Saison 2025/26
END:VEVENT
BEGIN:VEVENT
DTSTAMP:20260419T222440Z
DTSTART;TZID=Europe/Berlin:20250906T140000
DTEND;TZID=Europe/Berlin:20250906T153000
SUMMARY:Regionsliga Leipzig HSV Mölkau - Die Haie  II vs HV Böhlen (22007)
UID:ba1010d4-99f9-4fb2-b25c-8007de6cfe53
STATUS:CONFIRMED
LAST-MODIFIED:20250922T141719Z
DESCRIPTION:Regionsliga Leipzig\nBegegnungs-Nr: 22007\nHeim: HSV Mölkau - Die Haie  II\nGast: HV Böhlen\nHalle: SH Oberschule Leipzig-Mölkau (31106)\nAdresse: Schulstr. 6\, 04316 Leipzig\n
LOCATION:SH Oberschule Leipzig-Mölkau (31106): Schulstr. 6\, 04316 Leipzig
CATEGORIES:Saison 2025/26
END:VEVENT
BEGIN:VEVENT
DTSTAMP:20260419T222440Z
DTSTART;TZID=Europe/Berlin:20260419T160000
DTEND;TZID=Europe/Berlin:20260419T173000
SUMMARY:Regionsliga Leipzig SG MoGoNo Leipzig II vs HV Böhlen (22105)
UID:bf207519-27d8-4850-a97d-912048e4728e
STATUS:CONFIRMED
DESCRIPTION:Regionsliga Leipzig\nBegegnungs-Nr: 22105\nHeim: SG MoGoNo Leipzig II\nGast: HV Böhlen\nHalle: SH Kästner-Grundschule Leipzig (31131)\nAdresse: Erfurter Str\, 04155 Leipzig\n
LOCATION:SH Kästner-Grundschule Leipzig (31131): Erfurter Str\, 04155 Leipzig
CATEGORIES:Saison 2025/26
END:VEVENT
BEGIN:VEVENT
DTSTAMP:20260419T222440Z
DTSTART;TZID=Europe/Berlin:20251101T140000
DTEND;TZID=Europe/Berlin:20251101T153000
SUMMARY:Regionsliga Leipzig VfL Waldheim 54 vs HV Böhlen (22032)
UID:e8ae9a72-f7a6-43ba-ae27-43a6122b49c1
STATUS:CONFIRMED
LAST-MODIFIED:20251110T083426Z
DESCRIPTION:Regionsliga Leipzig\nBegegnungs-Nr: 22032\nHeim: VfL Waldheim 54\nGast: HV Böhlen\nHalle: Stadt-SH Waldheim (31204)\nAdresse: Am Schulberg 3 (Anfahrt zum Parkplatz über die Schönberger Straße)\, 04736 Waldheim\n
LOCATION:Stadt-SH Waldheim (31204): Am Schulberg 3 (Anfahrt zum Parkplatz über die Schönberger Straße)\, 04736 Waldheim
CATEGORIES:Saison 2025/26
END:VEVENT
BEGIN:VEVENT
DTSTAMP:20260419T222440Z
DTSTART;TZID=Europe/Berlin:20260208T160000
DTEND;TZID=Europe/Berlin:20260208T173000
SUMMARY:Regionsliga Leipzig TSG 1861 Taucha vs HV Böhlen (22080)
UID:0bb9136d-cb18-4edb-9bf1-c016f988fc32
STATUS:CONFIRMED
DESCRIPTION:Regionsliga Leipzig\nBegegnungs-Nr: 22080\nHeim: TSG 1861 Taucha\nGast: HV Böhlen\nHalle: Klebendorfer Sporthalle (31119)\nAdresse: Ferdinand-Lassalle-Str. 20\, 04425 Taucha\n
LOCATION:Klebendorfer Sporthalle (31119): Ferdinand-Lassalle-Str. 20\, 04425 Taucha
CATEGORIES:Saison 2025/26
END:VEVENT
BEGIN:VEVENT
DTSTAMP:20260419T222440Z
DTSTART;TZID=Europe/Berlin:20260315T140000
DTEND;TZID=Europe/Berlin:20260315T153000
SUMMARY:Regionsliga Leipzig VfB Eilenburg II vs HV Böhlen (22070)
UID:e51a4c43-946e-4d1c-80f6-a4732b3f226b
STATUS:CONFIRMED
LAST-MODIFIED:20260316T080553Z
DESCRIPTION:Regionsliga Leipzig\nBegegnungs-Nr: 22070\nHeim: VfB Eilenburg II\nGast: HV Böhlen\nHalle: Belian-SH Eilenburg (31307)\nAdresse: Dr.-Belian-Str. 7\, 04838 Eilenburg\n
LOCATION:Belian-SH Eilenburg (31307): Dr.-Belian-Str. 7\, 04838 Eilenburg
CATEGORIES:Saison 2025/26
END:VEVENT
BEGIN:VEVENT
DTSTAMP:20260419T222440Z
DTSTART;TZID=Europe/Berlin:20260321T160000
DTEND;TZID=Europe/Berlin:20260321T173000
SUMMARY:Regionsliga Leipzig Bornaer HV 09 vs HV Böhlen (22094)
UID:ce11b49e-9034-4ba0-9bcc-38b6b809c1ed
STATUS:CONFIRMED
LAST-MODIFIED:20260401T102442Z
DESCRIPTION:Regionsliga Leipzig\nBegegnungs-Nr: 22094\nHeim: Bornaer HV 09\nGast: HV Böhlen\nHalle: SH Borna-Ost (31401)\nAdresse: Oststr. 2 \, 04552 Borna\n
LOCATION:SH Borna-Ost (31401): Oststr. 2 \, 04552 Borna
CATEGORIES:Saison 2025/26
END:VEVENT
BEGIN:VEVENT
DTSTAMP:20260419T222440Z
DTSTART;TZID=Europe/Berlin:20251206T130000
DTEND;TZID=Europe/Berlin:20251206T143000
SUMMARY:Regionsliga Leipzig SV Lok Leipzig-M. vs HV Böhlen (22051)
UID:b9952fac-d3ee-4596-8539-1131bf1f2a3f
STATUS:CONFIRMED
LAST-MODIFIED:20251208T140403Z
DESCRIPTION:Regionsliga Leipzig\nBegegnungs-Nr: 22051\nHeim: SV Lok Leipzig-M.\nGast: HV Böhlen\nHalle: SH Goethe-Gymnasium Leipzig (31138)\nAdresse: Theklaer Str. 4\, 04347 Leipzig\n
LOCATION:SH Goethe-Gymnasium Leipzig (31138): Theklaer Str. 4\, 04347 Leipzig
CATEGORIES:Saison 2025/26
END:VEVENT
BEGIN:VEVENT
DTSTAMP:20260419T222440Z
DTSTART;TZID=Europe/Berlin:20251122T153000
DTEND;TZID=Europe/Berlin:20251122T170000
SUMMARY:Regionsliga Leipzig Roter Stern Leipzig II vs HV Böhlen (22044)
UID:44d7d845-4c6f-46bb-ae24-81b2fff55ca7
STATUS:CONFIRMED
LAST-MODIFIED:20251124T123028Z
DESCRIPTION:Regionsliga Leipzig\nBegegnungs-Nr: 22044\nHeim: Roter Stern Leipzig II\nGast: HV Böhlen\nHalle: SH Ostwald Gymnasium Leipzig-Lößnig (31105)\nAdresse: Willi-Bredel-Str. 13\, 04279 Leipzig\n
LOCATION:SH Ostwald Gymnasium Leipzig-Lößnig (31105): Willi-Bredel-Str. 13\, 04279 Leipzig
CATEGORIES:Saison 2025/26
END:VEVENT
END:VCALENDAR
