BEGIN:VCALENDAR
PRODID:-//nuDatenautomaten//framework iCal4j //DE
VERSION:2.0
CALSCALE:GREGORIAN
BEGIN:VTIMEZONE
TZID:Europe/Berlin
LAST-MODIFIED:20260306T231828Z
TZURL:https://www.tzurl.org/zoneinfo/Europe/Berlin
X-LIC-LOCATION:Europe/Berlin
X-PROLEPTIC-TZNAME:LMT
BEGIN:STANDARD
TZNAME:CET
TZOFFSETFROM:+005328
TZOFFSETTO:+0100
DTSTART:18930401T000000
END:STANDARD
BEGIN:DAYLIGHT
TZNAME:CEST
TZOFFSETFROM:+0100
TZOFFSETTO:+0200
DTSTART:19160430T230000
RDATE:19400401T020000
RDATE:19430329T020000
RDATE:19460414T020000
RDATE:19470406T030000
RDATE:19480418T020000
RDATE:19490410T020000
RDATE:19800406T020000
END:DAYLIGHT
BEGIN:STANDARD
TZNAME:CET
TZOFFSETFROM:+0200
TZOFFSETTO:+0100
DTSTART:19161001T010000
RDATE:19421102T030000
RDATE:19431004T030000
RDATE:19441002T030000
RDATE:19451118T030000
RDATE:19461007T030000
END:STANDARD
BEGIN:DAYLIGHT
TZNAME:CEST
TZOFFSETFROM:+0100
TZOFFSETTO:+0200
DTSTART:19170416T020000
RRULE:FREQ=YEARLY;UNTIL=19180415T010000Z;BYMONTH=4;BYDAY=3MO
END:DAYLIGHT
BEGIN:STANDARD
TZNAME:CET
TZOFFSETFROM:+0200
TZOFFSETTO:+0100
DTSTART:19170917T030000
RRULE:FREQ=YEARLY;UNTIL=19180916T010000Z;BYMONTH=9;BYDAY=3MO
END:STANDARD
BEGIN:DAYLIGHT
TZNAME:CEST
TZOFFSETFROM:+0100
TZOFFSETTO:+0200
DTSTART:19440403T020000
RRULE:FREQ=YEARLY;UNTIL=19450402T010000Z;BYMONTH=4;BYDAY=1MO
END:DAYLIGHT
BEGIN:DAYLIGHT
TZNAME:CEMT
TZOFFSETFROM:+0200
TZOFFSETTO:+0300
DTSTART:19450524T020000
RDATE:19470511T030000
END:DAYLIGHT
BEGIN:DAYLIGHT
TZNAME:CEST
TZOFFSETFROM:+0300
TZOFFSETTO:+0200
DTSTART:19450924T030000
RDATE:19470629T030000
END:DAYLIGHT
BEGIN:STANDARD
TZNAME:CET
TZOFFSETFROM:+0100
TZOFFSETTO:+0100
DTSTART:19460101T000000
RDATE:19800101T000000
END:STANDARD
BEGIN:STANDARD
TZNAME:CET
TZOFFSETFROM:+0200
TZOFFSETTO:+0100
DTSTART:19471005T030000
RRULE:FREQ=YEARLY;UNTIL=19491002T010000Z;BYMONTH=10;BYDAY=1SU
END:STANDARD
BEGIN:STANDARD
TZNAME:CET
TZOFFSETFROM:+0200
TZOFFSETTO:+0100
DTSTART:19800928T030000
RRULE:FREQ=YEARLY;UNTIL=19950924T010000Z;BYMONTH=9;BYDAY=-1SU
END:STANDARD
BEGIN:DAYLIGHT
TZNAME:CEST
TZOFFSETFROM:+0100
TZOFFSETTO:+0200
DTSTART:19810329T020000
RRULE:FREQ=YEARLY;BYMONTH=3;BYDAY=-1SU
END:DAYLIGHT
BEGIN:STANDARD
TZNAME:CET
TZOFFSETFROM:+0200
TZOFFSETTO:+0100
DTSTART:19961027T030000
RRULE:FREQ=YEARLY;BYMONTH=10;BYDAY=-1SU
END:STANDARD
END:VTIMEZONE
BEGIN:VEVENT
DTSTAMP:20260422T002717Z
DTSTART;TZID=Europe/Berlin:20250831T144500
DTEND;TZID=Europe/Berlin:20250831T154500
SUMMARY:Regionsoberliga S-M wJC S2 HC Großenhain  vs SHV Oschatz (36003)
UID:749119b3-62e3-4d17-bfeb-866b704b48d4
STATUS:CONFIRMED
LAST-MODIFIED:20250831T185535Z
DESCRIPTION:Regionsoberliga S-M wJC Staffel 2\nBegegnungs-Nr: 36003\nHeim: HC Großenhain \nGast: SHV Oschatz\nHalle: Rödertal-SH (33205)\nAdresse: Am Marstall 4\, 01558 Großenhain\n
LOCATION:Rödertal-SH (33205): Am Marstall 4\, 01558 Großenhain
CATEGORIES:Saison 2025/26
END:VEVENT
BEGIN:VEVENT
DTSTAMP:20260422T002717Z
DTSTART;TZID=Europe/Berlin:20250913T130000
DTEND;TZID=Europe/Berlin:20250913T140000
SUMMARY:Regionsoberliga S-M wJC S2 HC Großenhain  vs Blau-Weiß Gröditz (36014)
UID:529e6b12-be64-4268-b3b4-57ee376056ee
STATUS:CONFIRMED
LAST-MODIFIED:20250914T152010Z
DESCRIPTION:Regionsoberliga S-M wJC Staffel 2\nBegegnungs-Nr: 36014\nHeim: HC Großenhain \nGast: Blau-Weiß Gröditz\nHalle: Rödertal-SH (33205)\nAdresse: Am Marstall 4\, 01558 Großenhain\n
LOCATION:Rödertal-SH (33205): Am Marstall 4\, 01558 Großenhain
CATEGORIES:Saison 2025/26
END:VEVENT
BEGIN:VEVENT
DTSTAMP:20260422T002717Z
DTSTART;TZID=Europe/Berlin:20260117T101500
DTEND;TZID=Europe/Berlin:20260117T111500
SUMMARY:Regionsoberliga S-M wJC S2 HC Großenhain  vs MSV Dresden II (36054)
UID:c11d942f-172e-48cf-b05c-03cddaabfd58
STATUS:CONFIRMED
LAST-MODIFIED:20260125T143833Z
DESCRIPTION:Regionsoberliga S-M wJC Staffel 2\nBegegnungs-Nr: 36054\nHeim: HC Großenhain \nGast: MSV Dresden II\nHalle: Rödertal-SH (33205)\nAdresse: Am Marstall 4\, 01558 Großenhain\n
LOCATION:Rödertal-SH (33205): Am Marstall 4\, 01558 Großenhain
CATEGORIES:Saison 2025/26
END:VEVENT
BEGIN:VEVENT
DTSTAMP:20260422T002717Z
DTSTART;TZID=Europe/Berlin:20251025T133000
DTEND;TZID=Europe/Berlin:20251025T143000
SUMMARY:Regionsoberliga S-M wJC S2 HC Großenhain  vs TSV 1862 Radeburg (36030)
UID:9652958e-4c63-41a1-bf40-a922b67f4790
STATUS:CONFIRMED
LAST-MODIFIED:20251029T054622Z
DESCRIPTION:Regionsoberliga S-M wJC Staffel 2\nBegegnungs-Nr: 36030\nHeim: HC Großenhain \nGast: TSV 1862 Radeburg\nHalle: Rödertal-SH (33205)\nAdresse: Am Marstall 4\, 01558 Großenhain\n
LOCATION:Rödertal-SH (33205): Am Marstall 4\, 01558 Großenhain
CATEGORIES:Saison 2025/26
END:VEVENT
BEGIN:VEVENT
DTSTAMP:20260422T002717Z
DTSTART;TZID=Europe/Berlin:20260131T100000
DTEND;TZID=Europe/Berlin:20260131T110000
SUMMARY:Regionsoberliga S-M wJC S2 HC Großenhain  vs HSG Weißeritztal II (36065)
UID:afc986ca-9107-4195-b77f-291d58f917fb
STATUS:CONFIRMED
LAST-MODIFIED:20260203T075046Z
DESCRIPTION:Regionsoberliga S-M wJC Staffel 2\nBegegnungs-Nr: 36065\nHeim: HC Großenhain \nGast: HSG Weißeritztal II\nHalle: Rödertal-SH (33205)\nAdresse: Am Marstall 4\, 01558 Großenhain\n
LOCATION:Rödertal-SH (33205): Am Marstall 4\, 01558 Großenhain
CATEGORIES:Saison 2025/26
END:VEVENT
BEGIN:VEVENT
DTSTAMP:20260422T002717Z
DTSTART;TZID=Europe/Berlin:20260308T140000
DTEND;TZID=Europe/Berlin:20260308T150000
SUMMARY:Regionsoberliga S-M wJC S2 HC Großenhain  vs HSV Weinböhla (36076)
UID:fccadb58-368d-48b9-904d-38c464928360
STATUS:CONFIRMED
LAST-MODIFIED:20260312T191348Z
DESCRIPTION:Regionsoberliga S-M wJC Staffel 2\nBegegnungs-Nr: 36076\nHeim: HC Großenhain \nGast: HSV Weinböhla\nHalle: Rödertal-SH (33205)\nAdresse: Am Marstall 4\, 01558 Großenhain\n
LOCATION:Rödertal-SH (33205): Am Marstall 4\, 01558 Großenhain
CATEGORIES:Saison 2025/26
END:VEVENT
BEGIN:VEVENT
DTSTAMP:20260422T002717Z
DTSTART;TZID=Europe/Berlin:20260111T120000
DTEND;TZID=Europe/Berlin:20260111T130000
SUMMARY:Regionsoberliga S-M wJC S2 SHV Oschatz vs HC Großenhain  (36048)
UID:88f8b03b-2a43-4f73-bd72-40cdfee00385
STATUS:CONFIRMED
LAST-MODIFIED:20260125T143815Z
DESCRIPTION:Regionsoberliga S-M wJC Staffel 2\nBegegnungs-Nr: 36048\nHeim: SHV Oschatz\nGast: HC Großenhain \nHalle: Rosental-SH Oschatz (31604)\nAdresse: Berufsschulstraße 8\, 04758 Oschatz\n
LOCATION:Rosental-SH Oschatz (31604): Berufsschulstraße 8\, 04758 Oschatz
CATEGORIES:Saison 2025/26
END:VEVENT
BEGIN:VEVENT
DTSTAMP:20260422T002717Z
DTSTART;TZID=Europe/Berlin:20250907T110000
DTEND;TZID=Europe/Berlin:20250907T120000
SUMMARY:Regionsoberliga S-M wJC S2 MSV Dresden II vs HC Großenhain  (36009)
UID:3ff64017-503a-43ee-bf49-6f1f239ba98f
STATUS:CONFIRMED
LAST-MODIFIED:20250914T151842Z
DESCRIPTION:Regionsoberliga S-M wJC Staffel 2\nBegegnungs-Nr: 36009\nHeim: MSV Dresden II\nGast: HC Großenhain \nHalle: SH 25. Grund-/Oberschule Dresden (33117)\nAdresse: Pohlandstraße 40\, 01309 Dresden\n
LOCATION:SH 25. Grund-/Oberschule Dresden (33117): Pohlandstraße 40\, 01309 Dresden
CATEGORIES:Saison 2025/26
END:VEVENT
BEGIN:VEVENT
DTSTAMP:20260422T002717Z
DTSTART;TZID=Europe/Berlin:20260322T130000
DTEND;TZID=Europe/Berlin:20260322T140000
SUMMARY:Regionsoberliga S-M wJC S2 HSG Weißeritztal II vs HC Großenhain  (36020)
UID:4a5a4dc7-55b1-4f0d-81d7-d1bb135dfba1
STATUS:CONFIRMED
LAST-MODIFIED:20260325T225905Z
DESCRIPTION:Regionsoberliga S-M wJC Staffel 2\nBegegnungs-Nr: 36020\nHeim: HSG Weißeritztal II\nGast: HC Großenhain \nHalle: Saubach-SH Wilsdruff (33208)\nAdresse: Nossener Str. 21b\, 01723 Wilsdruff\n
LOCATION:Saubach-SH Wilsdruff (33208): Nossener Str. 21b\, 01723 Wilsdruff
CATEGORIES:Saison 2025/26
END:VEVENT
BEGIN:VEVENT
DTSTAMP:20260422T002717Z
DTSTART;TZID=Europe/Berlin:20260301T100000
DTEND;TZID=Europe/Berlin:20260301T110000
SUMMARY:Regionsoberliga S-M wJC S2 Blau-Weiß Gröditz vs HC Großenhain  (36059)
UID:f40854a1-79ac-4845-b2c0-49561b24ff88
STATUS:CONFIRMED
LAST-MODIFIED:20260301T183628Z
DESCRIPTION:Regionsoberliga S-M wJC Staffel 2\nBegegnungs-Nr: 36059\nHeim: Blau-Weiß Gröditz\nGast: HC Großenhain \nHalle: Röder-Elster-Sporthalle Gröditz (33239)\nAdresse: Waldweg 3c\, 01609 Gröditz\n
LOCATION:Röder-Elster-Sporthalle Gröditz (33239): Waldweg 3c\, 01609 Gröditz
CATEGORIES:Saison 2025/26
END:VEVENT
BEGIN:VEVENT
DTSTAMP:20260422T002717Z
DTSTART;TZID=Europe/Berlin:20251102T110000
DTEND;TZID=Europe/Berlin:20251102T120000
SUMMARY:Regionsoberliga S-M wJC S2 HSV Weinböhla vs HC Großenhain  (36031)
UID:b3f1f3ff-fffc-438e-b9cd-6c152e63a696
STATUS:CONFIRMED
LAST-MODIFIED:20251106T175836Z
DESCRIPTION:Regionsoberliga S-M wJC Staffel 2\nBegegnungs-Nr: 36031\nHeim: HSV Weinböhla\nGast: HC Großenhain \nHalle: Nassau-SH Weinböhla (33224)\nAdresse: Meißner Str. 1\, 01689 Weinböhla\n
LOCATION:Nassau-SH Weinböhla (33224): Meißner Str. 1\, 01689 Weinböhla
CATEGORIES:Saison 2025/26
END:VEVENT
BEGIN:VEVENT
DTSTAMP:20260422T002717Z
DTSTART;TZID=Europe/Berlin:20260228T130000
DTEND;TZID=Europe/Berlin:20260228T140000
SUMMARY:Regionsoberliga S-M wJC S2 TSV 1862 Radeburg vs HC Großenhain  (36075)
UID:8d8fcc9e-f103-4853-b9eb-174941794a1a
STATUS:CONFIRMED
LAST-MODIFIED:20260301T183435Z
DESCRIPTION:Regionsoberliga S-M wJC Staffel 2\nBegegnungs-Nr: 36075\nHeim: TSV 1862 Radeburg\nGast: HC Großenhain \nHalle: Paul-Tiedemann-SH Radeburg (33214)\nAdresse: Meißner Berg 83c\, 01471 Radeburg\n
LOCATION:Paul-Tiedemann-SH Radeburg (33214): Meißner Berg 83c\, 01471 Radeburg
CATEGORIES:Saison 2025/26
END:VEVENT
END:VCALENDAR
