BEGIN:VCALENDAR
PRODID:-//nuDatenautomaten//framework iCal4j //DE
VERSION:2.0
CALSCALE:GREGORIAN
BEGIN:VTIMEZONE
TZID:Europe/Berlin
LAST-MODIFIED:20260306T231828Z
TZURL:https://www.tzurl.org/zoneinfo/Europe/Berlin
X-LIC-LOCATION:Europe/Berlin
X-PROLEPTIC-TZNAME:LMT
BEGIN:STANDARD
TZNAME:CET
TZOFFSETFROM:+005328
TZOFFSETTO:+0100
DTSTART:18930401T000000
END:STANDARD
BEGIN:DAYLIGHT
TZNAME:CEST
TZOFFSETFROM:+0100
TZOFFSETTO:+0200
DTSTART:19160430T230000
RDATE:19400401T020000
RDATE:19430329T020000
RDATE:19460414T020000
RDATE:19470406T030000
RDATE:19480418T020000
RDATE:19490410T020000
RDATE:19800406T020000
END:DAYLIGHT
BEGIN:STANDARD
TZNAME:CET
TZOFFSETFROM:+0200
TZOFFSETTO:+0100
DTSTART:19161001T010000
RDATE:19421102T030000
RDATE:19431004T030000
RDATE:19441002T030000
RDATE:19451118T030000
RDATE:19461007T030000
END:STANDARD
BEGIN:DAYLIGHT
TZNAME:CEST
TZOFFSETFROM:+0100
TZOFFSETTO:+0200
DTSTART:19170416T020000
RRULE:FREQ=YEARLY;UNTIL=19180415T010000Z;BYMONTH=4;BYDAY=3MO
END:DAYLIGHT
BEGIN:STANDARD
TZNAME:CET
TZOFFSETFROM:+0200
TZOFFSETTO:+0100
DTSTART:19170917T030000
RRULE:FREQ=YEARLY;UNTIL=19180916T010000Z;BYMONTH=9;BYDAY=3MO
END:STANDARD
BEGIN:DAYLIGHT
TZNAME:CEST
TZOFFSETFROM:+0100
TZOFFSETTO:+0200
DTSTART:19440403T020000
RRULE:FREQ=YEARLY;UNTIL=19450402T010000Z;BYMONTH=4;BYDAY=1MO
END:DAYLIGHT
BEGIN:DAYLIGHT
TZNAME:CEMT
TZOFFSETFROM:+0200
TZOFFSETTO:+0300
DTSTART:19450524T020000
RDATE:19470511T030000
END:DAYLIGHT
BEGIN:DAYLIGHT
TZNAME:CEST
TZOFFSETFROM:+0300
TZOFFSETTO:+0200
DTSTART:19450924T030000
RDATE:19470629T030000
END:DAYLIGHT
BEGIN:STANDARD
TZNAME:CET
TZOFFSETFROM:+0100
TZOFFSETTO:+0100
DTSTART:19460101T000000
RDATE:19800101T000000
END:STANDARD
BEGIN:STANDARD
TZNAME:CET
TZOFFSETFROM:+0200
TZOFFSETTO:+0100
DTSTART:19471005T030000
RRULE:FREQ=YEARLY;UNTIL=19491002T010000Z;BYMONTH=10;BYDAY=1SU
END:STANDARD
BEGIN:STANDARD
TZNAME:CET
TZOFFSETFROM:+0200
TZOFFSETTO:+0100
DTSTART:19800928T030000
RRULE:FREQ=YEARLY;UNTIL=19950924T010000Z;BYMONTH=9;BYDAY=-1SU
END:STANDARD
BEGIN:DAYLIGHT
TZNAME:CEST
TZOFFSETFROM:+0100
TZOFFSETTO:+0200
DTSTART:19810329T020000
RRULE:FREQ=YEARLY;BYMONTH=3;BYDAY=-1SU
END:DAYLIGHT
BEGIN:STANDARD
TZNAME:CET
TZOFFSETFROM:+0200
TZOFFSETTO:+0100
DTSTART:19961027T030000
RRULE:FREQ=YEARLY;BYMONTH=10;BYDAY=-1SU
END:STANDARD
END:VTIMEZONE
BEGIN:VEVENT
DTSTAMP:20260420T195536Z
DTSTART;TZID=Europe/Berlin:20260418T150000
DTEND;TZID=Europe/Berlin:20260418T163000
SUMMARY:Verbandsliga Staffel Ost VfL Meißen II vs ESV Dresden (15122)
UID:10d35c74-f19b-4c7d-9ed3-f452f8546333
STATUS:CONFIRMED
LAST-MODIFIED:20260419T172142Z
DESCRIPTION:Verbandsliga Frauen Staffel Ost\nBegegnungs-Nr: 15122\nHeim: VfL Meißen II\nGast: ESV Dresden\nHalle: SH \"Heiliger Grund\" Meißen (33212)\nAdresse: Goethestraße 27\, 01662 Meißen\n
LOCATION:SH \"Heiliger Grund\" Meißen (33212): Goethestraße 27\, 01662 Meißen
CATEGORIES:Saison 2025/26
END:VEVENT
BEGIN:VEVENT
DTSTAMP:20260420T195536Z
DTSTART;TZID=Europe/Berlin:20260424T190000
DTEND;TZID=Europe/Berlin:20260424T203000
SUMMARY:Verbandsliga Staffel Ost VfL Meißen II vs OHC Bernstadt (15110)
UID:e0d3fa35-09dc-46c3-a5a9-b0adaa28afb3
STATUS:CONFIRMED
LAST-MODIFIED:20260414T171111Z
DESCRIPTION:Verbandsliga Frauen Staffel Ost\nBegegnungs-Nr: 15110\nHeim: VfL Meißen II\nGast: OHC Bernstadt\nHalle: SH \"Heiliger Grund\" Meißen (33212)\nAdresse: Goethestraße 27\, 01662 Meißen\n
LOCATION:SH \"Heiliger Grund\" Meißen (33212): Goethestraße 27\, 01662 Meißen
CATEGORIES:Saison 2025/26
END:VEVENT
BEGIN:VEVENT
DTSTAMP:20260420T195536Z
DTSTART;TZID=Europe/Berlin:20260412T140000
DTEND;TZID=Europe/Berlin:20260412T153000
SUMMARY:Verbandsliga Staffel Ost VfL Meißen II vs SSV Heidenau  (15098)
UID:c84b277f-3837-41d4-8dd1-40d3aadd407f
STATUS:CONFIRMED
LAST-MODIFIED:20260419T171936Z
DESCRIPTION:Verbandsliga Frauen Staffel Ost\nBegegnungs-Nr: 15098\nHeim: VfL Meißen II\nGast: SSV Heidenau \nHalle: SH BSZ Meißen (33220)\nAdresse: Goethestraße 21\, 01662 Meißen\n
LOCATION:SH BSZ Meißen (33220): Goethestraße 21\, 01662 Meißen
CATEGORIES:Saison 2025/26
END:VEVENT
BEGIN:VEVENT
DTSTAMP:20260420T195536Z
DTSTART;TZID=Europe/Berlin:20260124T191500
DTEND;TZID=Europe/Berlin:20260124T204500
SUMMARY:Verbandsliga Staffel Ost VfL Meißen II vs Radeberger SV (15080)
UID:23448917-54c1-4a64-b9bf-7f49c6ca5840
STATUS:CONFIRMED
LAST-MODIFIED:20260202T075602Z
DESCRIPTION:Verbandsliga Frauen Staffel Ost\nBegegnungs-Nr: 15080\nHeim: VfL Meißen II\nGast: Radeberger SV\nHalle: SH \"Heiliger Grund\" Meißen (33212)\nAdresse: Goethestraße 27\, 01662 Meißen\n
LOCATION:SH \"Heiliger Grund\" Meißen (33212): Goethestraße 27\, 01662 Meißen
CATEGORIES:Saison 2025/26
END:VEVENT
BEGIN:VEVENT
DTSTAMP:20260420T195536Z
DTSTART;TZID=Europe/Berlin:20260111T150000
DTEND;TZID=Europe/Berlin:20260111T163000
SUMMARY:Verbandsliga Staffel Ost VfL Meißen II vs Radebeuler HV (15068)
UID:1f81dbca-b156-4f20-a924-0c0a4c52301c
STATUS:CONFIRMED
LAST-MODIFIED:20260121T120640Z
DESCRIPTION:Verbandsliga Frauen Staffel Ost\nBegegnungs-Nr: 15068\nHeim: VfL Meißen II\nGast: Radebeuler HV\nHalle: SH \"Heiliger Grund\" Meißen (33212)\nAdresse: Goethestraße 27\, 01662 Meißen\n
LOCATION:SH \"Heiliger Grund\" Meißen (33212): Goethestraße 27\, 01662 Meißen
CATEGORIES:Saison 2025/26
END:VEVENT
BEGIN:VEVENT
DTSTAMP:20260420T195536Z
DTSTART;TZID=Europe/Berlin:20251207T150000
DTEND;TZID=Europe/Berlin:20251207T163000
SUMMARY:Verbandsliga Staffel Ost VfL Meißen II vs MSV Dresden II (15062)
UID:715eb94a-7d21-45a6-8600-7c1ef0dfc0a0
STATUS:CONFIRMED
LAST-MODIFIED:20251230T083717Z
DESCRIPTION:Verbandsliga Frauen Staffel Ost\nBegegnungs-Nr: 15062\nHeim: VfL Meißen II\nGast: MSV Dresden II\nHalle: SH \"Heiliger Grund\" Meißen (33212)\nAdresse: Goethestraße 27\, 01662 Meißen\n
LOCATION:SH \"Heiliger Grund\" Meißen (33212): Goethestraße 27\, 01662 Meißen
CATEGORIES:Saison 2025/26
END:VEVENT
BEGIN:VEVENT
DTSTAMP:20260420T195536Z
DTSTART;TZID=Europe/Berlin:20251122T170000
DTEND;TZID=Europe/Berlin:20251122T183000
SUMMARY:Verbandsliga Staffel Ost VfL Meißen II vs Görlitzer HC II (15050)
UID:883ac5e5-caf3-42f9-980b-2ff01257e72f
STATUS:CONFIRMED
LAST-MODIFIED:20251202T211758Z
DESCRIPTION:Verbandsliga Frauen Staffel Ost\nBegegnungs-Nr: 15050\nHeim: VfL Meißen II\nGast: Görlitzer HC II\nHalle: SH \"Heiliger Grund\" Meißen (33212)\nAdresse: Goethestraße 27\, 01662 Meißen\n
LOCATION:SH \"Heiliger Grund\" Meißen (33212): Goethestraße 27\, 01662 Meißen
CATEGORIES:Saison 2025/26
END:VEVENT
BEGIN:VEVENT
DTSTAMP:20260420T195536Z
DTSTART;TZID=Europe/Berlin:20251102T150000
DTEND;TZID=Europe/Berlin:20251102T163000
SUMMARY:Verbandsliga Staffel Ost VfL Meißen II vs HV Chemnitz II (15038)
UID:595032e0-ffd9-42bf-9b8b-b33bd2fa7454
STATUS:CONFIRMED
LAST-MODIFIED:20251109T111713Z
DESCRIPTION:Verbandsliga Frauen Staffel Ost\nBegegnungs-Nr: 15038\nHeim: VfL Meißen II\nGast: HV Chemnitz II\nHalle: SH \"Heiliger Grund\" Meißen (33212)\nAdresse: Goethestraße 27\, 01662 Meißen\n
LOCATION:SH \"Heiliger Grund\" Meißen (33212): Goethestraße 27\, 01662 Meißen
CATEGORIES:Saison 2025/26
END:VEVENT
BEGIN:VEVENT
DTSTAMP:20260420T195536Z
DTSTART;TZID=Europe/Berlin:20250927T170000
DTEND;TZID=Europe/Berlin:20250927T183000
SUMMARY:Verbandsliga Staffel Ost VfL Meißen II vs HCS Neustadt-S. (15026)
UID:8bb1d002-dc7a-4d14-a5fc-5333c57cd74d
STATUS:CONFIRMED
LAST-MODIFIED:20251019T104116Z
DESCRIPTION:Verbandsliga Frauen Staffel Ost\nBegegnungs-Nr: 15026\nHeim: VfL Meißen II\nGast: HCS Neustadt-S.\nHalle: SH \"Heiliger Grund\" Meißen (33212)\nAdresse: Goethestraße 27\, 01662 Meißen\n
LOCATION:SH \"Heiliger Grund\" Meißen (33212): Goethestraße 27\, 01662 Meißen
CATEGORIES:Saison 2025/26
END:VEVENT
BEGIN:VEVENT
DTSTAMP:20260420T195536Z
DTSTART;TZID=Europe/Berlin:20250921T150000
DTEND;TZID=Europe/Berlin:20250921T163000
SUMMARY:Verbandsliga Staffel Ost VfL Meißen II vs HSV 1923 Pulsnitz (15021)
UID:43ea13d6-a583-4481-8faa-cf938b4a118d
STATUS:CONFIRMED
LAST-MODIFIED:20251019T103021Z
DESCRIPTION:Verbandsliga Frauen Staffel Ost\nBegegnungs-Nr: 15021\nHeim: VfL Meißen II\nGast: HSV 1923 Pulsnitz\nHalle: SH \"Heiliger Grund\" Meißen (33212)\nAdresse: Goethestraße 27\, 01662 Meißen\n
LOCATION:SH \"Heiliger Grund\" Meißen (33212): Goethestraße 27\, 01662 Meißen
CATEGORIES:Saison 2025/26
END:VEVENT
BEGIN:VEVENT
DTSTAMP:20260420T195536Z
DTSTART;TZID=Europe/Berlin:20250907T170000
DTEND;TZID=Europe/Berlin:20250907T183000
SUMMARY:Verbandsliga Staffel Ost VfL Meißen II vs HSV Weinböhla (15007)
UID:d841e3a3-a198-4938-ba82-158237b1ece0
STATUS:CONFIRMED
LAST-MODIFIED:20250924T084713Z
DESCRIPTION:Verbandsliga Frauen Staffel Ost\nBegegnungs-Nr: 15007\nHeim: VfL Meißen II\nGast: HSV Weinböhla\nHalle: SH \"Heiliger Grund\" Meißen (33212)\nAdresse: Goethestraße 27\, 01662 Meißen\n
LOCATION:SH \"Heiliger Grund\" Meißen (33212): Goethestraße 27\, 01662 Meißen
CATEGORIES:Saison 2025/26
END:VEVENT
BEGIN:VEVENT
DTSTAMP:20260420T195536Z
DTSTART;TZID=Europe/Berlin:20260425T160000
DTEND;TZID=Europe/Berlin:20260425T173000
SUMMARY:Verbandsliga Staffel Ost MSV Dresden II vs VfL Meißen II (15128)
UID:4d4f1289-110d-44c6-ac44-210e594ff69f
STATUS:CONFIRMED
DESCRIPTION:Verbandsliga Frauen Staffel Ost\nBegegnungs-Nr: 15128\nHeim: MSV Dresden II\nGast: VfL Meißen II\nHalle: SH Bertolt-Brecht-Gymnasium Dresden (33129)\nAdresse: Thomaestraße 60\, 01307 Dresden\n
LOCATION:SH Bertolt-Brecht-Gymnasium Dresden (33129): Thomaestraße 60\, 01307 Dresden
CATEGORIES:Saison 2025/26
END:VEVENT
BEGIN:VEVENT
DTSTAMP:20260420T195536Z
DTSTART;TZID=Europe/Berlin:20260329T140000
DTEND;TZID=Europe/Berlin:20260329T153000
SUMMARY:Verbandsliga Staffel Ost Görlitzer HC II vs VfL Meißen II (15117)
UID:0601c8a4-2908-4087-888b-3ccff9873f37
STATUS:CONFIRMED
LAST-MODIFIED:20260419T173059Z
DESCRIPTION:Verbandsliga Frauen Staffel Ost\nBegegnungs-Nr: 15117\nHeim: Görlitzer HC II\nGast: VfL Meißen II\nHalle: Jahn-SH Görlitz (34302)\nAdresse: Kummerau 6\, 02826 Görlitz\n
LOCATION:Jahn-SH Görlitz (34302): Kummerau 6\, 02826 Görlitz
CATEGORIES:Saison 2025/26
END:VEVENT
BEGIN:VEVENT
DTSTAMP:20260420T195536Z
DTSTART;TZID=Europe/Berlin:20260308T160000
DTEND;TZID=Europe/Berlin:20260308T173000
SUMMARY:Verbandsliga Staffel Ost HV Chemnitz II vs VfL Meißen II (15105)
UID:aec74492-31d6-484e-af20-c2300c78a89b
STATUS:CONFIRMED
LAST-MODIFIED:20260310T093757Z
DESCRIPTION:Verbandsliga Frauen Staffel Ost\nBegegnungs-Nr: 15105\nHeim: HV Chemnitz II\nGast: VfL Meißen II\nHalle: Sachsenhalle Chemnitz (32101)\nAdresse: Straße Usti nad Labem 275\, 09119 Chemnitz\n
LOCATION:Sachsenhalle Chemnitz (32101): Straße Usti nad Labem 275\, 09119 Chemnitz
CATEGORIES:Saison 2025/26
END:VEVENT
BEGIN:VEVENT
DTSTAMP:20260420T195536Z
DTSTART;TZID=Europe/Berlin:20260208T160000
DTEND;TZID=Europe/Berlin:20260208T173000
SUMMARY:Verbandsliga Staffel Ost HCS Neustadt-S. vs VfL Meißen II (15093)
UID:a7d2aaa1-9756-49ab-a315-385614ace58c
STATUS:CONFIRMED
LAST-MODIFIED:20260213T091954Z
DESCRIPTION:Verbandsliga Frauen Staffel Ost\nBegegnungs-Nr: 15093\nHeim: HCS Neustadt-S.\nGast: VfL Meißen II\nHalle: Sportforum Neustadt (33303)\nAdresse: Maxim-Gorki-Straße 10\, 01844  Neustadt\n
LOCATION:Sportforum Neustadt (33303): Maxim-Gorki-Straße 10\, 01844  Neustadt
CATEGORIES:Saison 2025/26
END:VEVENT
BEGIN:VEVENT
DTSTAMP:20260420T195536Z
DTSTART;TZID=Europe/Berlin:20260201T140000
DTEND;TZID=Europe/Berlin:20260201T153000
SUMMARY:Verbandsliga Staffel Ost HSV 1923 Pulsnitz vs VfL Meißen II (15086)
UID:28083742-4b29-48f4-9750-9734bcc5c5f2
STATUS:CONFIRMED
LAST-MODIFIED:20260202T081252Z
DESCRIPTION:Verbandsliga Frauen Staffel Ost\nBegegnungs-Nr: 15086\nHeim: HSV 1923 Pulsnitz\nGast: VfL Meißen II\nHalle: Sportkomplex Pulsnitz (34208)\nAdresse: Hempelstr. 8\, 01896 Pulsnitz\n
LOCATION:Sportkomplex Pulsnitz (34208): Hempelstr. 8\, 01896 Pulsnitz
CATEGORIES:Saison 2025/26
END:VEVENT
BEGIN:VEVENT
DTSTAMP:20260420T195536Z
DTSTART;TZID=Europe/Berlin:20260117T170000
DTEND;TZID=Europe/Berlin:20260117T183000
SUMMARY:Verbandsliga Staffel Ost HSV Weinböhla vs VfL Meißen II (15078)
UID:f6b28b49-70ea-49bd-a597-0547efba9811
STATUS:CONFIRMED
LAST-MODIFIED:20260122T111047Z
DESCRIPTION:Verbandsliga Frauen Staffel Ost\nBegegnungs-Nr: 15078\nHeim: HSV Weinböhla\nGast: VfL Meißen II\nHalle: Nassau-SH Weinböhla (33224)\nAdresse: Meißner Str. 1\, 01689 Weinböhla\n
LOCATION:Nassau-SH Weinböhla (33224): Meißner Str. 1\, 01689 Weinböhla
CATEGORIES:Saison 2025/26
END:VEVENT
BEGIN:VEVENT
DTSTAMP:20260420T195536Z
DTSTART;TZID=Europe/Berlin:20251130T160000
DTEND;TZID=Europe/Berlin:20251130T173000
SUMMARY:Verbandsliga Staffel Ost ESV Dresden vs VfL Meißen II (15057)
UID:0deb538e-88ab-479b-8d4e-4380aabf0b25
STATUS:CONFIRMED
LAST-MODIFIED:20251204T114923Z
DESCRIPTION:Verbandsliga Frauen Staffel Ost\nBegegnungs-Nr: 15057\nHeim: ESV Dresden\nGast: VfL Meißen II\nHalle: Lok-SH Dresden (33106)\nAdresse: Emmerich-Ambros-Ufer 74\, 01159 Dresden\n
LOCATION:Lok-SH Dresden (33106): Emmerich-Ambros-Ufer 74\, 01159 Dresden
CATEGORIES:Saison 2025/26
END:VEVENT
BEGIN:VEVENT
DTSTAMP:20260420T195536Z
DTSTART;TZID=Europe/Berlin:20251108T170000
DTEND;TZID=Europe/Berlin:20251108T183000
SUMMARY:Verbandsliga Staffel Ost OHC Bernstadt vs VfL Meißen II (15045)
UID:4fcd0d91-0f87-4fb7-806f-1b11aac1f94b
STATUS:CONFIRMED
LAST-MODIFIED:20251116T221345Z
DESCRIPTION:Verbandsliga Frauen Staffel Ost\nBegegnungs-Nr: 15045\nHeim: OHC Bernstadt\nGast: VfL Meißen II\nHalle: Sporthalle \"Pließnitztal\" Bernstadt (34108)\nAdresse: Am Pließnitztal 3\, 02748 Bernstadt a.d. Eigen OT Kunnersdorf\n
LOCATION:Sporthalle \"Pließnitztal\" Bernstadt (34108): Am Pließnitztal 3\, 02748 Bernstadt a.d. Eigen OT Kunnersdorf
CATEGORIES:Saison 2025/26
END:VEVENT
BEGIN:VEVENT
DTSTAMP:20260420T195536Z
DTSTART;TZID=Europe/Berlin:20251025T170000
DTEND;TZID=Europe/Berlin:20251025T183000
SUMMARY:Verbandsliga Staffel Ost SSV Heidenau  vs VfL Meißen II (15033)
UID:a864180b-6dcb-4fa4-a5a8-8bed1650bd50
STATUS:CONFIRMED
LAST-MODIFIED:20251109T103052Z
DESCRIPTION:Verbandsliga Frauen Staffel Ost\nBegegnungs-Nr: 15033\nHeim: SSV Heidenau \nGast: VfL Meißen II\nHalle: SH Pestalozzi-Gymnasium Heidenau (33306)\nAdresse: Hauptstraße 37\, 01809 Heidenau\n
LOCATION:SH Pestalozzi-Gymnasium Heidenau (33306): Hauptstraße 37\, 01809 Heidenau
CATEGORIES:Saison 2025/26
END:VEVENT
BEGIN:VEVENT
DTSTAMP:20260420T195536Z
DTSTART;TZID=Europe/Berlin:20250913T160000
DTEND;TZID=Europe/Berlin:20250913T173000
SUMMARY:Verbandsliga Staffel Ost Radeberger SV vs VfL Meißen II (15014)
UID:079b41f4-d272-45d6-b259-d505f359da90
STATUS:CONFIRMED
LAST-MODIFIED:20250924T085010Z
DESCRIPTION:Verbandsliga Frauen Staffel Ost\nBegegnungs-Nr: 15014\nHeim: Radeberger SV\nGast: VfL Meißen II\nHalle: 3-Feld-Halle-BSZ Radeberg (34209)\nAdresse: Robert-Blum-Weg 5\, 01454 Radeberg\n
LOCATION:3-Feld-Halle-BSZ Radeberg (34209): Robert-Blum-Weg 5\, 01454 Radeberg
CATEGORIES:Saison 2025/26
END:VEVENT
BEGIN:VEVENT
DTSTAMP:20260420T195536Z
DTSTART;TZID=Europe/Berlin:20250830T160000
DTEND;TZID=Europe/Berlin:20250830T173000
SUMMARY:Verbandsliga Staffel Ost Radebeuler HV vs VfL Meißen II (15001)
UID:651de231-03f6-4eeb-8b3e-5d54b7f41402
STATUS:CONFIRMED
LAST-MODIFIED:20250912T084042Z
DESCRIPTION:Verbandsliga Frauen Staffel Ost\nBegegnungs-Nr: 15001\nHeim: Radebeuler HV\nGast: VfL Meißen II\nHalle: Lößnitz-SH Radebeul (33204)\nAdresse: Steinbachstr. 13\, 01445 Radebeul\n
LOCATION:Lößnitz-SH Radebeul (33204): Steinbachstr. 13\, 01445 Radebeul
CATEGORIES:Saison 2025/26
END:VEVENT
END:VCALENDAR
