BEGIN:VCALENDAR
PRODID:-//nuDatenautomaten//framework iCal4j //DE
VERSION:2.0
CALSCALE:GREGORIAN
BEGIN:VTIMEZONE
TZID:Europe/Berlin
LAST-MODIFIED:20260306T231828Z
TZURL:https://www.tzurl.org/zoneinfo/Europe/Berlin
X-LIC-LOCATION:Europe/Berlin
X-PROLEPTIC-TZNAME:LMT
BEGIN:STANDARD
TZNAME:CET
TZOFFSETFROM:+005328
TZOFFSETTO:+0100
DTSTART:18930401T000000
END:STANDARD
BEGIN:DAYLIGHT
TZNAME:CEST
TZOFFSETFROM:+0100
TZOFFSETTO:+0200
DTSTART:19160430T230000
RDATE:19400401T020000
RDATE:19430329T020000
RDATE:19460414T020000
RDATE:19470406T030000
RDATE:19480418T020000
RDATE:19490410T020000
RDATE:19800406T020000
END:DAYLIGHT
BEGIN:STANDARD
TZNAME:CET
TZOFFSETFROM:+0200
TZOFFSETTO:+0100
DTSTART:19161001T010000
RDATE:19421102T030000
RDATE:19431004T030000
RDATE:19441002T030000
RDATE:19451118T030000
RDATE:19461007T030000
END:STANDARD
BEGIN:DAYLIGHT
TZNAME:CEST
TZOFFSETFROM:+0100
TZOFFSETTO:+0200
DTSTART:19170416T020000
RRULE:FREQ=YEARLY;UNTIL=19180415T010000Z;BYMONTH=4;BYDAY=3MO
END:DAYLIGHT
BEGIN:STANDARD
TZNAME:CET
TZOFFSETFROM:+0200
TZOFFSETTO:+0100
DTSTART:19170917T030000
RRULE:FREQ=YEARLY;UNTIL=19180916T010000Z;BYMONTH=9;BYDAY=3MO
END:STANDARD
BEGIN:DAYLIGHT
TZNAME:CEST
TZOFFSETFROM:+0100
TZOFFSETTO:+0200
DTSTART:19440403T020000
RRULE:FREQ=YEARLY;UNTIL=19450402T010000Z;BYMONTH=4;BYDAY=1MO
END:DAYLIGHT
BEGIN:DAYLIGHT
TZNAME:CEMT
TZOFFSETFROM:+0200
TZOFFSETTO:+0300
DTSTART:19450524T020000
RDATE:19470511T030000
END:DAYLIGHT
BEGIN:DAYLIGHT
TZNAME:CEST
TZOFFSETFROM:+0300
TZOFFSETTO:+0200
DTSTART:19450924T030000
RDATE:19470629T030000
END:DAYLIGHT
BEGIN:STANDARD
TZNAME:CET
TZOFFSETFROM:+0100
TZOFFSETTO:+0100
DTSTART:19460101T000000
RDATE:19800101T000000
END:STANDARD
BEGIN:STANDARD
TZNAME:CET
TZOFFSETFROM:+0200
TZOFFSETTO:+0100
DTSTART:19471005T030000
RRULE:FREQ=YEARLY;UNTIL=19491002T010000Z;BYMONTH=10;BYDAY=1SU
END:STANDARD
BEGIN:STANDARD
TZNAME:CET
TZOFFSETFROM:+0200
TZOFFSETTO:+0100
DTSTART:19800928T030000
RRULE:FREQ=YEARLY;UNTIL=19950924T010000Z;BYMONTH=9;BYDAY=-1SU
END:STANDARD
BEGIN:DAYLIGHT
TZNAME:CEST
TZOFFSETFROM:+0100
TZOFFSETTO:+0200
DTSTART:19810329T020000
RRULE:FREQ=YEARLY;BYMONTH=3;BYDAY=-1SU
END:DAYLIGHT
BEGIN:STANDARD
TZNAME:CET
TZOFFSETFROM:+0200
TZOFFSETTO:+0100
DTSTART:19961027T030000
RRULE:FREQ=YEARLY;BYMONTH=10;BYDAY=-1SU
END:STANDARD
END:VTIMEZONE
BEGIN:VEVENT
DTSTAMP:20260425T165553Z
DTSTART;TZID=Europe/Berlin:20250913T140000
DTEND;TZID=Europe/Berlin:20250913T150000
SUMMARY:Regionsliga S-M mJE S1 TSV Bärenstein gem. vs TSV Dresden-Bühlau (63031)
UID:808e3244-7af1-4080-9d57-b216851b4d0d
STATUS:CONFIRMED
LAST-MODIFIED:20250914T091139Z
DESCRIPTION:Regionsliga S-M mJE Staffel 1\nBegegnungs-Nr: 63031\nHeim: TSV Bärenstein gem.\nGast: TSV Dresden-Bühlau\nHalle: SH Geising (33201)\nAdresse: Lange Str. 25\, 01778 Altenberg ST Geising\n
LOCATION:SH Geising (33201): Lange Str. 25\, 01778 Altenberg ST Geising
CATEGORIES:Saison 2025/26
END:VEVENT
BEGIN:VEVENT
DTSTAMP:20260425T165553Z
DTSTART;TZID=Europe/Berlin:20250913T160000
DTEND;TZID=Europe/Berlin:20250913T170000
SUMMARY:Regionsliga S-M mJE S1 TSV Bärenstein gem. vs HSV Dresden II (63033)
UID:f13fd07b-93ef-4c6a-8d47-a234debb93f7
STATUS:CONFIRMED
LAST-MODIFIED:20250914T094530Z
DESCRIPTION:Regionsliga S-M mJE Staffel 1\nBegegnungs-Nr: 63033\nHeim: TSV Bärenstein gem.\nGast: HSV Dresden II\nHalle: SH Geising (33201)\nAdresse: Lange Str. 25\, 01778 Altenberg ST Geising\n
LOCATION:SH Geising (33201): Lange Str. 25\, 01778 Altenberg ST Geising
CATEGORIES:Saison 2025/26
END:VEVENT
BEGIN:VEVENT
DTSTAMP:20260425T165553Z
DTSTART;TZID=Europe/Berlin:20260314T130000
DTEND;TZID=Europe/Berlin:20260314T140000
SUMMARY:Regionsliga S-M mJE S1 TSV Bärenstein gem. vs KJS-Club Dresden gem. II (63082)
UID:eaf87aba-babd-4999-9299-37f91cc5c370
STATUS:CONFIRMED
LAST-MODIFIED:20260227T212957Z
DESCRIPTION:Regionsliga S-M mJE Staffel 1\nBegegnungs-Nr: 63082\nHeim: TSV Bärenstein gem.\nGast: KJS-Club Dresden gem. II\nHalle: SH \"An der Blöße\" Ottendorf/Okrilla (33241)\nAdresse: Hermann-Lehmann-Straße 5\, 01458 Ottendorf/Okrilla\n
LOCATION:SH \"An der Blöße\" Ottendorf/Okrilla (33241): Hermann-Lehmann-Straße 5\, 01458 Ottendorf/Okrilla
CATEGORIES:Saison 2025/26
END:VEVENT
BEGIN:VEVENT
DTSTAMP:20260425T165553Z
DTSTART;TZID=Europe/Berlin:20250928T105000
DTEND;TZID=Europe/Berlin:20250928T115000
SUMMARY:Regionsliga S-M mJE S1 TSV Bärenstein gem. vs SG Pirna/Heidenau II (63083)
UID:4155233f-fdbc-48d2-b690-804ae29e8b24
STATUS:CONFIRMED
LAST-MODIFIED:20250928T094954Z
DESCRIPTION:Regionsliga S-M mJE Staffel 1\nBegegnungs-Nr: 63083\nHeim: TSV Bärenstein gem.\nGast: SG Pirna/Heidenau II\nHalle: Saubach-SH Wilsdruff (33208)\nAdresse: Nossener Str. 21b\, 01723 Wilsdruff\n
LOCATION:Saubach-SH Wilsdruff (33208): Nossener Str. 21b\, 01723 Wilsdruff
CATEGORIES:Saison 2025/26
END:VEVENT
BEGIN:VEVENT
DTSTAMP:20260425T165553Z
DTSTART;TZID=Europe/Berlin:20251207T102000
DTEND;TZID=Europe/Berlin:20251207T112000
SUMMARY:Regionsliga S-M mJE S1 TSV Bärenstein gem. vs USV TU Dresden (63192)
UID:5b485e8e-2fe5-4c1c-a83e-e95072725b67
STATUS:CONFIRMED
LAST-MODIFIED:20260111T120308Z
DESCRIPTION:Regionsliga S-M mJE Staffel 1\nBegegnungs-Nr: 63192\nHeim: TSV Bärenstein gem.\nGast: USV TU Dresden\nHalle: Saubach-SH Wilsdruff (33208)\nAdresse: Nossener Str. 21b\, 01723 Wilsdruff\n
LOCATION:Saubach-SH Wilsdruff (33208): Nossener Str. 21b\, 01723 Wilsdruff
CATEGORIES:Saison 2025/26
END:VEVENT
BEGIN:VEVENT
DTSTAMP:20260425T165553Z
DTSTART;TZID=Europe/Berlin:20251207T112000
DTEND;TZID=Europe/Berlin:20251207T122000
SUMMARY:Regionsliga S-M mJE S1 TSV Bärenstein gem. vs HCS Neustadt-S. (63193)
UID:582e9bc7-3e1b-4056-9879-b25df1283888
STATUS:CONFIRMED
LAST-MODIFIED:20260111T120403Z
DESCRIPTION:Regionsliga S-M mJE Staffel 1\nBegegnungs-Nr: 63193\nHeim: TSV Bärenstein gem.\nGast: HCS Neustadt-S.\nHalle: Saubach-SH Wilsdruff (33208)\nAdresse: Nossener Str. 21b\, 01723 Wilsdruff\n
LOCATION:Saubach-SH Wilsdruff (33208): Nossener Str. 21b\, 01723 Wilsdruff
CATEGORIES:Saison 2025/26
END:VEVENT
BEGIN:VEVENT
DTSTAMP:20260425T165553Z
DTSTART;TZID=Europe/Berlin:20260124T134500
DTEND;TZID=Europe/Berlin:20260124T144500
SUMMARY:Regionsliga S-M mJE S1 TSV Bärenstein gem. vs Medizin Bad Gottleuba II (63221)
UID:273913c4-0697-45a1-8c36-d850f092b7fc
STATUS:CONFIRMED
LAST-MODIFIED:20260125T110238Z
DESCRIPTION:Regionsliga S-M mJE Staffel 1\nBegegnungs-Nr: 63221\nHeim: TSV Bärenstein gem.\nGast: Medizin Bad Gottleuba II\nHalle: SH Geising (33201)\nAdresse: Lange Str. 25\, 01778 Altenberg ST Geising\n
LOCATION:SH Geising (33201): Lange Str. 25\, 01778 Altenberg ST Geising
CATEGORIES:Saison 2025/26
END:VEVENT
BEGIN:VEVENT
DTSTAMP:20260425T165553Z
DTSTART;TZID=Europe/Berlin:20260124T161500
DTEND;TZID=Europe/Berlin:20260124T171500
SUMMARY:Regionsliga S-M mJE S1 TSV Bärenstein gem. vs SF 01 Dresden (63224)
UID:a23da2c5-1754-4523-a3f5-df8f9d78cc7b
STATUS:CONFIRMED
LAST-MODIFIED:20260125T111343Z
DESCRIPTION:Regionsliga S-M mJE Staffel 1\nBegegnungs-Nr: 63224\nHeim: TSV Bärenstein gem.\nGast: SF 01 Dresden\nHalle: SH Geising (33201)\nAdresse: Lange Str. 25\, 01778 Altenberg ST Geising\n
LOCATION:SH Geising (33201): Lange Str. 25\, 01778 Altenberg ST Geising
CATEGORIES:Saison 2025/26
END:VEVENT
BEGIN:VEVENT
DTSTAMP:20260425T165553Z
DTSTART;TZID=Europe/Berlin:20260228T100000
DTEND;TZID=Europe/Berlin:20260228T110000
SUMMARY:Regionsliga S-M mJE S1 TSV Bärenstein gem. vs SG Dippoldiswalde-Ruppendorf (63271)
UID:c93a7259-b142-4f45-a06c-2c9d932c8347
STATUS:CONFIRMED
LAST-MODIFIED:20260228T142034Z
DESCRIPTION:Regionsliga S-M mJE Staffel 1\nBegegnungs-Nr: 63271\nHeim: TSV Bärenstein gem.\nGast: SG Dippoldiswalde-Ruppendorf\nHalle: SH Geising (33201)\nAdresse: Lange Str. 25\, 01778 Altenberg ST Geising\n
LOCATION:SH Geising (33201): Lange Str. 25\, 01778 Altenberg ST Geising
CATEGORIES:Saison 2025/26
END:VEVENT
BEGIN:VEVENT
DTSTAMP:20260425T165553Z
DTSTART;TZID=Europe/Berlin:20260228T120000
DTEND;TZID=Europe/Berlin:20260228T130000
SUMMARY:Regionsliga S-M mJE S1 TSV Bärenstein gem. vs SG Kurort Hartha (63273)
UID:791d62a2-bf8c-4a1b-82f7-741e5a69278c
STATUS:CONFIRMED
LAST-MODIFIED:20260228T142231Z
DESCRIPTION:Regionsliga S-M mJE Staffel 1\nBegegnungs-Nr: 63273\nHeim: TSV Bärenstein gem.\nGast: SG Kurort Hartha\nHalle: SH Geising (33201)\nAdresse: Lange Str. 25\, 01778 Altenberg ST Geising\n
LOCATION:SH Geising (33201): Lange Str. 25\, 01778 Altenberg ST Geising
CATEGORIES:Saison 2025/26
END:VEVENT
BEGIN:VEVENT
DTSTAMP:20260425T165553Z
DTSTART;TZID=Europe/Berlin:20250920T110000
DTEND;TZID=Europe/Berlin:20250920T120000
SUMMARY:Regionsliga S-M mJE S1 SG Kurort Hartha vs TSV Bärenstein gem. (63052)
UID:6ea5fb7d-5fd3-41f6-9353-e60e56ae00de
STATUS:CONFIRMED
LAST-MODIFIED:20250920T172014Z
DESCRIPTION:Regionsliga S-M mJE Staffel 1\nBegegnungs-Nr: 63052\nHeim: SG Kurort Hartha\nGast: TSV Bärenstein gem.\nHalle: SH Glashütte (33225)\nAdresse: Prießnitztal 32\, 01768 Glashütte\n
LOCATION:SH Glashütte (33225): Prießnitztal 32\, 01768 Glashütte
CATEGORIES:Saison 2025/26
END:VEVENT
BEGIN:VEVENT
DTSTAMP:20260425T165553Z
DTSTART;TZID=Europe/Berlin:20250920T120000
DTEND;TZID=Europe/Berlin:20250920T130000
SUMMARY:Regionsliga S-M mJE S1 SG Dippoldiswalde-Ruppendorf vs TSV Bärenstein gem. (63053)
UID:2484af3d-6620-4246-b04c-0f9e4208952b
STATUS:CONFIRMED
LAST-MODIFIED:20250920T172127Z
DESCRIPTION:Regionsliga S-M mJE Staffel 1\nBegegnungs-Nr: 63053\nHeim: SG Dippoldiswalde-Ruppendorf\nGast: TSV Bärenstein gem.\nHalle: SH Glashütte (33225)\nAdresse: Prießnitztal 32\, 01768 Glashütte\n
LOCATION:SH Glashütte (33225): Prießnitztal 32\, 01768 Glashütte
CATEGORIES:Saison 2025/26
END:VEVENT
BEGIN:VEVENT
DTSTAMP:20260425T165553Z
DTSTART;TZID=Europe/Berlin:20251122T093000
DTEND;TZID=Europe/Berlin:20251122T103000
SUMMARY:Regionsliga S-M mJE S1 SG Pirna/Heidenau II vs TSV Bärenstein gem. (63151)
UID:684222a9-7e16-4c5a-8f76-bdeadab0c69b
STATUS:CONFIRMED
LAST-MODIFIED:20251122T144044Z
DESCRIPTION:Regionsliga S-M mJE Staffel 1\nBegegnungs-Nr: 63151\nHeim: SG Pirna/Heidenau II\nGast: TSV Bärenstein gem.\nHalle: SH Pirna-Sonnenstein (33302)\nAdresse: Struppener Str. 9\, 01796 Pirna\n
LOCATION:SH Pirna-Sonnenstein (33302): Struppener Str. 9\, 01796 Pirna
CATEGORIES:Saison 2025/26
END:VEVENT
BEGIN:VEVENT
DTSTAMP:20260425T165553Z
DTSTART;TZID=Europe/Berlin:20251122T113000
DTEND;TZID=Europe/Berlin:20251122T123000
SUMMARY:Regionsliga S-M mJE S1 KJS-Club Dresden gem. II vs TSV Bärenstein gem. (63153)
UID:774a7e7e-9cbc-46cb-87a9-06670d86dc2f
STATUS:CONFIRMED
LAST-MODIFIED:20251122T144222Z
DESCRIPTION:Regionsliga S-M mJE Staffel 1\nBegegnungs-Nr: 63153\nHeim: KJS-Club Dresden gem. II\nGast: TSV Bärenstein gem.\nHalle: SH Pirna-Sonnenstein (33302)\nAdresse: Struppener Str. 9\, 01796 Pirna\n
LOCATION:SH Pirna-Sonnenstein (33302): Struppener Str. 9\, 01796 Pirna
CATEGORIES:Saison 2025/26
END:VEVENT
BEGIN:VEVENT
DTSTAMP:20260425T165553Z
DTSTART;TZID=Europe/Berlin:20260322T120000
DTEND;TZID=Europe/Berlin:20260322T130000
SUMMARY:Regionsliga S-M mJE S1 HCS Neustadt-S. vs TSV Bärenstein gem. (63303)
UID:69f6f067-ea44-49b1-be71-700f74734767
STATUS:CONFIRMED
LAST-MODIFIED:20250715T184520Z
DESCRIPTION:Regionsliga S-M mJE Staffel 1\nBegegnungs-Nr: 63303\nHeim: HCS Neustadt-S.\nGast: TSV Bärenstein gem.\nHalle: JOYNEXT Arena Dresden (Spielfeld 2) (33112b)\nAdresse: Magdeburger Straße 10\, 01067 Dresden\n
LOCATION:JOYNEXT Arena Dresden (Spielfeld 2) (33112b): Magdeburger Straße 10\, 01067 Dresden
CATEGORIES:Saison 2025/26
END:VEVENT
BEGIN:VEVENT
DTSTAMP:20260425T165553Z
DTSTART;TZID=Europe/Berlin:20251130T120000
DTEND;TZID=Europe/Berlin:20251130T130000
SUMMARY:Regionsliga S-M mJE S1 TSV Dresden-Bühlau vs TSV Bärenstein gem. (63161)
UID:797d10db-b1d5-42e4-a701-7f535f015829
STATUS:CONFIRMED
LAST-MODIFIED:20251130T122844Z
DESCRIPTION:Regionsliga S-M mJE Staffel 1\nBegegnungs-Nr: 63161\nHeim: TSV Dresden-Bühlau\nGast: TSV Bärenstein gem.\nHalle: SH Gymnasium Dresden-Bühlau (33118)\nAdresse: Quohrener Str. 12\, 01324 Dresden\n
LOCATION:SH Gymnasium Dresden-Bühlau (33118): Quohrener Str. 12\, 01324 Dresden
CATEGORIES:Saison 2025/26
END:VEVENT
BEGIN:VEVENT
DTSTAMP:20260425T165553Z
DTSTART;TZID=Europe/Berlin:20251130T110000
DTEND;TZID=Europe/Berlin:20251130T120000
SUMMARY:Regionsliga S-M mJE S1 HSV Dresden II vs TSV Bärenstein gem. (63162)
UID:40523d1d-65cb-417e-9143-d44106a56d5c
STATUS:CONFIRMED
LAST-MODIFIED:20251130T122744Z
DESCRIPTION:Regionsliga S-M mJE Staffel 1\nBegegnungs-Nr: 63162\nHeim: HSV Dresden II\nGast: TSV Bärenstein gem.\nHalle: SH Gymnasium Dresden-Bühlau (33118)\nAdresse: Quohrener Str. 12\, 01324 Dresden\n
LOCATION:SH Gymnasium Dresden-Bühlau (33118): Quohrener Str. 12\, 01324 Dresden
CATEGORIES:Saison 2025/26
END:VEVENT
BEGIN:VEVENT
DTSTAMP:20260425T165553Z
DTSTART;TZID=Europe/Berlin:20260131T134500
DTEND;TZID=Europe/Berlin:20260131T144500
SUMMARY:Regionsliga S-M mJE S1 Medizin Bad Gottleuba II vs TSV Bärenstein gem. (63251)
UID:c20dc88e-bbff-4807-9638-2594169c4d74
STATUS:CONFIRMED
LAST-MODIFIED:20260228T141109Z
DESCRIPTION:Regionsliga S-M mJE Staffel 1\nBegegnungs-Nr: 63251\nHeim: Medizin Bad Gottleuba II\nGast: TSV Bärenstein gem.\nHalle: SH Geising (33201)\nAdresse: Lange Str. 25\, 01778 Altenberg ST Geising\n
LOCATION:SH Geising (33201): Lange Str. 25\, 01778 Altenberg ST Geising
CATEGORIES:Saison 2025/26
END:VEVENT
BEGIN:VEVENT
DTSTAMP:20260425T165553Z
DTSTART;TZID=Europe/Berlin:20260131T153000
DTEND;TZID=Europe/Berlin:20260131T163000
SUMMARY:Regionsliga S-M mJE S1 SF 01 Dresden vs TSV Bärenstein gem. (63253)
UID:8ef64fe4-7abd-4f15-b3c3-aef98b84e2d4
STATUS:CONFIRMED
LAST-MODIFIED:20260228T141257Z
DESCRIPTION:Regionsliga S-M mJE Staffel 1\nBegegnungs-Nr: 63253\nHeim: SF 01 Dresden\nGast: TSV Bärenstein gem.\nHalle: SH Geising (33201)\nAdresse: Lange Str. 25\, 01778 Altenberg ST Geising\n
LOCATION:SH Geising (33201): Lange Str. 25\, 01778 Altenberg ST Geising
CATEGORIES:Saison 2025/26
END:VEVENT
BEGIN:VEVENT
DTSTAMP:20260425T165553Z
DTSTART;TZID=Europe/Berlin:20260322T100000
DTEND;TZID=Europe/Berlin:20260322T110000
SUMMARY:Regionsliga S-M mJE S1 USV TU Dresden vs TSV Bärenstein gem. (63301)
UID:85ff0741-4883-4084-8fb9-c4a6068ac170
STATUS:CONFIRMED
LAST-MODIFIED:20250715T184520Z
DESCRIPTION:Regionsliga S-M mJE Staffel 1\nBegegnungs-Nr: 63301\nHeim: USV TU Dresden\nGast: TSV Bärenstein gem.\nHalle: JOYNEXT Arena Dresden (Spielfeld 2) (33112b)\nAdresse: Magdeburger Straße 10\, 01067 Dresden\n
LOCATION:JOYNEXT Arena Dresden (Spielfeld 2) (33112b): Magdeburger Straße 10\, 01067 Dresden
CATEGORIES:Saison 2025/26
END:VEVENT
END:VCALENDAR
