BEGIN:VCALENDAR
PRODID:-//nuDatenautomaten//framework iCal4j //DE
VERSION:2.0
CALSCALE:GREGORIAN
BEGIN:VTIMEZONE
TZID:Europe/Berlin
LAST-MODIFIED:20260306T231828Z
TZURL:https://www.tzurl.org/zoneinfo/Europe/Berlin
X-LIC-LOCATION:Europe/Berlin
X-PROLEPTIC-TZNAME:LMT
BEGIN:STANDARD
TZNAME:CET
TZOFFSETFROM:+005328
TZOFFSETTO:+0100
DTSTART:18930401T000000
END:STANDARD
BEGIN:DAYLIGHT
TZNAME:CEST
TZOFFSETFROM:+0100
TZOFFSETTO:+0200
DTSTART:19160430T230000
RDATE:19400401T020000
RDATE:19430329T020000
RDATE:19460414T020000
RDATE:19470406T030000
RDATE:19480418T020000
RDATE:19490410T020000
RDATE:19800406T020000
END:DAYLIGHT
BEGIN:STANDARD
TZNAME:CET
TZOFFSETFROM:+0200
TZOFFSETTO:+0100
DTSTART:19161001T010000
RDATE:19421102T030000
RDATE:19431004T030000
RDATE:19441002T030000
RDATE:19451118T030000
RDATE:19461007T030000
END:STANDARD
BEGIN:DAYLIGHT
TZNAME:CEST
TZOFFSETFROM:+0100
TZOFFSETTO:+0200
DTSTART:19170416T020000
RRULE:FREQ=YEARLY;UNTIL=19180415T010000Z;BYMONTH=4;BYDAY=3MO
END:DAYLIGHT
BEGIN:STANDARD
TZNAME:CET
TZOFFSETFROM:+0200
TZOFFSETTO:+0100
DTSTART:19170917T030000
RRULE:FREQ=YEARLY;UNTIL=19180916T010000Z;BYMONTH=9;BYDAY=3MO
END:STANDARD
BEGIN:DAYLIGHT
TZNAME:CEST
TZOFFSETFROM:+0100
TZOFFSETTO:+0200
DTSTART:19440403T020000
RRULE:FREQ=YEARLY;UNTIL=19450402T010000Z;BYMONTH=4;BYDAY=1MO
END:DAYLIGHT
BEGIN:DAYLIGHT
TZNAME:CEMT
TZOFFSETFROM:+0200
TZOFFSETTO:+0300
DTSTART:19450524T020000
RDATE:19470511T030000
END:DAYLIGHT
BEGIN:DAYLIGHT
TZNAME:CEST
TZOFFSETFROM:+0300
TZOFFSETTO:+0200
DTSTART:19450924T030000
RDATE:19470629T030000
END:DAYLIGHT
BEGIN:STANDARD
TZNAME:CET
TZOFFSETFROM:+0100
TZOFFSETTO:+0100
DTSTART:19460101T000000
RDATE:19800101T000000
END:STANDARD
BEGIN:STANDARD
TZNAME:CET
TZOFFSETFROM:+0200
TZOFFSETTO:+0100
DTSTART:19471005T030000
RRULE:FREQ=YEARLY;UNTIL=19491002T010000Z;BYMONTH=10;BYDAY=1SU
END:STANDARD
BEGIN:STANDARD
TZNAME:CET
TZOFFSETFROM:+0200
TZOFFSETTO:+0100
DTSTART:19800928T030000
RRULE:FREQ=YEARLY;UNTIL=19950924T010000Z;BYMONTH=9;BYDAY=-1SU
END:STANDARD
BEGIN:DAYLIGHT
TZNAME:CEST
TZOFFSETFROM:+0100
TZOFFSETTO:+0200
DTSTART:19810329T020000
RRULE:FREQ=YEARLY;BYMONTH=3;BYDAY=-1SU
END:DAYLIGHT
BEGIN:STANDARD
TZNAME:CET
TZOFFSETFROM:+0200
TZOFFSETTO:+0100
DTSTART:19961027T030000
RRULE:FREQ=YEARLY;BYMONTH=10;BYDAY=-1SU
END:STANDARD
END:VTIMEZONE
BEGIN:VEVENT
DTSTAMP:20260423T185553Z
DTSTART;TZID=Europe/Berlin:20250927T160000
DTEND;TZID=Europe/Berlin:20250927T173000
SUMMARY:Regionsklasse S-M Mä. St.2 SG Dippoldiswalde-Ruppendorf vs SV Niederau III (4009)
UID:9413a3e5-4795-4c72-9ade-d087a35a7fea
STATUS:CONFIRMED
LAST-MODIFIED:20250929T161343Z
DESCRIPTION:Regionsklasse S-M Männer Staffel 2\nBegegnungs-Nr: 4009\nHeim: SG Dippoldiswalde-Ruppendorf\nGast: SV Niederau III\nHalle: Sportpark Dippoldiswalde (33229)\nAdresse: Nikolai-Ostrowski-Straße 2\, 01744 Dippoldiswalde\n
LOCATION:Sportpark Dippoldiswalde (33229): Nikolai-Ostrowski-Straße 2\, 01744 Dippoldiswalde
CATEGORIES:Saison 2025/26
END:VEVENT
BEGIN:VEVENT
DTSTAMP:20260423T185553Z
DTSTART;TZID=Europe/Berlin:20250913T150000
DTEND;TZID=Europe/Berlin:20250913T163000
SUMMARY:Regionsklasse S-M Mä. St.2 SG Dippoldiswalde-Ruppendorf vs HC Elbflorenz 2006 IV (4005)
UID:34d99f06-1171-47f6-89da-bb33f1bc8af7
STATUS:CONFIRMED
LAST-MODIFIED:20250914T165050Z
DESCRIPTION:Regionsklasse S-M Männer Staffel 2\nBegegnungs-Nr: 4005\nHeim: SG Dippoldiswalde-Ruppendorf\nGast: HC Elbflorenz 2006 IV\nHalle: SH Glashütte (33225)\nAdresse: Prießnitztal 32\, 01768 Glashütte\n
LOCATION:SH Glashütte (33225): Prießnitztal 32\, 01768 Glashütte
CATEGORIES:Saison 2025/26
END:VEVENT
BEGIN:VEVENT
DTSTAMP:20260423T185553Z
DTSTART;TZID=Europe/Berlin:20260418T170000
DTEND;TZID=Europe/Berlin:20260418T183000
SUMMARY:Regionsklasse S-M Mä. St.2 SG Dippoldiswalde-Ruppendorf vs SV Rähnitz II (4039)
UID:52a860b9-1152-40ba-bf78-0cf43f0abbac
STATUS:CONFIRMED
LAST-MODIFIED:20260420T152344Z
DESCRIPTION:Regionsklasse S-M Männer Staffel 2\nBegegnungs-Nr: 4039\nHeim: SG Dippoldiswalde-Ruppendorf\nGast: SV Rähnitz II\nHalle: SH Glashütte (33225)\nAdresse: Prießnitztal 32\, 01768 Glashütte\n
LOCATION:SH Glashütte (33225): Prießnitztal 32\, 01768 Glashütte
CATEGORIES:Saison 2025/26
END:VEVENT
BEGIN:VEVENT
DTSTAMP:20260423T185553Z
DTSTART;TZID=Europe/Berlin:20260117T170000
DTEND;TZID=Europe/Berlin:20260117T183000
SUMMARY:Regionsklasse S-M Mä. St.2 SG Dippoldiswalde-Ruppendorf vs VfL Meißen (4024)
UID:14b2e0b8-b574-4099-b451-117173aa49dc
STATUS:CONFIRMED
LAST-MODIFIED:20260118T184816Z
DESCRIPTION:Regionsklasse S-M Männer Staffel 2\nBegegnungs-Nr: 4024\nHeim: SG Dippoldiswalde-Ruppendorf\nGast: VfL Meißen\nHalle: SH Glashütte (33225)\nAdresse: Prießnitztal 32\, 01768 Glashütte\n
LOCATION:SH Glashütte (33225): Prießnitztal 32\, 01768 Glashütte
CATEGORIES:Saison 2025/26
END:VEVENT
BEGIN:VEVENT
DTSTAMP:20260423T185553Z
DTSTART;TZID=Europe/Berlin:20251108T143000
DTEND;TZID=Europe/Berlin:20251108T160000
SUMMARY:Regionsklasse S-M Mä. St.2 SG Dippoldiswalde-Ruppendorf vs Medizin Bad Gottleuba II (4020)
UID:c77ba81b-b54d-429a-b2f0-c76b86442435
STATUS:CONFIRMED
LAST-MODIFIED:20251109T075510Z
DESCRIPTION:Regionsklasse S-M Männer Staffel 2\nBegegnungs-Nr: 4020\nHeim: SG Dippoldiswalde-Ruppendorf\nGast: Medizin Bad Gottleuba II\nHalle: SH Glashütte (33225)\nAdresse: Prießnitztal 32\, 01768 Glashütte\n
LOCATION:SH Glashütte (33225): Prießnitztal 32\, 01768 Glashütte
CATEGORIES:Saison 2025/26
END:VEVENT
BEGIN:VEVENT
DTSTAMP:20260423T185553Z
DTSTART;TZID=Europe/Berlin:20251122T140000
DTEND;TZID=Europe/Berlin:20251122T153000
SUMMARY:Regionsklasse S-M Mä. St.2 SG Dippoldiswalde-Ruppendorf vs SSV Lommatzsch II (4016)
UID:ca94f3fe-e129-41d2-b6c0-c73d590e0c92
STATUS:CONFIRMED
LAST-MODIFIED:20251122T155506Z
DESCRIPTION:Regionsklasse S-M Männer Staffel 2\nBegegnungs-Nr: 4016\nHeim: SG Dippoldiswalde-Ruppendorf\nGast: SSV Lommatzsch II\nHalle: SH Glashütte (33225)\nAdresse: Prießnitztal 32\, 01768 Glashütte\n
LOCATION:SH Glashütte (33225): Prießnitztal 32\, 01768 Glashütte
CATEGORIES:Saison 2025/26
END:VEVENT
BEGIN:VEVENT
DTSTAMP:20260423T185553Z
DTSTART;TZID=Europe/Berlin:20250907T130000
DTEND;TZID=Europe/Berlin:20250907T143000
SUMMARY:Regionsklasse S-M Mä. St.2 VfL Meißen vs SG Dippoldiswalde-Ruppendorf (4003)
UID:0969f190-654f-420c-bea1-fa23f2cfa13d
STATUS:CONFIRMED
LAST-MODIFIED:20250908T084031Z
DESCRIPTION:Regionsklasse S-M Männer Staffel 2\nBegegnungs-Nr: 4003\nHeim: VfL Meißen\nGast: SG Dippoldiswalde-Ruppendorf\nHalle: SH \"Heiliger Grund\" Meißen (33212)\nAdresse: Goethestraße 27\, 01662 Meißen\n
LOCATION:SH \"Heiliger Grund\" Meißen (33212): Goethestraße 27\, 01662 Meißen
CATEGORIES:Saison 2025/26
END:VEVENT
BEGIN:VEVENT
DTSTAMP:20260423T185553Z
DTSTART;TZID=Europe/Berlin:20260425T100000
DTEND;TZID=Europe/Berlin:20260425T113000
SUMMARY:Regionsklasse S-M Mä. St.2 Medizin Bad Gottleuba II vs SG Dippoldiswalde-Ruppendorf (4041)
UID:08eb8613-acc3-4bbb-b46b-a0d7e1c7ceb6
STATUS:CONFIRMED
DESCRIPTION:Regionsklasse S-M Männer Staffel 2\nBegegnungs-Nr: 4041\nHeim: Medizin Bad Gottleuba II\nGast: SG Dippoldiswalde-Ruppendorf\nHalle: SH Geising (33201)\nAdresse: Lange Str. 25\, 01778 Altenberg ST Geising\n
LOCATION:SH Geising (33201): Lange Str. 25\, 01778 Altenberg ST Geising
CATEGORIES:Saison 2025/26
END:VEVENT
BEGIN:VEVENT
DTSTAMP:20260423T185553Z
DTSTART;TZID=Europe/Berlin:20260328T150000
DTEND;TZID=Europe/Berlin:20260328T163000
SUMMARY:Regionsklasse S-M Mä. St.2 SSV Lommatzsch II vs SG Dippoldiswalde-Ruppendorf (4037)
UID:4f2c8d86-3dad-4d7d-97a0-88b89077459c
STATUS:CONFIRMED
LAST-MODIFIED:20260329T152815Z
DESCRIPTION:Regionsklasse S-M Männer Staffel 2\nBegegnungs-Nr: 4037\nHeim: SSV Lommatzsch II\nGast: SG Dippoldiswalde-Ruppendorf\nHalle: Lothar-Krauße-SH Lommatzsch (33211)\nAdresse: Domselwitzer Str. 21\, 01623 Lommatzsch\n
LOCATION:Lothar-Krauße-SH Lommatzsch (33211): Domselwitzer Str. 21\, 01623 Lommatzsch
CATEGORIES:Saison 2025/26
END:VEVENT
BEGIN:VEVENT
DTSTAMP:20260423T185553Z
DTSTART;TZID=Europe/Berlin:20260411T150000
DTEND;TZID=Europe/Berlin:20260411T163000
SUMMARY:Regionsklasse S-M Mä. St.2 SV Niederau III vs SG Dippoldiswalde-Ruppendorf (4030)
UID:99327a6c-cc8a-4283-b6f5-84c5b94949d5
STATUS:CONFIRMED
LAST-MODIFIED:20260413T171939Z
DESCRIPTION:Regionsklasse S-M Männer Staffel 2\nBegegnungs-Nr: 4030\nHeim: SV Niederau III\nGast: SG Dippoldiswalde-Ruppendorf\nHalle: SH BSZ Meißen (33220)\nAdresse: Goethestraße 21\, 01662 Meißen\n
LOCATION:SH BSZ Meißen (33220): Goethestraße 21\, 01662 Meißen
CATEGORIES:Saison 2025/26
END:VEVENT
BEGIN:VEVENT
DTSTAMP:20260423T185553Z
DTSTART;TZID=Europe/Berlin:20260124T190000
DTEND;TZID=Europe/Berlin:20260124T203000
SUMMARY:Regionsklasse S-M Mä. St.2 HC Elbflorenz 2006 IV vs SG Dippoldiswalde-Ruppendorf (4026)
UID:8d7408fa-8e66-4e01-ae3a-d1e433ec4aac
STATUS:CONFIRMED
LAST-MODIFIED:20260125T153300Z
DESCRIPTION:Regionsklasse S-M Männer Staffel 2\nBegegnungs-Nr: 4026\nHeim: HC Elbflorenz 2006 IV\nGast: SG Dippoldiswalde-Ruppendorf\nHalle: BallsportARENA Dresden (33133)\nAdresse: Weißeritzstraße 4\, 01067 Dresden\n
LOCATION:BallsportARENA Dresden (33133): Weißeritzstraße 4\, 01067 Dresden
CATEGORIES:Saison 2025/26
END:VEVENT
BEGIN:VEVENT
DTSTAMP:20260423T185553Z
DTSTART;TZID=Europe/Berlin:20251130T120000
DTEND;TZID=Europe/Berlin:20251130T133000
SUMMARY:Regionsklasse S-M Mä. St.2 SV Rähnitz II vs SG Dippoldiswalde-Ruppendorf (4018)
UID:ceb5bda5-0324-4ea8-9e94-44d74fc4fe72
STATUS:CONFIRMED
LAST-MODIFIED:20251130T151656Z
DESCRIPTION:Regionsklasse S-M Männer Staffel 2\nBegegnungs-Nr: 4018\nHeim: SV Rähnitz II\nGast: SG Dippoldiswalde-Ruppendorf\nHalle: SH 56. Oberschule Dresden Am Trachenberg (33131)\nAdresse: Aachener Straße 10\, 01129 Dresden\n
LOCATION:SH 56. Oberschule Dresden Am Trachenberg (33131): Aachener Straße 10\, 01129 Dresden
CATEGORIES:Saison 2025/26
END:VEVENT
END:VCALENDAR
