BEGIN:VCALENDAR
PRODID:-//nuDatenautomaten//framework iCal4j //DE
VERSION:2.0
CALSCALE:GREGORIAN
BEGIN:VTIMEZONE
TZID:Europe/Berlin
LAST-MODIFIED:20260306T231828Z
TZURL:https://www.tzurl.org/zoneinfo/Europe/Berlin
X-LIC-LOCATION:Europe/Berlin
X-PROLEPTIC-TZNAME:LMT
BEGIN:STANDARD
TZNAME:CET
TZOFFSETFROM:+005328
TZOFFSETTO:+0100
DTSTART:18930401T000000
END:STANDARD
BEGIN:DAYLIGHT
TZNAME:CEST
TZOFFSETFROM:+0100
TZOFFSETTO:+0200
DTSTART:19160430T230000
RDATE:19400401T020000
RDATE:19430329T020000
RDATE:19460414T020000
RDATE:19470406T030000
RDATE:19480418T020000
RDATE:19490410T020000
RDATE:19800406T020000
END:DAYLIGHT
BEGIN:STANDARD
TZNAME:CET
TZOFFSETFROM:+0200
TZOFFSETTO:+0100
DTSTART:19161001T010000
RDATE:19421102T030000
RDATE:19431004T030000
RDATE:19441002T030000
RDATE:19451118T030000
RDATE:19461007T030000
END:STANDARD
BEGIN:DAYLIGHT
TZNAME:CEST
TZOFFSETFROM:+0100
TZOFFSETTO:+0200
DTSTART:19170416T020000
RRULE:FREQ=YEARLY;UNTIL=19180415T010000Z;BYMONTH=4;BYDAY=3MO
END:DAYLIGHT
BEGIN:STANDARD
TZNAME:CET
TZOFFSETFROM:+0200
TZOFFSETTO:+0100
DTSTART:19170917T030000
RRULE:FREQ=YEARLY;UNTIL=19180916T010000Z;BYMONTH=9;BYDAY=3MO
END:STANDARD
BEGIN:DAYLIGHT
TZNAME:CEST
TZOFFSETFROM:+0100
TZOFFSETTO:+0200
DTSTART:19440403T020000
RRULE:FREQ=YEARLY;UNTIL=19450402T010000Z;BYMONTH=4;BYDAY=1MO
END:DAYLIGHT
BEGIN:DAYLIGHT
TZNAME:CEMT
TZOFFSETFROM:+0200
TZOFFSETTO:+0300
DTSTART:19450524T020000
RDATE:19470511T030000
END:DAYLIGHT
BEGIN:DAYLIGHT
TZNAME:CEST
TZOFFSETFROM:+0300
TZOFFSETTO:+0200
DTSTART:19450924T030000
RDATE:19470629T030000
END:DAYLIGHT
BEGIN:STANDARD
TZNAME:CET
TZOFFSETFROM:+0100
TZOFFSETTO:+0100
DTSTART:19460101T000000
RDATE:19800101T000000
END:STANDARD
BEGIN:STANDARD
TZNAME:CET
TZOFFSETFROM:+0200
TZOFFSETTO:+0100
DTSTART:19471005T030000
RRULE:FREQ=YEARLY;UNTIL=19491002T010000Z;BYMONTH=10;BYDAY=1SU
END:STANDARD
BEGIN:STANDARD
TZNAME:CET
TZOFFSETFROM:+0200
TZOFFSETTO:+0100
DTSTART:19800928T030000
RRULE:FREQ=YEARLY;UNTIL=19950924T010000Z;BYMONTH=9;BYDAY=-1SU
END:STANDARD
BEGIN:DAYLIGHT
TZNAME:CEST
TZOFFSETFROM:+0100
TZOFFSETTO:+0200
DTSTART:19810329T020000
RRULE:FREQ=YEARLY;BYMONTH=3;BYDAY=-1SU
END:DAYLIGHT
BEGIN:STANDARD
TZNAME:CET
TZOFFSETFROM:+0200
TZOFFSETTO:+0100
DTSTART:19961027T030000
RRULE:FREQ=YEARLY;BYMONTH=10;BYDAY=-1SU
END:STANDARD
END:VTIMEZONE
BEGIN:VEVENT
DTSTAMP:20260422T020637Z
DTSTART;TZID=Europe/Berlin:20260418T140000
DTEND;TZID=Europe/Berlin:20260418T153000
SUMMARY:Regionsoberliga wJA HSG Rückmarsdorf vs HSG Neudorf/Döbeln (25086)
UID:4bf5ea8e-67a7-4bff-929e-cc230c8c5ca7
STATUS:CONFIRMED
DESCRIPTION:Regionsoberliga wAJ\nBegegnungs-Nr: 25086\nHeim: HSG Rückmarsdorf\nGast: HSG Neudorf/Döbeln\nHalle: SH An der Radrennbahn Leipzig (31128)\nAdresse: Windorfer Straße 63\, 04229 Leipzig\n
LOCATION:SH An der Radrennbahn Leipzig (31128): Windorfer Straße 63\, 04229 Leipzig
CATEGORIES:Saison 2025/26
END:VEVENT
BEGIN:VEVENT
DTSTAMP:20260422T020637Z
DTSTART;TZID=Europe/Berlin:20260124T150000
DTEND;TZID=Europe/Berlin:20260124T163000
SUMMARY:Regionsoberliga wJA HSG Rückmarsdorf vs TSV Markkleeberg (25056)
UID:7430e5ed-4577-4424-b6e0-529574e780e6
STATUS:CONFIRMED
LAST-MODIFIED:20260128T134400Z
DESCRIPTION:Regionsoberliga wAJ\nBegegnungs-Nr: 25056\nHeim: HSG Rückmarsdorf\nGast: TSV Markkleeberg\nHalle: SH An der Radrennbahn Leipzig (31128)\nAdresse: Windorfer Straße 63\, 04229 Leipzig\n
LOCATION:SH An der Radrennbahn Leipzig (31128): Windorfer Straße 63\, 04229 Leipzig
CATEGORIES:Saison 2025/26
END:VEVENT
BEGIN:VEVENT
DTSTAMP:20260422T020637Z
DTSTART;TZID=Europe/Berlin:20250906T140000
DTEND;TZID=Europe/Berlin:20250906T153000
SUMMARY:Regionsoberliga wJA HSG Rückmarsdorf vs Lok Wurzen (25005)
UID:bc6734e5-ff42-48f4-b6d8-4f8dcae9fd4f
STATUS:CONFIRMED
LAST-MODIFIED:20250921T202224Z
DESCRIPTION:Regionsoberliga wAJ\nBegegnungs-Nr: 25005\nHeim: HSG Rückmarsdorf\nGast: Lok Wurzen\nHalle: SH An der Radrennbahn Leipzig (31128)\nAdresse: Windorfer Straße 63\, 04229 Leipzig\n
LOCATION:SH An der Radrennbahn Leipzig (31128): Windorfer Straße 63\, 04229 Leipzig
CATEGORIES:Saison 2025/26
END:VEVENT
BEGIN:VEVENT
DTSTAMP:20260422T020637Z
DTSTART;TZID=Europe/Berlin:20251115T130000
DTEND;TZID=Europe/Berlin:20251115T143000
SUMMARY:Regionsoberliga wJA HSG Rückmarsdorf vs SG MoGoNo Leipzig (25014)
UID:2e77c504-9701-4b04-9708-eb7993249471
STATUS:CONFIRMED
LAST-MODIFIED:20251201T093900Z
DESCRIPTION:Regionsoberliga wAJ\nBegegnungs-Nr: 25014\nHeim: HSG Rückmarsdorf\nGast: SG MoGoNo Leipzig\nHalle: SH An der Radrennbahn Leipzig (31128)\nAdresse: Windorfer Straße 63\, 04229 Leipzig\n
LOCATION:SH An der Radrennbahn Leipzig (31128): Windorfer Straße 63\, 04229 Leipzig
CATEGORIES:Saison 2025/26
END:VEVENT
BEGIN:VEVENT
DTSTAMP:20260422T020637Z
DTSTART;TZID=Europe/Berlin:20251101T130000
DTEND;TZID=Europe/Berlin:20251101T143000
SUMMARY:Regionsoberliga wJA HSG Rückmarsdorf vs VICTORIA Naunhof (25026)
UID:9242a317-d55e-440c-bab3-39d7963c7838
STATUS:CONFIRMED
LAST-MODIFIED:20251103T140757Z
DESCRIPTION:Regionsoberliga wAJ\nBegegnungs-Nr: 25026\nHeim: HSG Rückmarsdorf\nGast: VICTORIA Naunhof\nHalle: SH An der Radrennbahn Leipzig (31128)\nAdresse: Windorfer Straße 63\, 04229 Leipzig\n
LOCATION:SH An der Radrennbahn Leipzig (31128): Windorfer Straße 63\, 04229 Leipzig
CATEGORIES:Saison 2025/26
END:VEVENT
BEGIN:VEVENT
DTSTAMP:20260422T020637Z
DTSTART;TZID=Europe/Berlin:20251122T130000
DTEND;TZID=Europe/Berlin:20251122T143000
SUMMARY:Regionsoberliga wJA HSG Rückmarsdorf vs TuS Leipzig-Mockau (25035)
UID:d1401eba-0f10-4835-9b89-e270acd844c9
STATUS:CONFIRMED
LAST-MODIFIED:20251124T112759Z
DESCRIPTION:Regionsoberliga wAJ\nBegegnungs-Nr: 25035\nHeim: HSG Rückmarsdorf\nGast: TuS Leipzig-Mockau\nHalle: SH An der Radrennbahn Leipzig (31128)\nAdresse: Windorfer Straße 63\, 04229 Leipzig\n
LOCATION:SH An der Radrennbahn Leipzig (31128): Windorfer Straße 63\, 04229 Leipzig
CATEGORIES:Saison 2025/26
END:VEVENT
BEGIN:VEVENT
DTSTAMP:20260422T020637Z
DTSTART;TZID=Europe/Berlin:20251206T120000
DTEND;TZID=Europe/Berlin:20251206T133000
SUMMARY:Regionsoberliga wJA HSG Rückmarsdorf vs Germania Zwenkau (25042)
UID:504fc7a4-816c-42e4-bc3b-d7180fa5b5c4
STATUS:CONFIRMED
LAST-MODIFIED:20251208T134547Z
DESCRIPTION:Regionsoberliga wAJ\nBegegnungs-Nr: 25042\nHeim: HSG Rückmarsdorf\nGast: Germania Zwenkau\nHalle: SH An der Radrennbahn Leipzig (31128)\nAdresse: Windorfer Straße 63\, 04229 Leipzig\n
LOCATION:SH An der Radrennbahn Leipzig (31128): Windorfer Straße 63\, 04229 Leipzig
CATEGORIES:Saison 2025/26
END:VEVENT
BEGIN:VEVENT
DTSTAMP:20260422T020637Z
DTSTART;TZID=Europe/Berlin:20260314T173000
DTEND;TZID=Europe/Berlin:20260314T190000
SUMMARY:Regionsoberliga wJA HSG Rückmarsdorf vs SG Handball Oberland (25063)
UID:d5c11051-f6bf-4fa3-85a8-d2a7fc25b60a
STATUS:CONFIRMED
LAST-MODIFIED:20260316T075056Z
DESCRIPTION:Regionsoberliga wAJ\nBegegnungs-Nr: 25063\nHeim: HSG Rückmarsdorf\nGast: SG Handball Oberland\nHalle: SH am Grünen Gleis (31134)\nAdresse: Baumannstraße 13\, 04229 Leipzig\n
LOCATION:SH am Grünen Gleis (31134): Baumannstraße 13\, 04229 Leipzig
CATEGORIES:Saison 2025/26
END:VEVENT
BEGIN:VEVENT
DTSTAMP:20260422T020637Z
DTSTART;TZID=Europe/Berlin:20260321T140000
DTEND;TZID=Europe/Berlin:20260321T153000
SUMMARY:Regionsoberliga wJA HSG Rückmarsdorf vs HV Chemnitz (25077)
UID:6485906e-fc0e-44f6-9c11-072ba2f7a720
STATUS:CONFIRMED
LAST-MODIFIED:20260401T101721Z
DESCRIPTION:Regionsoberliga wAJ\nBegegnungs-Nr: 25077\nHeim: HSG Rückmarsdorf\nGast: HV Chemnitz\nHalle: SH An der Radrennbahn Leipzig (31128)\nAdresse: Windorfer Straße 63\, 04229 Leipzig\n
LOCATION:SH An der Radrennbahn Leipzig (31128): Windorfer Straße 63\, 04229 Leipzig
CATEGORIES:Saison 2025/26
END:VEVENT
BEGIN:VEVENT
DTSTAMP:20260422T020637Z
DTSTART;TZID=Europe/Berlin:20260329T133000
DTEND;TZID=Europe/Berlin:20260329T150000
SUMMARY:Regionsoberliga wJA TuS Leipzig-Mockau vs HSG Rückmarsdorf (25081)
UID:2bbe9f15-e80a-4e96-bcea-4d166760310b
STATUS:CONFIRMED
LAST-MODIFIED:20260401T101240Z
DESCRIPTION:Regionsoberliga wAJ\nBegegnungs-Nr: 25081\nHeim: TuS Leipzig-Mockau\nGast: HSG Rückmarsdorf\nHalle: Sporthalle Marie-Curie-Gymnasium Wiederitzsch (31137)\nAdresse: Messeallee 19\, 04158 Leipzig (OT Wiederitzsch)\n
LOCATION:Sporthalle Marie-Curie-Gymnasium Wiederitzsch (31137): Messeallee 19\, 04158 Leipzig (OT Wiederitzsch)
CATEGORIES:Saison 2025/26
END:VEVENT
BEGIN:VEVENT
DTSTAMP:20260422T020637Z
DTSTART;TZID=Europe/Berlin:20260425T120000
DTEND;TZID=Europe/Berlin:20260425T133000
SUMMARY:Regionsoberliga wJA Germania Zwenkau vs HSG Rückmarsdorf (25087)
UID:a009cd5c-9ec4-4293-914a-fc18ef4ef950
STATUS:CONFIRMED
DESCRIPTION:Regionsoberliga wAJ\nBegegnungs-Nr: 25087\nHeim: Germania Zwenkau\nGast: HSG Rückmarsdorf\nHalle: Stadthalle Zwenkau (31113)\nAdresse: Heinrich-Mann-Weg 17\, 04442 Zwenkau\n
LOCATION:Stadthalle Zwenkau (31113): Heinrich-Mann-Weg 17\, 04442 Zwenkau
CATEGORIES:Saison 2025/26
END:VEVENT
BEGIN:VEVENT
DTSTAMP:20260422T020637Z
DTSTART;TZID=Europe/Berlin:20260412T130000
DTEND;TZID=Europe/Berlin:20260412T143000
SUMMARY:Regionsoberliga wJA Lok Wurzen vs HSG Rückmarsdorf (25053)
UID:c9024c54-5837-4d34-968a-856a0bf243a8
STATUS:CONFIRMED
LAST-MODIFIED:20260316T074550Z
DESCRIPTION:Regionsoberliga wAJ\nBegegnungs-Nr: 25053\nHeim: Lok Wurzen\nGast: HSG Rückmarsdorf\nHalle: Stadt-SH Wurzen (31502)\nAdresse: Friedrich-Ebert-Str. 2 c\, 04808 Wurzen\n
LOCATION:Stadt-SH Wurzen (31502): Friedrich-Ebert-Str. 2 c\, 04808 Wurzen
CATEGORIES:Saison 2025/26
END:VEVENT
BEGIN:VEVENT
DTSTAMP:20260422T020637Z
DTSTART;TZID=Europe/Berlin:20251207T130000
DTEND;TZID=Europe/Berlin:20251207T143000
SUMMARY:Regionsoberliga wJA TSV Markkleeberg vs HSG Rückmarsdorf (25009)
UID:7568a7a1-a460-4d3d-aafb-f0d1f0e9150c
STATUS:CONFIRMED
LAST-MODIFIED:20251208T134927Z
DESCRIPTION:Regionsoberliga wAJ\nBegegnungs-Nr: 25009\nHeim: TSV Markkleeberg\nGast: HSG Rückmarsdorf\nHalle: Peter-Pohlmann-Sportzentrum (31123)\nAdresse: Mehringstraße 6\, 04416 Markkleeberg\n
LOCATION:Peter-Pohlmann-Sportzentrum (31123): Mehringstraße 6\, 04416 Markkleeberg
CATEGORIES:Saison 2025/26
END:VEVENT
BEGIN:VEVENT
DTSTAMP:20260422T020637Z
DTSTART;TZID=Europe/Berlin:20251213T154500
DTEND;TZID=Europe/Berlin:20251213T171500
SUMMARY:Regionsoberliga wJA SG Handball Oberland vs HSG Rückmarsdorf (25018)
UID:067ec8c1-73c7-4fb0-b4a0-0ec69938b16a
STATUS:CONFIRMED
LAST-MODIFIED:20251218T124840Z
DESCRIPTION:Regionsoberliga wAJ\nBegegnungs-Nr: 25018\nHeim: SG Handball Oberland\nGast: HSG Rückmarsdorf\nHalle: SH Klingenthal (32712)\nAdresse: Amtsberg 20\, 08248 Klingenthal\n
LOCATION:SH Klingenthal (32712): Amtsberg 20\, 08248 Klingenthal
CATEGORIES:Saison 2025/26
END:VEVENT
BEGIN:VEVENT
DTSTAMP:20260422T020637Z
DTSTART;TZID=Europe/Berlin:20260201T160000
DTEND;TZID=Europe/Berlin:20260201T173000
SUMMARY:Regionsoberliga wJA SG MoGoNo Leipzig vs HSG Rückmarsdorf (25061)
UID:d00c6c16-bf62-4910-bf20-a6f7ed93e123
STATUS:CONFIRMED
LAST-MODIFIED:20260202T150441Z
DESCRIPTION:Regionsoberliga wAJ\nBegegnungs-Nr: 25061\nHeim: SG MoGoNo Leipzig\nGast: HSG Rückmarsdorf\nHalle: SH Kästner-Grundschule Leipzig (31131)\nAdresse: Erfurter Str\, 04155 Leipzig\n
LOCATION:SH Kästner-Grundschule Leipzig (31131): Erfurter Str\, 04155 Leipzig
CATEGORIES:Saison 2025/26
END:VEVENT
BEGIN:VEVENT
DTSTAMP:20260422T020637Z
DTSTART;TZID=Europe/Berlin:20251109T100000
DTEND;TZID=Europe/Berlin:20251109T113000
SUMMARY:Regionsoberliga wJA HV Chemnitz vs HSG Rückmarsdorf (25032)
UID:ba256c79-5d09-46f4-b145-7c5ff273fe12
STATUS:CONFIRMED
LAST-MODIFIED:20251110T083225Z
DESCRIPTION:Regionsoberliga wAJ\nBegegnungs-Nr: 25032\nHeim: HV Chemnitz\nGast: HSG Rückmarsdorf\nHalle: Sachsenhalle Chemnitz (32101)\nAdresse: Straße Usti nad Labem 275\, 09119 Chemnitz\n
LOCATION:Sachsenhalle Chemnitz (32101): Straße Usti nad Labem 275\, 09119 Chemnitz
CATEGORIES:Saison 2025/26
END:VEVENT
BEGIN:VEVENT
DTSTAMP:20260422T020637Z
DTSTART;TZID=Europe/Berlin:20251129T091000
DTEND;TZID=Europe/Berlin:20251129T104000
SUMMARY:Regionsoberliga wJA HSG Neudorf/Döbeln vs HSG Rückmarsdorf (25039)
UID:d0be8582-a4df-4a60-9f9a-b8443f393db3
STATUS:CONFIRMED
LAST-MODIFIED:20251201T094209Z
DESCRIPTION:Regionsoberliga wAJ\nBegegnungs-Nr: 25039\nHeim: HSG Neudorf/Döbeln\nGast: HSG Rückmarsdorf\nHalle: Stadt-SH Döbeln (31202)\nAdresse: Str. des Friedens 9\, 04720 Döbeln\n
LOCATION:Stadt-SH Döbeln (31202): Str. des Friedens 9\, 04720 Döbeln
CATEGORIES:Saison 2025/26
END:VEVENT
BEGIN:VEVENT
DTSTAMP:20260422T020637Z
DTSTART;TZID=Europe/Berlin:20260307T140000
DTEND;TZID=Europe/Berlin:20260307T153000
SUMMARY:Regionsoberliga wJA VICTORIA Naunhof vs HSG Rückmarsdorf (25071)
UID:f3d794a9-bd0a-4bdf-acb8-b717adf8db08
STATUS:CONFIRMED
LAST-MODIFIED:20260311T194952Z
DESCRIPTION:Regionsoberliga wAJ\nBegegnungs-Nr: 25071\nHeim: VICTORIA Naunhof\nGast: HSG Rückmarsdorf\nHalle: Parthelandhalle Naunhof (31120)\nAdresse: Wiesenstraße 34\, 04683 Naunhof\n
LOCATION:Parthelandhalle Naunhof (31120): Wiesenstraße 34\, 04683 Naunhof
CATEGORIES:Saison 2025/26
END:VEVENT
END:VCALENDAR
