BEGIN:VCALENDAR
PRODID:-//nuDatenautomaten//framework iCal4j //DE
VERSION:2.0
CALSCALE:GREGORIAN
BEGIN:VTIMEZONE
TZID:Europe/Berlin
LAST-MODIFIED:20260306T231828Z
TZURL:https://www.tzurl.org/zoneinfo/Europe/Berlin
X-LIC-LOCATION:Europe/Berlin
X-PROLEPTIC-TZNAME:LMT
BEGIN:STANDARD
TZNAME:CET
TZOFFSETFROM:+005328
TZOFFSETTO:+0100
DTSTART:18930401T000000
END:STANDARD
BEGIN:DAYLIGHT
TZNAME:CEST
TZOFFSETFROM:+0100
TZOFFSETTO:+0200
DTSTART:19160430T230000
RDATE:19400401T020000
RDATE:19430329T020000
RDATE:19460414T020000
RDATE:19470406T030000
RDATE:19480418T020000
RDATE:19490410T020000
RDATE:19800406T020000
END:DAYLIGHT
BEGIN:STANDARD
TZNAME:CET
TZOFFSETFROM:+0200
TZOFFSETTO:+0100
DTSTART:19161001T010000
RDATE:19421102T030000
RDATE:19431004T030000
RDATE:19441002T030000
RDATE:19451118T030000
RDATE:19461007T030000
END:STANDARD
BEGIN:DAYLIGHT
TZNAME:CEST
TZOFFSETFROM:+0100
TZOFFSETTO:+0200
DTSTART:19170416T020000
RRULE:FREQ=YEARLY;UNTIL=19180415T010000Z;BYMONTH=4;BYDAY=3MO
END:DAYLIGHT
BEGIN:STANDARD
TZNAME:CET
TZOFFSETFROM:+0200
TZOFFSETTO:+0100
DTSTART:19170917T030000
RRULE:FREQ=YEARLY;UNTIL=19180916T010000Z;BYMONTH=9;BYDAY=3MO
END:STANDARD
BEGIN:DAYLIGHT
TZNAME:CEST
TZOFFSETFROM:+0100
TZOFFSETTO:+0200
DTSTART:19440403T020000
RRULE:FREQ=YEARLY;UNTIL=19450402T010000Z;BYMONTH=4;BYDAY=1MO
END:DAYLIGHT
BEGIN:DAYLIGHT
TZNAME:CEMT
TZOFFSETFROM:+0200
TZOFFSETTO:+0300
DTSTART:19450524T020000
RDATE:19470511T030000
END:DAYLIGHT
BEGIN:DAYLIGHT
TZNAME:CEST
TZOFFSETFROM:+0300
TZOFFSETTO:+0200
DTSTART:19450924T030000
RDATE:19470629T030000
END:DAYLIGHT
BEGIN:STANDARD
TZNAME:CET
TZOFFSETFROM:+0100
TZOFFSETTO:+0100
DTSTART:19460101T000000
RDATE:19800101T000000
END:STANDARD
BEGIN:STANDARD
TZNAME:CET
TZOFFSETFROM:+0200
TZOFFSETTO:+0100
DTSTART:19471005T030000
RRULE:FREQ=YEARLY;UNTIL=19491002T010000Z;BYMONTH=10;BYDAY=1SU
END:STANDARD
BEGIN:STANDARD
TZNAME:CET
TZOFFSETFROM:+0200
TZOFFSETTO:+0100
DTSTART:19800928T030000
RRULE:FREQ=YEARLY;UNTIL=19950924T010000Z;BYMONTH=9;BYDAY=-1SU
END:STANDARD
BEGIN:DAYLIGHT
TZNAME:CEST
TZOFFSETFROM:+0100
TZOFFSETTO:+0200
DTSTART:19810329T020000
RRULE:FREQ=YEARLY;BYMONTH=3;BYDAY=-1SU
END:DAYLIGHT
BEGIN:STANDARD
TZNAME:CET
TZOFFSETFROM:+0200
TZOFFSETTO:+0100
DTSTART:19961027T030000
RRULE:FREQ=YEARLY;BYMONTH=10;BYDAY=-1SU
END:STANDARD
END:VTIMEZONE
BEGIN:VEVENT
DTSTAMP:20260421T043315Z
DTSTART;TZID=Europe/Berlin:20260411T130000
DTEND;TZID=Europe/Berlin:20260411T140000
SUMMARY:Regionsoberliga S-M mJB S2 SV Niederau vs SG Dippoldiswalde-Ruppendorf (53032)
UID:b99fd03b-2bc9-4869-aa77-865e88d4d9eb
STATUS:CONFIRMED
LAST-MODIFIED:20260413T164254Z
DESCRIPTION:Regionsoberliga S-M mJB Staffel 2\nBegegnungs-Nr: 53032\nHeim: SV Niederau\nGast: SG Dippoldiswalde-Ruppendorf\nHalle: SH BSZ Meißen (33220)\nAdresse: Goethestraße 21\, 01662 Meißen\n
LOCATION:SH BSZ Meißen (33220): Goethestraße 21\, 01662 Meißen
CATEGORIES:Saison 2025/26
END:VEVENT
BEGIN:VEVENT
DTSTAMP:20260421T043315Z
DTSTART;TZID=Europe/Berlin:20260125T120000
DTEND;TZID=Europe/Berlin:20260125T130000
SUMMARY:Regionsoberliga S-M mJB S2 SV Niederau vs HC Großenhain  II (53028)
UID:a4590574-d6f4-43ce-850f-0e47d687156e
STATUS:CONFIRMED
LAST-MODIFIED:20260125T163354Z
DESCRIPTION:Regionsoberliga S-M mJB Staffel 2\nBegegnungs-Nr: 53028\nHeim: SV Niederau\nGast: HC Großenhain  II\nHalle: SH BSZ Meißen (33220)\nAdresse: Goethestraße 21\, 01662 Meißen\n
LOCATION:SH BSZ Meißen (33220): Goethestraße 21\, 01662 Meißen
CATEGORIES:Saison 2025/26
END:VEVENT
BEGIN:VEVENT
DTSTAMP:20260421T043315Z
DTSTART;TZID=Europe/Berlin:20260110T130000
DTEND;TZID=Europe/Berlin:20260110T140000
SUMMARY:Regionsoberliga S-M mJB S2 SV Niederau vs Coswiger HSG (53024)
UID:13721571-fb80-43f0-95ef-5dd57e426f2b
STATUS:CONFIRMED
LAST-MODIFIED:20260113T163709Z
DESCRIPTION:Regionsoberliga S-M mJB Staffel 2\nBegegnungs-Nr: 53024\nHeim: SV Niederau\nGast: Coswiger HSG\nHalle: SH Priestewitz (33210)\nAdresse: Strießener Str. 3\, 01561 Priestewitz\n
LOCATION:SH Priestewitz (33210): Strießener Str. 3\, 01561 Priestewitz
CATEGORIES:Saison 2025/26
END:VEVENT
BEGIN:VEVENT
DTSTAMP:20260421T043315Z
DTSTART;TZID=Europe/Berlin:20260328T150000
DTEND;TZID=Europe/Berlin:20260328T160000
SUMMARY:Regionsoberliga S-M mJB S2 SV Niederau vs SG Klotzsche (53042)
UID:1cb43271-3cba-4ecb-8f67-0de6108995e8
STATUS:CONFIRMED
LAST-MODIFIED:20260413T164152Z
DESCRIPTION:Regionsoberliga S-M mJB Staffel 2\nBegegnungs-Nr: 53042\nHeim: SV Niederau\nGast: SG Klotzsche\nHalle: SH BSZ Meißen (33220)\nAdresse: Goethestraße 21\, 01662 Meißen\n
LOCATION:SH BSZ Meißen (33220): Goethestraße 21\, 01662 Meißen
CATEGORIES:Saison 2025/26
END:VEVENT
BEGIN:VEVENT
DTSTAMP:20260421T043315Z
DTSTART;TZID=Europe/Berlin:20251025T130000
DTEND;TZID=Europe/Berlin:20251025T140000
SUMMARY:Regionsoberliga S-M mJB S2 SV Niederau vs SG Weixdorf (53015)
UID:ef775527-a2de-4273-89f3-bef608a9be20
STATUS:CONFIRMED
LAST-MODIFIED:20251025T151138Z
DESCRIPTION:Regionsoberliga S-M mJB Staffel 2\nBegegnungs-Nr: 53015\nHeim: SV Niederau\nGast: SG Weixdorf\nHalle: SH BSZ Meißen (33220)\nAdresse: Goethestraße 21\, 01662 Meißen\n
LOCATION:SH BSZ Meißen (33220): Goethestraße 21\, 01662 Meißen
CATEGORIES:Saison 2025/26
END:VEVENT
BEGIN:VEVENT
DTSTAMP:20260421T043315Z
DTSTART;TZID=Europe/Berlin:20250906T150000
DTEND;TZID=Europe/Berlin:20250906T160000
SUMMARY:Regionsoberliga S-M mJB S2 SV Niederau vs Motor Wilsdruff  (53006)
UID:6a1a69b7-0bc2-4737-b80c-7ec347fa8e55
STATUS:CONFIRMED
LAST-MODIFIED:20250912T161410Z
DESCRIPTION:Regionsoberliga S-M mJB Staffel 2\nBegegnungs-Nr: 53006\nHeim: SV Niederau\nGast: Motor Wilsdruff \nHalle: SH BSZ Meißen (33220)\nAdresse: Goethestraße 21\, 01662 Meißen\n
LOCATION:SH BSZ Meißen (33220): Goethestraße 21\, 01662 Meißen
CATEGORIES:Saison 2025/26
END:VEVENT
BEGIN:VEVENT
DTSTAMP:20260421T043315Z
DTSTART;TZID=Europe/Berlin:20260301T120000
DTEND;TZID=Europe/Berlin:20260301T130000
SUMMARY:Regionsoberliga S-M mJB S2 SG Weixdorf vs SV Niederau (53036)
UID:b39f364d-c660-4ae8-93dc-287a24adcd85
STATUS:CONFIRMED
LAST-MODIFIED:20260305T161341Z
DESCRIPTION:Regionsoberliga S-M mJB Staffel 2\nBegegnungs-Nr: 53036\nHeim: SG Weixdorf\nGast: SV Niederau\nHalle: Gerhard-Grafe-SH Weixdorf (33116)\nAdresse: Weixdorfer Rathausplatz 2a\, 01108 Dresden\n
LOCATION:Gerhard-Grafe-SH Weixdorf (33116): Weixdorfer Rathausplatz 2a\, 01108 Dresden
CATEGORIES:Saison 2025/26
END:VEVENT
BEGIN:VEVENT
DTSTAMP:20260421T043315Z
DTSTART;TZID=Europe/Berlin:20260117T163000
DTEND;TZID=Europe/Berlin:20260117T173000
SUMMARY:Regionsoberliga S-M mJB S2 Motor Wilsdruff  vs SV Niederau (53027)
UID:25123398-cef3-4d08-949b-c3d1208ef8a0
STATUS:CONFIRMED
LAST-MODIFIED:20260119T125429Z
DESCRIPTION:Regionsoberliga S-M mJB Staffel 2\nBegegnungs-Nr: 53027\nHeim: Motor Wilsdruff \nGast: SV Niederau\nHalle: Saubach-SH Wilsdruff (33208)\nAdresse: Nossener Str. 21b\, 01723 Wilsdruff\n
LOCATION:Saubach-SH Wilsdruff (33208): Nossener Str. 21b\, 01723 Wilsdruff
CATEGORIES:Saison 2025/26
END:VEVENT
BEGIN:VEVENT
DTSTAMP:20260421T043315Z
DTSTART;TZID=Europe/Berlin:20251122T110000
DTEND;TZID=Europe/Berlin:20251122T120000
SUMMARY:Regionsoberliga S-M mJB S2 SG Klotzsche vs SV Niederau (53021)
UID:263a7afa-d747-4958-a501-69b76deb3dc2
STATUS:CONFIRMED
LAST-MODIFIED:20251125T193943Z
DESCRIPTION:Regionsoberliga S-M mJB Staffel 2\nBegegnungs-Nr: 53021\nHeim: SG Klotzsche\nGast: SV Niederau\nHalle: SH Gymnasium Klotzsche (33126)\nAdresse: Karl-Marx-Straße 44\, 01109 Dresden\n
LOCATION:SH Gymnasium Klotzsche (33126): Karl-Marx-Straße 44\, 01109 Dresden
CATEGORIES:Saison 2025/26
END:VEVENT
BEGIN:VEVENT
DTSTAMP:20260421T043315Z
DTSTART;TZID=Europe/Berlin:20251112T183000
DTEND;TZID=Europe/Berlin:20251112T193000
SUMMARY:Regionsoberliga S-M mJB S2 SG Dippoldiswalde-Ruppendorf vs SV Niederau (53011)
UID:758c5675-5f5f-4a9e-904c-32ceb250f966
STATUS:CONFIRMED
LAST-MODIFIED:20251127T142634Z
DESCRIPTION:Regionsoberliga S-M mJB Staffel 2\nBegegnungs-Nr: 53011\nHeim: SG Dippoldiswalde-Ruppendorf\nGast: SV Niederau\nHalle: Sportpark Dippoldiswalde (33229)\nAdresse: Nikolai-Ostrowski-Straße 2\, 01744 Dippoldiswalde\n
LOCATION:Sportpark Dippoldiswalde (33229): Nikolai-Ostrowski-Straße 2\, 01744 Dippoldiswalde
CATEGORIES:Saison 2025/26
END:VEVENT
BEGIN:VEVENT
DTSTAMP:20260421T043315Z
DTSTART;TZID=Europe/Berlin:20250913T143000
DTEND;TZID=Europe/Berlin:20250913T153000
SUMMARY:Regionsoberliga S-M mJB S2 HC Großenhain  II vs SV Niederau (53007)
UID:72eee71e-61e5-46f1-a4bb-e350297fb11a
STATUS:CONFIRMED
LAST-MODIFIED:20250914T162843Z
DESCRIPTION:Regionsoberliga S-M mJB Staffel 2\nBegegnungs-Nr: 53007\nHeim: HC Großenhain  II\nGast: SV Niederau\nHalle: Rödertal-SH (33205)\nAdresse: Am Marstall 4\, 01558 Großenhain\n
LOCATION:Rödertal-SH (33205): Am Marstall 4\, 01558 Großenhain
CATEGORIES:Saison 2025/26
END:VEVENT
BEGIN:VEVENT
DTSTAMP:20260421T043315Z
DTSTART;TZID=Europe/Berlin:20251208T181500
DTEND;TZID=Europe/Berlin:20251208T191500
SUMMARY:Regionsoberliga S-M mJB S2 Coswiger HSG vs SV Niederau (53003)
UID:106bbd4f-b5ce-4fb3-9899-f422a6d55dfb
STATUS:CONFIRMED
LAST-MODIFIED:20260109T172856Z
DESCRIPTION:Regionsoberliga S-M mJB Staffel 2\nBegegnungs-Nr: 53003\nHeim: Coswiger HSG\nGast: SV Niederau\nHalle: SH Gymnasium Coswig (33209)\nAdresse: Melanchthonstraße 8 - 10\, 01640 Coswig\n
LOCATION:SH Gymnasium Coswig (33209): Melanchthonstraße 8 - 10\, 01640 Coswig
CATEGORIES:Saison 2025/26
END:VEVENT
END:VCALENDAR
