BEGIN:VCALENDAR
PRODID:-//nuDatenautomaten//framework iCal4j //DE
VERSION:2.0
CALSCALE:GREGORIAN
BEGIN:VTIMEZONE
TZID:Europe/Berlin
LAST-MODIFIED:20260306T231828Z
TZURL:https://www.tzurl.org/zoneinfo/Europe/Berlin
X-LIC-LOCATION:Europe/Berlin
X-PROLEPTIC-TZNAME:LMT
BEGIN:STANDARD
TZNAME:CET
TZOFFSETFROM:+005328
TZOFFSETTO:+0100
DTSTART:18930401T000000
END:STANDARD
BEGIN:DAYLIGHT
TZNAME:CEST
TZOFFSETFROM:+0100
TZOFFSETTO:+0200
DTSTART:19160430T230000
RDATE:19400401T020000
RDATE:19430329T020000
RDATE:19460414T020000
RDATE:19470406T030000
RDATE:19480418T020000
RDATE:19490410T020000
RDATE:19800406T020000
END:DAYLIGHT
BEGIN:STANDARD
TZNAME:CET
TZOFFSETFROM:+0200
TZOFFSETTO:+0100
DTSTART:19161001T010000
RDATE:19421102T030000
RDATE:19431004T030000
RDATE:19441002T030000
RDATE:19451118T030000
RDATE:19461007T030000
END:STANDARD
BEGIN:DAYLIGHT
TZNAME:CEST
TZOFFSETFROM:+0100
TZOFFSETTO:+0200
DTSTART:19170416T020000
RRULE:FREQ=YEARLY;UNTIL=19180415T010000Z;BYMONTH=4;BYDAY=3MO
END:DAYLIGHT
BEGIN:STANDARD
TZNAME:CET
TZOFFSETFROM:+0200
TZOFFSETTO:+0100
DTSTART:19170917T030000
RRULE:FREQ=YEARLY;UNTIL=19180916T010000Z;BYMONTH=9;BYDAY=3MO
END:STANDARD
BEGIN:DAYLIGHT
TZNAME:CEST
TZOFFSETFROM:+0100
TZOFFSETTO:+0200
DTSTART:19440403T020000
RRULE:FREQ=YEARLY;UNTIL=19450402T010000Z;BYMONTH=4;BYDAY=1MO
END:DAYLIGHT
BEGIN:DAYLIGHT
TZNAME:CEMT
TZOFFSETFROM:+0200
TZOFFSETTO:+0300
DTSTART:19450524T020000
RDATE:19470511T030000
END:DAYLIGHT
BEGIN:DAYLIGHT
TZNAME:CEST
TZOFFSETFROM:+0300
TZOFFSETTO:+0200
DTSTART:19450924T030000
RDATE:19470629T030000
END:DAYLIGHT
BEGIN:STANDARD
TZNAME:CET
TZOFFSETFROM:+0100
TZOFFSETTO:+0100
DTSTART:19460101T000000
RDATE:19800101T000000
END:STANDARD
BEGIN:STANDARD
TZNAME:CET
TZOFFSETFROM:+0200
TZOFFSETTO:+0100
DTSTART:19471005T030000
RRULE:FREQ=YEARLY;UNTIL=19491002T010000Z;BYMONTH=10;BYDAY=1SU
END:STANDARD
BEGIN:STANDARD
TZNAME:CET
TZOFFSETFROM:+0200
TZOFFSETTO:+0100
DTSTART:19800928T030000
RRULE:FREQ=YEARLY;UNTIL=19950924T010000Z;BYMONTH=9;BYDAY=-1SU
END:STANDARD
BEGIN:DAYLIGHT
TZNAME:CEST
TZOFFSETFROM:+0100
TZOFFSETTO:+0200
DTSTART:19810329T020000
RRULE:FREQ=YEARLY;BYMONTH=3;BYDAY=-1SU
END:DAYLIGHT
BEGIN:STANDARD
TZNAME:CET
TZOFFSETFROM:+0200
TZOFFSETTO:+0100
DTSTART:19961027T030000
RRULE:FREQ=YEARLY;BYMONTH=10;BYDAY=-1SU
END:STANDARD
END:VTIMEZONE
BEGIN:VEVENT
DTSTAMP:20260420T033916Z
DTSTART;TZID=Europe/Berlin:20250914T102000
DTEND;TZID=Europe/Berlin:20250914T112000
SUMMARY:Regionsoberliga wJE - 2 SG MoGoNo Leipzig vs Leipziger SV Südwest (29205)
UID:fe773e68-45fa-4e4f-818d-3741d0afe463
STATUS:CONFIRMED
LAST-MODIFIED:20250916T203513Z
DESCRIPTION:Regionsoberliga weibliche E-Jugend (2)\nBegegnungs-Nr: 29205\nHeim: SG MoGoNo Leipzig\nGast: Leipziger SV Südwest\nHalle: SH Kästner-Grundschule Leipzig (31131)\nAdresse: Erfurter Str\, 04155 Leipzig\n
LOCATION:SH Kästner-Grundschule Leipzig (31131): Erfurter Str\, 04155 Leipzig
CATEGORIES:Saison 2025/26
END:VEVENT
BEGIN:VEVENT
DTSTAMP:20260420T033916Z
DTSTART;TZID=Europe/Berlin:20251202T174500
DTEND;TZID=Europe/Berlin:20251202T184500
SUMMARY:Regionsoberliga wJE - 2 SG MoGoNo Leipzig vs TSG 1861 Taucha (29215)
UID:8d3feb22-877d-4970-bba4-d1733e5783a4
STATUS:CONFIRMED
LAST-MODIFIED:20251213T105858Z
DESCRIPTION:Regionsoberliga weibliche E-Jugend (2)\nBegegnungs-Nr: 29215\nHeim: SG MoGoNo Leipzig\nGast: TSG 1861 Taucha\nHalle: SH Leipzig-Wiederitzsch (31135)\nAdresse: Messeallee 21\, 04158 Leipzig\n
LOCATION:SH Leipzig-Wiederitzsch (31135): Messeallee 21\, 04158 Leipzig
CATEGORIES:Saison 2025/26
END:VEVENT
BEGIN:VEVENT
DTSTAMP:20260420T033916Z
DTSTART;TZID=Europe/Berlin:20251129T133000
DTEND;TZID=Europe/Berlin:20251129T143000
SUMMARY:Regionsoberliga wJE - 2 SG MoGoNo Leipzig vs Lok Wurzen (29219)
UID:b2b939fb-5d0a-4737-ba13-729726dedee7
STATUS:CONFIRMED
LAST-MODIFIED:20251213T105728Z
DESCRIPTION:Regionsoberliga weibliche E-Jugend (2)\nBegegnungs-Nr: 29219\nHeim: SG MoGoNo Leipzig\nGast: Lok Wurzen\nHalle: SH Kästner-Grundschule Leipzig (31131)\nAdresse: Erfurter Str\, 04155 Leipzig\n
LOCATION:SH Kästner-Grundschule Leipzig (31131): Erfurter Str\, 04155 Leipzig
CATEGORIES:Saison 2025/26
END:VEVENT
BEGIN:VEVENT
DTSTAMP:20260420T033916Z
DTSTART;TZID=Europe/Berlin:20260503T113000
DTEND;TZID=Europe/Berlin:20260503T123000
SUMMARY:ROL - wJE Platz 7-14 SG MoGoNo Leipzig vs HC Leipzig II (29442)
UID:419d62eb-74bf-4163-906f-c8bf1fec8312
STATUS:CONFIRMED
LAST-MODIFIED:20251216T101556Z
DESCRIPTION:Regionsoberliga weibliche E-Jugend (P)\nBegegnungs-Nr: 29442\nHeim: SG MoGoNo Leipzig\nGast: HC Leipzig II\nHalle: SH Kästner-Grundschule Leipzig (31131)\nAdresse: Erfurter Str\, 04155 Leipzig\n
LOCATION:SH Kästner-Grundschule Leipzig (31131): Erfurter Str\, 04155 Leipzig
CATEGORIES:Saison 2025/26
END:VEVENT
BEGIN:VEVENT
DTSTAMP:20260420T033916Z
DTSTART;TZID=Europe/Berlin:20260322T090000
DTEND;TZID=Europe/Berlin:20260322T100000
SUMMARY:ROL - wJE Platz 7-14 SG MoGoNo Leipzig vs SG MoGoNo Leipzig II (29431)
UID:c4afca20-0902-4764-970f-a32bf8bb064c
STATUS:CONFIRMED
LAST-MODIFIED:20260323T075549Z
DESCRIPTION:Regionsoberliga weibliche E-Jugend (P)\nBegegnungs-Nr: 29431\nHeim: SG MoGoNo Leipzig\nGast: SG MoGoNo Leipzig II\nHalle: SH Kästner-Grundschule Leipzig (31131)\nAdresse: Erfurter Str\, 04155 Leipzig\n
LOCATION:SH Kästner-Grundschule Leipzig (31131): Erfurter Str\, 04155 Leipzig
CATEGORIES:Saison 2025/26
END:VEVENT
BEGIN:VEVENT
DTSTAMP:20260420T033916Z
DTSTART;TZID=Europe/Berlin:20251202T174500
DTEND;TZID=Europe/Berlin:20251202T184500
SUMMARY:ROL - wJE Platz 7-14 SG MoGoNo Leipzig vs TSG 1861 Taucha (29215)
UID:f105e65d-91c0-4456-a2d6-9bd167fbd6a4
STATUS:CONFIRMED
LAST-MODIFIED:20251216T110329Z
DESCRIPTION:Regionsoberliga weibliche E-Jugend (P)\nBegegnungs-Nr: 29215\nHeim: SG MoGoNo Leipzig\nGast: TSG 1861 Taucha\n
LOCATION:
CATEGORIES:Saison 2025/26
END:VEVENT
BEGIN:VEVENT
DTSTAMP:20260420T033916Z
DTSTART;TZID=Europe/Berlin:20251129T150000
DTEND;TZID=Europe/Berlin:20251129T160000
SUMMARY:ROL - wJE Platz 7-14 SG MoGoNo Leipzig vs Lok Wurzen (29121)
UID:02a85d9c-d650-42ad-a36a-f1065c6db161
STATUS:CONFIRMED
LAST-MODIFIED:20251216T110329Z
DESCRIPTION:Regionsoberliga weibliche E-Jugend (P)\nBegegnungs-Nr: 29121\nHeim: SG MoGoNo Leipzig\nGast: Lok Wurzen\n
LOCATION:
CATEGORIES:Saison 2025/26
END:VEVENT
BEGIN:VEVENT
DTSTAMP:20260420T033916Z
DTSTART;TZID=Europe/Berlin:20260201T103000
DTEND;TZID=Europe/Berlin:20260201T113000
SUMMARY:ROL - wJE Platz 7-14 SG MoGoNo Leipzig vs SC Markranstädt II (29419)
UID:f242fc8c-d3f7-49eb-9f6c-b291a949ead3
STATUS:CONFIRMED
LAST-MODIFIED:20260323T083951Z
DESCRIPTION:Regionsoberliga weibliche E-Jugend (P)\nBegegnungs-Nr: 29419\nHeim: SG MoGoNo Leipzig\nGast: SC Markranstädt II\nHalle: SH Kästner-Grundschule Leipzig (31131)\nAdresse: Erfurter Str\, 04155 Leipzig\n
LOCATION:SH Kästner-Grundschule Leipzig (31131): Erfurter Str\, 04155 Leipzig
CATEGORIES:Saison 2025/26
END:VEVENT
BEGIN:VEVENT
DTSTAMP:20260420T033916Z
DTSTART;TZID=Europe/Berlin:20260117T130000
DTEND;TZID=Europe/Berlin:20260117T140000
SUMMARY:ROL - wJE Platz 7-14 SG MoGoNo Leipzig vs TuS Leipzig-Mockau (29414)
UID:70462afa-e781-4eae-a1ea-2d6f6409811c
STATUS:CONFIRMED
LAST-MODIFIED:20260127T111840Z
DESCRIPTION:Regionsoberliga weibliche E-Jugend (P)\nBegegnungs-Nr: 29414\nHeim: SG MoGoNo Leipzig\nGast: TuS Leipzig-Mockau\nHalle: SH Kästner-Grundschule Leipzig (31131)\nAdresse: Erfurter Str\, 04155 Leipzig\n
LOCATION:SH Kästner-Grundschule Leipzig (31131): Erfurter Str\, 04155 Leipzig
CATEGORIES:Saison 2025/26
END:VEVENT
BEGIN:VEVENT
DTSTAMP:20260420T033916Z
DTSTART;TZID=Europe/Berlin:20250906T100000
DTEND;TZID=Europe/Berlin:20250906T110000
SUMMARY:Regionsoberliga wJE - 2 SC Markranstädt vs SG MoGoNo Leipzig (29201)
UID:0131db2a-52c6-4b3f-ae36-02c4f9712713
STATUS:CONFIRMED
LAST-MODIFIED:20250910T053906Z
DESCRIPTION:Regionsoberliga weibliche E-Jugend (2)\nBegegnungs-Nr: 29201\nHeim: SC Markranstädt\nGast: SG MoGoNo Leipzig\nHalle: Stadthalle Markranstädt (31115)\nAdresse: Leipziger Str. 4\, 04420 Markranstädt\n
LOCATION:Stadthalle Markranstädt (31115): Leipziger Str. 4\, 04420 Markranstädt
CATEGORIES:Saison 2025/26
END:VEVENT
BEGIN:VEVENT
DTSTAMP:20260420T033916Z
DTSTART;TZID=Europe/Berlin:20251207T150000
DTEND;TZID=Europe/Berlin:20251207T160000
SUMMARY:Regionsoberliga wJE - 2 TSV Markkleeberg vs SG MoGoNo Leipzig (29208)
UID:28895d12-3477-413b-9889-56d0a6f9ad3d
STATUS:CONFIRMED
LAST-MODIFIED:20251213T105921Z
DESCRIPTION:Regionsoberliga weibliche E-Jugend (2)\nBegegnungs-Nr: 29208\nHeim: TSV Markkleeberg\nGast: SG MoGoNo Leipzig\nHalle: Peter-Pohlmann-Sportzentrum (31123)\nAdresse: Mehringstraße 6\, 04416 Markkleeberg\n
LOCATION:Peter-Pohlmann-Sportzentrum (31123): Mehringstraße 6\, 04416 Markkleeberg
CATEGORIES:Saison 2025/26
END:VEVENT
BEGIN:VEVENT
DTSTAMP:20260420T033916Z
DTSTART;TZID=Europe/Berlin:20251109T093000
DTEND;TZID=Europe/Berlin:20251109T103000
SUMMARY:Regionsoberliga wJE - 2 HC Leipzig II vs SG MoGoNo Leipzig (29218)
UID:e98cae0c-4f8a-4136-b203-dc5c43ddf4bb
STATUS:CONFIRMED
LAST-MODIFIED:20251110T180326Z
DESCRIPTION:Regionsoberliga weibliche E-Jugend (2)\nBegegnungs-Nr: 29218\nHeim: HC Leipzig II\nGast: SG MoGoNo Leipzig\nHalle: SH Sportoberschule (31132)\nAdresse: Max -Planck-Str. 53-55\, 04105 Leipzig\n
LOCATION:SH Sportoberschule (31132): Max -Planck-Str. 53-55\, 04105 Leipzig
CATEGORIES:Saison 2025/26
END:VEVENT
BEGIN:VEVENT
DTSTAMP:20260420T033916Z
DTSTART;TZID=Europe/Berlin:20260125T113000
DTEND;TZID=Europe/Berlin:20260125T123000
SUMMARY:ROL - wJE Platz 7-14 SG MoGoNo Leipzig II vs SG MoGoNo Leipzig (29418)
UID:2052807b-5705-4853-a109-b51852704dab
STATUS:CONFIRMED
LAST-MODIFIED:20260127T112036Z
DESCRIPTION:Regionsoberliga weibliche E-Jugend (P)\nBegegnungs-Nr: 29418\nHeim: SG MoGoNo Leipzig II\nGast: SG MoGoNo Leipzig\nHalle: SH Kästner-Grundschule Leipzig (31131)\nAdresse: Erfurter Str\, 04155 Leipzig\n
LOCATION:SH Kästner-Grundschule Leipzig (31131): Erfurter Str\, 04155 Leipzig
CATEGORIES:Saison 2025/26
END:VEVENT
BEGIN:VEVENT
DTSTAMP:20260420T033916Z
DTSTART;TZID=Europe/Berlin:20260418T140000
DTEND;TZID=Europe/Berlin:20260418T150000
SUMMARY:ROL - wJE Platz 7-14 Lok Wurzen vs SG MoGoNo Leipzig (29437)
UID:421c5830-191f-433b-9c55-f7b1265aae87
STATUS:CONFIRMED
DESCRIPTION:Regionsoberliga weibliche E-Jugend (P)\nBegegnungs-Nr: 29437\nHeim: Lok Wurzen\nGast: SG MoGoNo Leipzig\nHalle: Stadt-SH Wurzen (31502)\nAdresse: Friedrich-Ebert-Str. 2 c\, 04808 Wurzen\n
LOCATION:Stadt-SH Wurzen (31502): Friedrich-Ebert-Str. 2 c\, 04808 Wurzen
CATEGORIES:Saison 2025/26
END:VEVENT
BEGIN:VEVENT
DTSTAMP:20260420T033916Z
DTSTART;TZID=Europe/Berlin:20260328T121500
DTEND;TZID=Europe/Berlin:20260328T131500
SUMMARY:ROL - wJE Platz 7-14 TuS Leipzig-Mockau vs SG MoGoNo Leipzig (29434)
UID:575762ce-a99a-4af0-9ea8-5f08f76f1cab
STATUS:CONFIRMED
LAST-MODIFIED:20260330T143615Z
DESCRIPTION:Regionsoberliga weibliche E-Jugend (P)\nBegegnungs-Nr: 29434\nHeim: TuS Leipzig-Mockau\nGast: SG MoGoNo Leipzig\nHalle: Sporthalle Marie-Curie-Gymnasium Wiederitzsch (31137)\nAdresse: Messeallee 19\, 04158 Leipzig (OT Wiederitzsch)\n
LOCATION:Sporthalle Marie-Curie-Gymnasium Wiederitzsch (31137): Messeallee 19\, 04158 Leipzig (OT Wiederitzsch)
CATEGORIES:Saison 2025/26
END:VEVENT
BEGIN:VEVENT
DTSTAMP:20260420T033916Z
DTSTART;TZID=Europe/Berlin:20251129T133000
DTEND;TZID=Europe/Berlin:20251129T143000
SUMMARY:ROL - wJE Platz 7-14 HC Leipzig II vs SG MoGoNo Leipzig (29219)
UID:1b4c8a3b-32a7-4ca8-9521-74c86938d3a9
STATUS:CONFIRMED
LAST-MODIFIED:20251216T110329Z
DESCRIPTION:Regionsoberliga weibliche E-Jugend (P)\nBegegnungs-Nr: 29219\nHeim: HC Leipzig II\nGast: SG MoGoNo Leipzig\n
LOCATION:
CATEGORIES:Saison 2025/26
END:VEVENT
BEGIN:VEVENT
DTSTAMP:20260420T033916Z
DTSTART;TZID=Europe/Berlin:20260308T123000
DTEND;TZID=Europe/Berlin:20260308T133000
SUMMARY:ROL - wJE Platz 7-14 TSG 1861 Taucha vs SG MoGoNo Leipzig (29427)
UID:7eb4ee5d-4151-47cf-b73c-d744fdb2207d
STATUS:CONFIRMED
LAST-MODIFIED:20260324T081830Z
DESCRIPTION:Regionsoberliga weibliche E-Jugend (P)\nBegegnungs-Nr: 29427\nHeim: TSG 1861 Taucha\nGast: SG MoGoNo Leipzig\nHalle: Mehrzweckhalle Taucha (31112)\nAdresse: Geschwister-Scholl-Str. 6\, 04425 Taucha\n
LOCATION:Mehrzweckhalle Taucha (31112): Geschwister-Scholl-Str. 6\, 04425 Taucha
CATEGORIES:Saison 2025/26
END:VEVENT
BEGIN:VEVENT
DTSTAMP:20260420T033916Z
DTSTART;TZID=Europe/Berlin:20260228T110000
DTEND;TZID=Europe/Berlin:20260228T120000
SUMMARY:ROL - wJE Platz 7-14 SC Markranstädt II vs SG MoGoNo Leipzig (29423)
UID:7fa6f415-c759-4c06-8874-6a53ca1f288a
STATUS:CONFIRMED
LAST-MODIFIED:20260301T180441Z
DESCRIPTION:Regionsoberliga weibliche E-Jugend (P)\nBegegnungs-Nr: 29423\nHeim: SC Markranstädt II\nGast: SG MoGoNo Leipzig\nHalle: Sportcenter Markranstädt (31127)\nAdresse: Leipziger Str. 47\, 04420 Markranstädt\n
LOCATION:Sportcenter Markranstädt (31127): Leipziger Str. 47\, 04420 Markranstädt
CATEGORIES:Saison 2025/26
END:VEVENT
END:VCALENDAR
