BEGIN:VCALENDAR
PRODID:-//nuDatenautomaten//framework iCal4j //DE
VERSION:2.0
CALSCALE:GREGORIAN
BEGIN:VTIMEZONE
TZID:Europe/Berlin
LAST-MODIFIED:20260306T231828Z
TZURL:https://www.tzurl.org/zoneinfo/Europe/Berlin
X-LIC-LOCATION:Europe/Berlin
X-PROLEPTIC-TZNAME:LMT
BEGIN:STANDARD
TZNAME:CET
TZOFFSETFROM:+005328
TZOFFSETTO:+0100
DTSTART:18930401T000000
END:STANDARD
BEGIN:DAYLIGHT
TZNAME:CEST
TZOFFSETFROM:+0100
TZOFFSETTO:+0200
DTSTART:19160430T230000
RDATE:19400401T020000
RDATE:19430329T020000
RDATE:19460414T020000
RDATE:19470406T030000
RDATE:19480418T020000
RDATE:19490410T020000
RDATE:19800406T020000
END:DAYLIGHT
BEGIN:STANDARD
TZNAME:CET
TZOFFSETFROM:+0200
TZOFFSETTO:+0100
DTSTART:19161001T010000
RDATE:19421102T030000
RDATE:19431004T030000
RDATE:19441002T030000
RDATE:19451118T030000
RDATE:19461007T030000
END:STANDARD
BEGIN:DAYLIGHT
TZNAME:CEST
TZOFFSETFROM:+0100
TZOFFSETTO:+0200
DTSTART:19170416T020000
RRULE:FREQ=YEARLY;UNTIL=19180415T010000Z;BYMONTH=4;BYDAY=3MO
END:DAYLIGHT
BEGIN:STANDARD
TZNAME:CET
TZOFFSETFROM:+0200
TZOFFSETTO:+0100
DTSTART:19170917T030000
RRULE:FREQ=YEARLY;UNTIL=19180916T010000Z;BYMONTH=9;BYDAY=3MO
END:STANDARD
BEGIN:DAYLIGHT
TZNAME:CEST
TZOFFSETFROM:+0100
TZOFFSETTO:+0200
DTSTART:19440403T020000
RRULE:FREQ=YEARLY;UNTIL=19450402T010000Z;BYMONTH=4;BYDAY=1MO
END:DAYLIGHT
BEGIN:DAYLIGHT
TZNAME:CEMT
TZOFFSETFROM:+0200
TZOFFSETTO:+0300
DTSTART:19450524T020000
RDATE:19470511T030000
END:DAYLIGHT
BEGIN:DAYLIGHT
TZNAME:CEST
TZOFFSETFROM:+0300
TZOFFSETTO:+0200
DTSTART:19450924T030000
RDATE:19470629T030000
END:DAYLIGHT
BEGIN:STANDARD
TZNAME:CET
TZOFFSETFROM:+0100
TZOFFSETTO:+0100
DTSTART:19460101T000000
RDATE:19800101T000000
END:STANDARD
BEGIN:STANDARD
TZNAME:CET
TZOFFSETFROM:+0200
TZOFFSETTO:+0100
DTSTART:19471005T030000
RRULE:FREQ=YEARLY;UNTIL=19491002T010000Z;BYMONTH=10;BYDAY=1SU
END:STANDARD
BEGIN:STANDARD
TZNAME:CET
TZOFFSETFROM:+0200
TZOFFSETTO:+0100
DTSTART:19800928T030000
RRULE:FREQ=YEARLY;UNTIL=19950924T010000Z;BYMONTH=9;BYDAY=-1SU
END:STANDARD
BEGIN:DAYLIGHT
TZNAME:CEST
TZOFFSETFROM:+0100
TZOFFSETTO:+0200
DTSTART:19810329T020000
RRULE:FREQ=YEARLY;BYMONTH=3;BYDAY=-1SU
END:DAYLIGHT
BEGIN:STANDARD
TZNAME:CET
TZOFFSETFROM:+0200
TZOFFSETTO:+0100
DTSTART:19961027T030000
RRULE:FREQ=YEARLY;BYMONTH=10;BYDAY=-1SU
END:STANDARD
END:VTIMEZONE
BEGIN:VEVENT
DTSTAMP:20260421T072505Z
DTSTART;TZID=Europe/Berlin:20260329T160000
DTEND;TZID=Europe/Berlin:20260329T173000
SUMMARY:ROL Männer TSV Oelsnitz vs SV 04 Plauen-O. III (100116)
UID:806bd770-4500-4b9d-97bc-28e1ec15803f
STATUS:CONFIRMED
LAST-MODIFIED:20260330T160657Z
DESCRIPTION:Regionsoberliga Männer\nBegegnungs-Nr: 100116\nHeim: TSV Oelsnitz\nGast: SV 04 Plauen-O. III\nHalle: SH Oelsnitz/V. (32707)\nAdresse: Adolf-Damaschke-Str. 55 a (Am Stadion)\, 08606 Oelsnitz\n
LOCATION:SH Oelsnitz/V. (32707): Adolf-Damaschke-Str. 55 a (Am Stadion)\, 08606 Oelsnitz
CATEGORIES:Saison 2025/26
END:VEVENT
BEGIN:VEVENT
DTSTAMP:20260421T072505Z
DTSTART;TZID=Europe/Berlin:20260426T160000
DTEND;TZID=Europe/Berlin:20260426T173000
SUMMARY:ROL Männer TSV Oelsnitz vs Burgstädter HC (100129)
UID:c229a650-fb5c-4f4e-bb51-f8044eb3d1b7
STATUS:CONFIRMED
LAST-MODIFIED:20260112T164425Z
DESCRIPTION:Regionsoberliga Männer\nBegegnungs-Nr: 100129\nHeim: TSV Oelsnitz\nGast: Burgstädter HC\nHalle: SH Oelsnitz/V. (32707)\nAdresse: Adolf-Damaschke-Str. 55 a (Am Stadion)\, 08606 Oelsnitz\n
LOCATION:SH Oelsnitz/V. (32707): Adolf-Damaschke-Str. 55 a (Am Stadion)\, 08606 Oelsnitz
CATEGORIES:Saison 2025/26
END:VEVENT
BEGIN:VEVENT
DTSTAMP:20260421T072505Z
DTSTART;TZID=Europe/Berlin:20260308T160000
DTEND;TZID=Europe/Berlin:20260308T173000
SUMMARY:ROL Männer TSV Oelsnitz vs Fortschritt Mittweida (100108)
UID:cf80bd56-ae25-4537-8cac-2b7d646e98fe
STATUS:CONFIRMED
LAST-MODIFIED:20260309T171955Z
DESCRIPTION:Regionsoberliga Männer\nBegegnungs-Nr: 100108\nHeim: TSV Oelsnitz\nGast: Fortschritt Mittweida\nHalle: SH Oelsnitz/V. (32707)\nAdresse: Adolf-Damaschke-Str. 55 a (Am Stadion)\, 08606 Oelsnitz\n
LOCATION:SH Oelsnitz/V. (32707): Adolf-Damaschke-Str. 55 a (Am Stadion)\, 08606 Oelsnitz
CATEGORIES:Saison 2025/26
END:VEVENT
BEGIN:VEVENT
DTSTAMP:20260421T072505Z
DTSTART;TZID=Europe/Berlin:20260301T160000
DTEND;TZID=Europe/Berlin:20260301T173000
SUMMARY:ROL Männer TSV Oelsnitz vs HC Pleißental (100100)
UID:f8e81e98-971d-47bb-8477-392fd62415fb
STATUS:CONFIRMED
LAST-MODIFIED:20260302T174020Z
DESCRIPTION:Regionsoberliga Männer\nBegegnungs-Nr: 100100\nHeim: TSV Oelsnitz\nGast: HC Pleißental\nHalle: SH Oelsnitz/V. (32707)\nAdresse: Adolf-Damaschke-Str. 55 a (Am Stadion)\, 08606 Oelsnitz\n
LOCATION:SH Oelsnitz/V. (32707): Adolf-Damaschke-Str. 55 a (Am Stadion)\, 08606 Oelsnitz
CATEGORIES:Saison 2025/26
END:VEVENT
BEGIN:VEVENT
DTSTAMP:20260421T072505Z
DTSTART;TZID=Europe/Berlin:20260201T160000
DTEND;TZID=Europe/Berlin:20260201T173000
SUMMARY:ROL Männer TSV Oelsnitz vs ZHC Grubenlampe II (100088)
UID:edec7451-2209-4d02-b67a-ec8eb8e27710
STATUS:CONFIRMED
LAST-MODIFIED:20260202T170003Z
DESCRIPTION:Regionsoberliga Männer\nBegegnungs-Nr: 100088\nHeim: TSV Oelsnitz\nGast: ZHC Grubenlampe II\nHalle: SH Oelsnitz/V. (32707)\nAdresse: Adolf-Damaschke-Str. 55 a (Am Stadion)\, 08606 Oelsnitz\n
LOCATION:SH Oelsnitz/V. (32707): Adolf-Damaschke-Str. 55 a (Am Stadion)\, 08606 Oelsnitz
CATEGORIES:Saison 2025/26
END:VEVENT
BEGIN:VEVENT
DTSTAMP:20260421T072505Z
DTSTART;TZID=Europe/Berlin:20250914T160000
DTEND;TZID=Europe/Berlin:20250914T173000
SUMMARY:ROL Männer TSV Oelsnitz vs TSV Einheit Claußnitz (100015)
UID:e2114021-55d2-461d-9602-cf85c1164313
STATUS:CONFIRMED
LAST-MODIFIED:20250916T194607Z
DESCRIPTION:Regionsoberliga Männer\nBegegnungs-Nr: 100015\nHeim: TSV Oelsnitz\nGast: TSV Einheit Claußnitz\nHalle: Dreifelder-SH am BSZ \"Anne Frank\" (32711)\nAdresse: Wieprechtstr. 11\, 08525 Plauen\n
LOCATION:Dreifelder-SH am BSZ \"Anne Frank\" (32711): Wieprechtstr. 11\, 08525 Plauen
CATEGORIES:Saison 2025/26
END:VEVENT
BEGIN:VEVENT
DTSTAMP:20260421T072505Z
DTSTART;TZID=Europe/Berlin:20260118T160000
DTEND;TZID=Europe/Berlin:20260118T173000
SUMMARY:ROL Männer TSV Oelsnitz vs BSG Wismut Aue (100077)
UID:b926d376-b3eb-45cf-ab89-2931dbd6bc62
STATUS:CONFIRMED
LAST-MODIFIED:20260119T170040Z
DESCRIPTION:Regionsoberliga Männer\nBegegnungs-Nr: 100077\nHeim: TSV Oelsnitz\nGast: BSG Wismut Aue\nHalle: SH Oelsnitz/V. (32707)\nAdresse: Adolf-Damaschke-Str. 55 a (Am Stadion)\, 08606 Oelsnitz\n
LOCATION:SH Oelsnitz/V. (32707): Adolf-Damaschke-Str. 55 a (Am Stadion)\, 08606 Oelsnitz
CATEGORIES:Saison 2025/26
END:VEVENT
BEGIN:VEVENT
DTSTAMP:20260421T072505Z
DTSTART;TZID=Europe/Berlin:20251130T160000
DTEND;TZID=Europe/Berlin:20251130T173000
SUMMARY:ROL Männer TSV Oelsnitz vs HV Grüna (100055)
UID:f821877f-58a9-4c34-9aae-43d63e7d3b7a
STATUS:CONFIRMED
LAST-MODIFIED:20251201T163839Z
DESCRIPTION:Regionsoberliga Männer\nBegegnungs-Nr: 100055\nHeim: TSV Oelsnitz\nGast: HV Grüna\nHalle: Dreifelder-SH am BSZ \"Anne Frank\" (32711)\nAdresse: Wieprechtstr. 11\, 08525 Plauen\n
LOCATION:Dreifelder-SH am BSZ \"Anne Frank\" (32711): Wieprechtstr. 11\, 08525 Plauen
CATEGORIES:Saison 2025/26
END:VEVENT
BEGIN:VEVENT
DTSTAMP:20260421T072505Z
DTSTART;TZID=Europe/Berlin:20250831T160000
DTEND;TZID=Europe/Berlin:20250831T173000
SUMMARY:ROL Männer TSV Oelsnitz vs HC Einheit Plauen II (100003)
UID:e2db42f5-9ea5-4053-996a-dc2f696ec6e8
STATUS:CONFIRMED
LAST-MODIFIED:20250905T132718Z
DESCRIPTION:Regionsoberliga Männer\nBegegnungs-Nr: 100003\nHeim: TSV Oelsnitz\nGast: HC Einheit Plauen II\nHalle: Dreifelder-SH am BSZ \"Anne Frank\" (32711)\nAdresse: Wieprechtstr. 11\, 08525 Plauen\n
LOCATION:Dreifelder-SH am BSZ \"Anne Frank\" (32711): Wieprechtstr. 11\, 08525 Plauen
CATEGORIES:Saison 2025/26
END:VEVENT
BEGIN:VEVENT
DTSTAMP:20260421T072505Z
DTSTART;TZID=Europe/Berlin:20251109T160000
DTEND;TZID=Europe/Berlin:20251109T173000
SUMMARY:ROL Männer TSV Oelsnitz vs Union Chemnitz II (100046)
UID:e02c67dc-0ddd-4816-8ae0-7e356497c977
STATUS:CONFIRMED
LAST-MODIFIED:20251111T175931Z
DESCRIPTION:Regionsoberliga Männer\nBegegnungs-Nr: 100046\nHeim: TSV Oelsnitz\nGast: Union Chemnitz II\nHalle: Dreifelder-SH am BSZ \"Anne Frank\" (32711)\nAdresse: Wieprechtstr. 11\, 08525 Plauen\n
LOCATION:Dreifelder-SH am BSZ \"Anne Frank\" (32711): Wieprechtstr. 11\, 08525 Plauen
CATEGORIES:Saison 2025/26
END:VEVENT
BEGIN:VEVENT
DTSTAMP:20260421T072505Z
DTSTART;TZID=Europe/Berlin:20250928T160000
DTEND;TZID=Europe/Berlin:20250928T173000
SUMMARY:ROL Männer TSV Oelsnitz vs HSG Sachsenring (100028)
UID:fe894c61-b1ac-498b-b389-f1a134be9de5
STATUS:CONFIRMED
LAST-MODIFIED:20251021T150211Z
DESCRIPTION:Regionsoberliga Männer\nBegegnungs-Nr: 100028\nHeim: TSV Oelsnitz\nGast: HSG Sachsenring\nHalle: Dreifelder-SH am BSZ \"Anne Frank\" (32711)\nAdresse: Wieprechtstr. 11\, 08525 Plauen\n
LOCATION:Dreifelder-SH am BSZ \"Anne Frank\" (32711): Wieprechtstr. 11\, 08525 Plauen
CATEGORIES:Saison 2025/26
END:VEVENT
BEGIN:VEVENT
DTSTAMP:20260421T072505Z
DTSTART;TZID=Europe/Berlin:20250906T183000
DTEND;TZID=Europe/Berlin:20250906T200000
SUMMARY:ROL Männer BSG Wismut Aue vs TSV Oelsnitz (100009)
UID:60f5a6f6-e6fd-43fe-baa3-df54fc06061d
STATUS:CONFIRMED
LAST-MODIFIED:20250908T154151Z
DESCRIPTION:Regionsoberliga Männer\nBegegnungs-Nr: 100009\nHeim: BSG Wismut Aue\nGast: TSV Oelsnitz\nHalle: SH Zeller Berg Aue  (32304)\nAdresse: Agricolastr. 5\, 08280 Aue\n
LOCATION:SH Zeller Berg Aue  (32304): Agricolastr. 5\, 08280 Aue
CATEGORIES:Saison 2025/26
END:VEVENT
BEGIN:VEVENT
DTSTAMP:20260421T072505Z
DTSTART;TZID=Europe/Berlin:20260418T160000
DTEND;TZID=Europe/Berlin:20260418T173000
SUMMARY:ROL Männer HV Grüna vs TSV Oelsnitz (100121)
UID:15aa4391-1a73-47bd-bec5-7c6e1dda6111
STATUS:CONFIRMED
LAST-MODIFIED:20260420T160827Z
DESCRIPTION:Regionsoberliga Männer\nBegegnungs-Nr: 100121\nHeim: HV Grüna\nGast: TSV Oelsnitz\nHalle: SH Dr.-Wilhelm-André-Gymnasium Chemnitz (32114)\nAdresse: Henriettenstraße 35\, 09112 Chemnitz\n
LOCATION:SH Dr.-Wilhelm-André-Gymnasium Chemnitz (32114): Henriettenstraße 35\, 09112 Chemnitz
CATEGORIES:Saison 2025/26
END:VEVENT
BEGIN:VEVENT
DTSTAMP:20260421T072505Z
DTSTART;TZID=Europe/Berlin:20260321T191500
DTEND;TZID=Europe/Berlin:20260321T204500
SUMMARY:ROL Männer Union Chemnitz II vs TSV Oelsnitz (100112)
UID:8f8b797d-4450-4bac-a5cf-6857e8f2cb4a
STATUS:CONFIRMED
LAST-MODIFIED:20260323T162235Z
DESCRIPTION:Regionsoberliga Männer\nBegegnungs-Nr: 100112\nHeim: Union Chemnitz II\nGast: TSV Oelsnitz\nHalle: Sachsenhalle Chemnitz (32101)\nAdresse: Straße Usti nad Labem 275\, 09119 Chemnitz\n
LOCATION:Sachsenhalle Chemnitz (32101): Straße Usti nad Labem 275\, 09119 Chemnitz
CATEGORIES:Saison 2025/26
END:VEVENT
BEGIN:VEVENT
DTSTAMP:20260421T072505Z
DTSTART;TZID=Europe/Berlin:20260208T120000
DTEND;TZID=Europe/Berlin:20260208T133000
SUMMARY:ROL Männer HSG Sachsenring vs TSV Oelsnitz (100096)
UID:a81f3541-eb91-4000-ab36-1714c41a9bc7
STATUS:CONFIRMED
LAST-MODIFIED:20260209T174101Z
DESCRIPTION:Regionsoberliga Männer\nBegegnungs-Nr: 100096\nHeim: HSG Sachsenring\nGast: TSV Oelsnitz\nHalle: HOT-Sportzentrum - Hohenstein-Ernstthal (32225)\nAdresse: Logenstraße 2a\, 09337 Hohenstein-Ernstthal\n
LOCATION:HOT-Sportzentrum - Hohenstein-Ernstthal (32225): Logenstraße 2a\, 09337 Hohenstein-Ernstthal
CATEGORIES:Saison 2025/26
END:VEVENT
BEGIN:VEVENT
DTSTAMP:20260421T072505Z
DTSTART;TZID=Europe/Berlin:20260214T170000
DTEND;TZID=Europe/Berlin:20260214T183000
SUMMARY:ROL Männer TSV Einheit Claußnitz vs TSV Oelsnitz (100083)
UID:84ca1dd0-b1b3-4186-b38d-d17e4c4fdfc4
STATUS:CONFIRMED
LAST-MODIFIED:20260223T133442Z
DESCRIPTION:Regionsoberliga Männer\nBegegnungs-Nr: 100083\nHeim: TSV Einheit Claußnitz\nGast: TSV Oelsnitz\nHalle: Zweifeldhalle Claußnitz (32218)\nAdresse: Daniel-Gottlob-Türk-Str. 3\, 09236 Claußnitz\n
LOCATION:Zweifeldhalle Claußnitz (32218): Daniel-Gottlob-Türk-Str. 3\, 09236 Claußnitz
CATEGORIES:Saison 2025/26
END:VEVENT
BEGIN:VEVENT
DTSTAMP:20260421T072505Z
DTSTART;TZID=Europe/Berlin:20260110T140000
DTEND;TZID=Europe/Berlin:20260110T153000
SUMMARY:ROL Männer HC Einheit Plauen II vs TSV Oelsnitz (100068)
UID:6eb83c4f-5bc3-4688-9bba-2c8c7f41f36d
STATUS:CONFIRMED
LAST-MODIFIED:20260112T165052Z
DESCRIPTION:Regionsoberliga Männer\nBegegnungs-Nr: 100068\nHeim: HC Einheit Plauen II\nGast: TSV Oelsnitz\nHalle: Dreifelder-SH am BSZ \"Anne Frank\" (32711)\nAdresse: Wieprechtstr. 11\, 08525 Plauen\n
LOCATION:Dreifelder-SH am BSZ \"Anne Frank\" (32711): Wieprechtstr. 11\, 08525 Plauen
CATEGORIES:Saison 2025/26
END:VEVENT
BEGIN:VEVENT
DTSTAMP:20260421T072505Z
DTSTART;TZID=Europe/Berlin:20251206T193000
DTEND;TZID=Europe/Berlin:20251206T210000
SUMMARY:ROL Männer Burgstädter HC vs TSV Oelsnitz (100062)
UID:b7a994dc-40db-460d-9972-ad4b749ea8d0
STATUS:CONFIRMED
LAST-MODIFIED:20251215T164358Z
DESCRIPTION:Regionsoberliga Männer\nBegegnungs-Nr: 100062\nHeim: Burgstädter HC\nGast: TSV Oelsnitz\nHalle: SH Burgstädt - Sportzentrum am Taurastein (32206)\nAdresse: Am Stadion 22\, 09217  Burgstädt\n
LOCATION:SH Burgstädt - Sportzentrum am Taurastein (32206): Am Stadion 22\, 09217  Burgstädt
CATEGORIES:Saison 2025/26
END:VEVENT
BEGIN:VEVENT
DTSTAMP:20260421T072505Z
DTSTART;TZID=Europe/Berlin:20251122T140000
DTEND;TZID=Europe/Berlin:20251122T153000
SUMMARY:ROL Männer SV 04 Plauen-O. III vs TSV Oelsnitz (100053)
UID:2bbde32a-197f-4220-9b7a-82bb548564a3
STATUS:CONFIRMED
LAST-MODIFIED:20251125T152937Z
DESCRIPTION:Regionsoberliga Männer\nBegegnungs-Nr: 100053\nHeim: SV 04 Plauen-O. III\nGast: TSV Oelsnitz\nHalle: SH Kurt-Helbig Plauen (32701)\nAdresse: Comeniusstr. 15\, 08523 Plauen\n
LOCATION:SH Kurt-Helbig Plauen (32701): Comeniusstr. 15\, 08523 Plauen
CATEGORIES:Saison 2025/26
END:VEVENT
BEGIN:VEVENT
DTSTAMP:20260421T072505Z
DTSTART;TZID=Europe/Berlin:20251101T160000
DTEND;TZID=Europe/Berlin:20251101T173000
SUMMARY:ROL Männer Fortschritt Mittweida vs TSV Oelsnitz (100040)
UID:d51642d8-b7c7-422f-bb6d-ad4651ed1cb5
STATUS:CONFIRMED
LAST-MODIFIED:20251103T180221Z
DESCRIPTION:Regionsoberliga Männer\nBegegnungs-Nr: 100040\nHeim: Fortschritt Mittweida\nGast: TSV Oelsnitz\nHalle: SH \"Am Schwanenteich\" Mittweida (32207)\nAdresse: Leipziger Straße 15\, 09648 Mittweida\n
LOCATION:SH \"Am Schwanenteich\" Mittweida (32207): Leipziger Straße 15\, 09648 Mittweida
CATEGORIES:Saison 2025/26
END:VEVENT
BEGIN:VEVENT
DTSTAMP:20260421T072505Z
DTSTART;TZID=Europe/Berlin:20251025T170000
DTEND;TZID=Europe/Berlin:20251025T183000
SUMMARY:ROL Männer HC Pleißental vs TSV Oelsnitz (100036)
UID:a9b7093c-4327-4d2b-93f6-4a63371647e6
STATUS:CONFIRMED
LAST-MODIFIED:20251028T152913Z
DESCRIPTION:Regionsoberliga Männer\nBegegnungs-Nr: 100036\nHeim: HC Pleißental\nGast: TSV Oelsnitz\nHalle: SH Koberbachzentrum Langenhessen (32505)\nAdresse: Seelingstädter Str. 7\, 08412 Werdau OT Langenhessen\n
LOCATION:SH Koberbachzentrum Langenhessen (32505): Seelingstädter Str. 7\, 08412 Werdau OT Langenhessen
CATEGORIES:Saison 2025/26
END:VEVENT
BEGIN:VEVENT
DTSTAMP:20260421T072505Z
DTSTART;TZID=Europe/Berlin:20250920T193000
DTEND;TZID=Europe/Berlin:20250920T210000
SUMMARY:ROL Männer ZHC Grubenlampe II vs TSV Oelsnitz (100024)
UID:6e88a495-1c2e-4cc6-925c-e5049326b369
STATUS:CONFIRMED
LAST-MODIFIED:20251021T150132Z
DESCRIPTION:Regionsoberliga Männer\nBegegnungs-Nr: 100024\nHeim: ZHC Grubenlampe II\nGast: TSV Oelsnitz\nHalle: SH Zwickau-Neuplanitz (32501)\nAdresse: Dortmunder Str. 7a\, 08062 Zwickau\n
LOCATION:SH Zwickau-Neuplanitz (32501): Dortmunder Str. 7a\, 08062 Zwickau
CATEGORIES:Saison 2025/26
END:VEVENT
END:VCALENDAR
