BEGIN:VCALENDAR
PRODID:-//nuDatenautomaten//framework iCal4j //DE
VERSION:2.0
CALSCALE:GREGORIAN
BEGIN:VTIMEZONE
TZID:Europe/Berlin
LAST-MODIFIED:20260306T231828Z
TZURL:https://www.tzurl.org/zoneinfo/Europe/Berlin
X-LIC-LOCATION:Europe/Berlin
X-PROLEPTIC-TZNAME:LMT
BEGIN:STANDARD
TZNAME:CET
TZOFFSETFROM:+005328
TZOFFSETTO:+0100
DTSTART:18930401T000000
END:STANDARD
BEGIN:DAYLIGHT
TZNAME:CEST
TZOFFSETFROM:+0100
TZOFFSETTO:+0200
DTSTART:19160430T230000
RDATE:19400401T020000
RDATE:19430329T020000
RDATE:19460414T020000
RDATE:19470406T030000
RDATE:19480418T020000
RDATE:19490410T020000
RDATE:19800406T020000
END:DAYLIGHT
BEGIN:STANDARD
TZNAME:CET
TZOFFSETFROM:+0200
TZOFFSETTO:+0100
DTSTART:19161001T010000
RDATE:19421102T030000
RDATE:19431004T030000
RDATE:19441002T030000
RDATE:19451118T030000
RDATE:19461007T030000
END:STANDARD
BEGIN:DAYLIGHT
TZNAME:CEST
TZOFFSETFROM:+0100
TZOFFSETTO:+0200
DTSTART:19170416T020000
RRULE:FREQ=YEARLY;UNTIL=19180415T010000Z;BYMONTH=4;BYDAY=3MO
END:DAYLIGHT
BEGIN:STANDARD
TZNAME:CET
TZOFFSETFROM:+0200
TZOFFSETTO:+0100
DTSTART:19170917T030000
RRULE:FREQ=YEARLY;UNTIL=19180916T010000Z;BYMONTH=9;BYDAY=3MO
END:STANDARD
BEGIN:DAYLIGHT
TZNAME:CEST
TZOFFSETFROM:+0100
TZOFFSETTO:+0200
DTSTART:19440403T020000
RRULE:FREQ=YEARLY;UNTIL=19450402T010000Z;BYMONTH=4;BYDAY=1MO
END:DAYLIGHT
BEGIN:DAYLIGHT
TZNAME:CEMT
TZOFFSETFROM:+0200
TZOFFSETTO:+0300
DTSTART:19450524T020000
RDATE:19470511T030000
END:DAYLIGHT
BEGIN:DAYLIGHT
TZNAME:CEST
TZOFFSETFROM:+0300
TZOFFSETTO:+0200
DTSTART:19450924T030000
RDATE:19470629T030000
END:DAYLIGHT
BEGIN:STANDARD
TZNAME:CET
TZOFFSETFROM:+0100
TZOFFSETTO:+0100
DTSTART:19460101T000000
RDATE:19800101T000000
END:STANDARD
BEGIN:STANDARD
TZNAME:CET
TZOFFSETFROM:+0200
TZOFFSETTO:+0100
DTSTART:19471005T030000
RRULE:FREQ=YEARLY;UNTIL=19491002T010000Z;BYMONTH=10;BYDAY=1SU
END:STANDARD
BEGIN:STANDARD
TZNAME:CET
TZOFFSETFROM:+0200
TZOFFSETTO:+0100
DTSTART:19800928T030000
RRULE:FREQ=YEARLY;UNTIL=19950924T010000Z;BYMONTH=9;BYDAY=-1SU
END:STANDARD
BEGIN:DAYLIGHT
TZNAME:CEST
TZOFFSETFROM:+0100
TZOFFSETTO:+0200
DTSTART:19810329T020000
RRULE:FREQ=YEARLY;BYMONTH=3;BYDAY=-1SU
END:DAYLIGHT
BEGIN:STANDARD
TZNAME:CET
TZOFFSETFROM:+0200
TZOFFSETTO:+0100
DTSTART:19961027T030000
RRULE:FREQ=YEARLY;BYMONTH=10;BYDAY=-1SU
END:STANDARD
END:VTIMEZONE
BEGIN:VEVENT
DTSTAMP:20260426T031550Z
DTSTART;TZID=Europe/Berlin:20250907T120000
DTEND;TZID=Europe/Berlin:20250907T133000
SUMMARY:Regionsklasse S-M Mä. St.2 HC Elbflorenz 2006 IV vs SV Rähnitz II (4004)
UID:97a949b4-6e71-4688-a604-559ac68127d1
STATUS:CONFIRMED
LAST-MODIFIED:20250908T083835Z
DESCRIPTION:Regionsklasse S-M Männer Staffel 2\nBegegnungs-Nr: 4004\nHeim: HC Elbflorenz 2006 IV\nGast: SV Rähnitz II\nHalle: BallsportARENA Dresden (33133)\nAdresse: Weißeritzstraße 4\, 01067 Dresden\n
LOCATION:BallsportARENA Dresden (33133): Weißeritzstraße 4\, 01067 Dresden
CATEGORIES:Saison 2025/26
END:VEVENT
BEGIN:VEVENT
DTSTAMP:20260426T031550Z
DTSTART;TZID=Europe/Berlin:20260322T163000
DTEND;TZID=Europe/Berlin:20260322T180000
SUMMARY:Regionsklasse S-M Mä. St.2 HC Elbflorenz 2006 IV vs SV Niederau III (4035)
UID:967146f6-f945-4069-b430-751b3df56365
STATUS:CONFIRMED
LAST-MODIFIED:20260322T174702Z
DESCRIPTION:Regionsklasse S-M Männer Staffel 2\nBegegnungs-Nr: 4035\nHeim: HC Elbflorenz 2006 IV\nGast: SV Niederau III\nHalle: BallsportARENA Dresden (33133)\nAdresse: Weißeritzstraße 4\, 01067 Dresden\n
LOCATION:BallsportARENA Dresden (33133): Weißeritzstraße 4\, 01067 Dresden
CATEGORIES:Saison 2025/26
END:VEVENT
BEGIN:VEVENT
DTSTAMP:20260426T031550Z
DTSTART;TZID=Europe/Berlin:20260419T110000
DTEND;TZID=Europe/Berlin:20260419T123000
SUMMARY:Regionsklasse S-M Mä. St.2 HC Elbflorenz 2006 IV vs VfL Meißen (4031)
UID:7c261c95-7531-442a-8f8d-27702cb95ffb
STATUS:CONFIRMED
LAST-MODIFIED:20260419T171502Z
DESCRIPTION:Regionsklasse S-M Männer Staffel 2\nBegegnungs-Nr: 4031\nHeim: HC Elbflorenz 2006 IV\nGast: VfL Meißen\nHalle: BallsportARENA Dresden (33133)\nAdresse: Weißeritzstraße 4\, 01067 Dresden\n
LOCATION:BallsportARENA Dresden (33133): Weißeritzstraße 4\, 01067 Dresden
CATEGORIES:Saison 2025/26
END:VEVENT
BEGIN:VEVENT
DTSTAMP:20260426T031550Z
DTSTART;TZID=Europe/Berlin:20260124T190000
DTEND;TZID=Europe/Berlin:20260124T203000
SUMMARY:Regionsklasse S-M Mä. St.2 HC Elbflorenz 2006 IV vs SG Dippoldiswalde-Ruppendorf (4026)
UID:8d7408fa-8e66-4e01-ae3a-d1e433ec4aac
STATUS:CONFIRMED
LAST-MODIFIED:20260125T153300Z
DESCRIPTION:Regionsklasse S-M Männer Staffel 2\nBegegnungs-Nr: 4026\nHeim: HC Elbflorenz 2006 IV\nGast: SG Dippoldiswalde-Ruppendorf\nHalle: BallsportARENA Dresden (33133)\nAdresse: Weißeritzstraße 4\, 01067 Dresden\n
LOCATION:BallsportARENA Dresden (33133): Weißeritzstraße 4\, 01067 Dresden
CATEGORIES:Saison 2025/26
END:VEVENT
BEGIN:VEVENT
DTSTAMP:20260426T031550Z
DTSTART;TZID=Europe/Berlin:20260111T150000
DTEND;TZID=Europe/Berlin:20260111T163000
SUMMARY:Regionsklasse S-M Mä. St.2 HC Elbflorenz 2006 IV vs SSV Lommatzsch II (4023)
UID:9fba5d91-e0fe-48d0-9959-fc91e1aeda73
STATUS:CONFIRMED
LAST-MODIFIED:20260112T172912Z
DESCRIPTION:Regionsklasse S-M Männer Staffel 2\nBegegnungs-Nr: 4023\nHeim: HC Elbflorenz 2006 IV\nGast: SSV Lommatzsch II\nHalle: BallsportARENA Dresden (33133)\nAdresse: Weißeritzstraße 4\, 01067 Dresden\n
LOCATION:BallsportARENA Dresden (33133): Weißeritzstraße 4\, 01067 Dresden
CATEGORIES:Saison 2025/26
END:VEVENT
BEGIN:VEVENT
DTSTAMP:20260426T031550Z
DTSTART;TZID=Europe/Berlin:20251026T120000
DTEND;TZID=Europe/Berlin:20251026T133000
SUMMARY:Regionsklasse S-M Mä. St.2 HC Elbflorenz 2006 IV vs Medizin Bad Gottleuba II (4011)
UID:4d070ee1-bf86-4efd-a796-03e34dc59c7b
STATUS:CONFIRMED
LAST-MODIFIED:20251026T155700Z
DESCRIPTION:Regionsklasse S-M Männer Staffel 2\nBegegnungs-Nr: 4011\nHeim: HC Elbflorenz 2006 IV\nGast: Medizin Bad Gottleuba II\nHalle: JOYNEXT Arena Dresden (Spielfeld 2) (33112b)\nAdresse: Magdeburger Straße 10\, 01067 Dresden\n
LOCATION:JOYNEXT Arena Dresden (Spielfeld 2) (33112b): Magdeburger Straße 10\, 01067 Dresden
CATEGORIES:Saison 2025/26
END:VEVENT
BEGIN:VEVENT
DTSTAMP:20260426T031550Z
DTSTART;TZID=Europe/Berlin:20250927T190000
DTEND;TZID=Europe/Berlin:20250927T203000
SUMMARY:Regionsklasse S-M Mä. St.2 VfL Meißen vs HC Elbflorenz 2006 IV (4010)
UID:e839fb10-1c08-40be-a6c5-062ba3d32b31
STATUS:CONFIRMED
LAST-MODIFIED:20250928T125338Z
DESCRIPTION:Regionsklasse S-M Männer Staffel 2\nBegegnungs-Nr: 4010\nHeim: VfL Meißen\nGast: HC Elbflorenz 2006 IV\nHalle: SH \"Heiliger Grund\" Meißen (33212)\nAdresse: Goethestraße 27\, 01662 Meißen\n
LOCATION:SH \"Heiliger Grund\" Meißen (33212): Goethestraße 27\, 01662 Meißen
CATEGORIES:Saison 2025/26
END:VEVENT
BEGIN:VEVENT
DTSTAMP:20260426T031550Z
DTSTART;TZID=Europe/Berlin:20250913T150000
DTEND;TZID=Europe/Berlin:20250913T163000
SUMMARY:Regionsklasse S-M Mä. St.2 SG Dippoldiswalde-Ruppendorf vs HC Elbflorenz 2006 IV (4005)
UID:34d99f06-1171-47f6-89da-bb33f1bc8af7
STATUS:CONFIRMED
LAST-MODIFIED:20250914T165050Z
DESCRIPTION:Regionsklasse S-M Männer Staffel 2\nBegegnungs-Nr: 4005\nHeim: SG Dippoldiswalde-Ruppendorf\nGast: HC Elbflorenz 2006 IV\nHalle: SH Glashütte (33225)\nAdresse: Prießnitztal 32\, 01768 Glashütte\n
LOCATION:SH Glashütte (33225): Prießnitztal 32\, 01768 Glashütte
CATEGORIES:Saison 2025/26
END:VEVENT
BEGIN:VEVENT
DTSTAMP:20260426T031550Z
DTSTART;TZID=Europe/Berlin:20250830T120000
DTEND;TZID=Europe/Berlin:20250830T133000
SUMMARY:Regionsklasse S-M Mä. St.2 SSV Lommatzsch II vs HC Elbflorenz 2006 IV (4002)
UID:baa28fc8-f9d0-4bf1-a8c6-2263d0edea5d
STATUS:CONFIRMED
LAST-MODIFIED:20250831T164010Z
DESCRIPTION:Regionsklasse S-M Männer Staffel 2\nBegegnungs-Nr: 4002\nHeim: SSV Lommatzsch II\nGast: HC Elbflorenz 2006 IV\nHalle: Lothar-Krauße-SH Lommatzsch (33211)\nAdresse: Domselwitzer Str. 21\, 01623 Lommatzsch\n
LOCATION:Lothar-Krauße-SH Lommatzsch (33211): Domselwitzer Str. 21\, 01623 Lommatzsch
CATEGORIES:Saison 2025/26
END:VEVENT
BEGIN:VEVENT
DTSTAMP:20260426T031550Z
DTSTART;TZID=Europe/Berlin:20260301T130000
DTEND;TZID=Europe/Berlin:20260301T143000
SUMMARY:Regionsklasse S-M Mä. St.2 Medizin Bad Gottleuba II vs HC Elbflorenz 2006 IV (4032)
UID:56d339c9-b203-4db1-8600-c4350c7c4a5a
STATUS:CONFIRMED
LAST-MODIFIED:20260302T151638Z
DESCRIPTION:Regionsklasse S-M Männer Staffel 2\nBegegnungs-Nr: 4032\nHeim: Medizin Bad Gottleuba II\nGast: HC Elbflorenz 2006 IV\nHalle: SH Geising (33201)\nAdresse: Lange Str. 25\, 01778 Altenberg ST Geising\n
LOCATION:SH Geising (33201): Lange Str. 25\, 01778 Altenberg ST Geising
CATEGORIES:Saison 2025/26
END:VEVENT
BEGIN:VEVENT
DTSTAMP:20260426T031550Z
DTSTART;TZID=Europe/Berlin:20260118T120000
DTEND;TZID=Europe/Berlin:20260118T133000
SUMMARY:Regionsklasse S-M Mä. St.2 SV Rähnitz II vs HC Elbflorenz 2006 IV (4025)
UID:7b6ca978-eb88-4aab-a5b8-65e144f1b83d
STATUS:CONFIRMED
LAST-MODIFIED:20260118T184902Z
DESCRIPTION:Regionsklasse S-M Männer Staffel 2\nBegegnungs-Nr: 4025\nHeim: SV Rähnitz II\nGast: HC Elbflorenz 2006 IV\nHalle: SH 56. Oberschule Dresden Am Trachenberg (33131)\nAdresse: Aachener Straße 10\, 01129 Dresden\n
LOCATION:SH 56. Oberschule Dresden Am Trachenberg (33131): Aachener Straße 10\, 01129 Dresden
CATEGORIES:Saison 2025/26
END:VEVENT
BEGIN:VEVENT
DTSTAMP:20260426T031550Z
DTSTART;TZID=Europe/Berlin:20251108T130000
DTEND;TZID=Europe/Berlin:20251108T143000
SUMMARY:Regionsklasse S-M Mä. St.2 SV Niederau III vs HC Elbflorenz 2006 IV (4014)
UID:9673aad2-3696-4aff-8aaf-612b24d8465c
STATUS:CONFIRMED
LAST-MODIFIED:20251109T075357Z
DESCRIPTION:Regionsklasse S-M Männer Staffel 2\nBegegnungs-Nr: 4014\nHeim: SV Niederau III\nGast: HC Elbflorenz 2006 IV\nHalle: SH \"Heiliger Grund\" Meißen (33212)\nAdresse: Goethestraße 27\, 01662 Meißen\n
LOCATION:SH \"Heiliger Grund\" Meißen (33212): Goethestraße 27\, 01662 Meißen
CATEGORIES:Saison 2025/26
END:VEVENT
END:VCALENDAR
