BEGIN:VCALENDAR
PRODID:-//nuDatenautomaten//framework iCal4j //DE
VERSION:2.0
CALSCALE:GREGORIAN
BEGIN:VTIMEZONE
TZID:Europe/Berlin
LAST-MODIFIED:20260306T231828Z
TZURL:https://www.tzurl.org/zoneinfo/Europe/Berlin
X-LIC-LOCATION:Europe/Berlin
X-PROLEPTIC-TZNAME:LMT
BEGIN:STANDARD
TZNAME:CET
TZOFFSETFROM:+005328
TZOFFSETTO:+0100
DTSTART:18930401T000000
END:STANDARD
BEGIN:DAYLIGHT
TZNAME:CEST
TZOFFSETFROM:+0100
TZOFFSETTO:+0200
DTSTART:19160430T230000
RDATE:19400401T020000
RDATE:19430329T020000
RDATE:19460414T020000
RDATE:19470406T030000
RDATE:19480418T020000
RDATE:19490410T020000
RDATE:19800406T020000
END:DAYLIGHT
BEGIN:STANDARD
TZNAME:CET
TZOFFSETFROM:+0200
TZOFFSETTO:+0100
DTSTART:19161001T010000
RDATE:19421102T030000
RDATE:19431004T030000
RDATE:19441002T030000
RDATE:19451118T030000
RDATE:19461007T030000
END:STANDARD
BEGIN:DAYLIGHT
TZNAME:CEST
TZOFFSETFROM:+0100
TZOFFSETTO:+0200
DTSTART:19170416T020000
RRULE:FREQ=YEARLY;UNTIL=19180415T010000Z;BYMONTH=4;BYDAY=3MO
END:DAYLIGHT
BEGIN:STANDARD
TZNAME:CET
TZOFFSETFROM:+0200
TZOFFSETTO:+0100
DTSTART:19170917T030000
RRULE:FREQ=YEARLY;UNTIL=19180916T010000Z;BYMONTH=9;BYDAY=3MO
END:STANDARD
BEGIN:DAYLIGHT
TZNAME:CEST
TZOFFSETFROM:+0100
TZOFFSETTO:+0200
DTSTART:19440403T020000
RRULE:FREQ=YEARLY;UNTIL=19450402T010000Z;BYMONTH=4;BYDAY=1MO
END:DAYLIGHT
BEGIN:DAYLIGHT
TZNAME:CEMT
TZOFFSETFROM:+0200
TZOFFSETTO:+0300
DTSTART:19450524T020000
RDATE:19470511T030000
END:DAYLIGHT
BEGIN:DAYLIGHT
TZNAME:CEST
TZOFFSETFROM:+0300
TZOFFSETTO:+0200
DTSTART:19450924T030000
RDATE:19470629T030000
END:DAYLIGHT
BEGIN:STANDARD
TZNAME:CET
TZOFFSETFROM:+0100
TZOFFSETTO:+0100
DTSTART:19460101T000000
RDATE:19800101T000000
END:STANDARD
BEGIN:STANDARD
TZNAME:CET
TZOFFSETFROM:+0200
TZOFFSETTO:+0100
DTSTART:19471005T030000
RRULE:FREQ=YEARLY;UNTIL=19491002T010000Z;BYMONTH=10;BYDAY=1SU
END:STANDARD
BEGIN:STANDARD
TZNAME:CET
TZOFFSETFROM:+0200
TZOFFSETTO:+0100
DTSTART:19800928T030000
RRULE:FREQ=YEARLY;UNTIL=19950924T010000Z;BYMONTH=9;BYDAY=-1SU
END:STANDARD
BEGIN:DAYLIGHT
TZNAME:CEST
TZOFFSETFROM:+0100
TZOFFSETTO:+0200
DTSTART:19810329T020000
RRULE:FREQ=YEARLY;BYMONTH=3;BYDAY=-1SU
END:DAYLIGHT
BEGIN:STANDARD
TZNAME:CET
TZOFFSETFROM:+0200
TZOFFSETTO:+0100
DTSTART:19961027T030000
RRULE:FREQ=YEARLY;BYMONTH=10;BYDAY=-1SU
END:STANDARD
END:VTIMEZONE
BEGIN:VEVENT
DTSTAMP:20260421T125825Z
DTSTART;TZID=Europe/Berlin:20260322T120000
DTEND;TZID=Europe/Berlin:20260322T130000
SUMMARY:Regionsoberliga S-M mJB S2 SG Weixdorf vs HC Großenhain  II (53039)
UID:73eed173-5136-4613-9a99-dc2553c23f16
STATUS:CONFIRMED
LAST-MODIFIED:20260322T173019Z
DESCRIPTION:Regionsoberliga S-M mJB Staffel 2\nBegegnungs-Nr: 53039\nHeim: SG Weixdorf\nGast: HC Großenhain  II\nHalle: Gerhard-Grafe-SH Weixdorf (33116)\nAdresse: Weixdorfer Rathausplatz 2a\, 01108 Dresden\n
LOCATION:Gerhard-Grafe-SH Weixdorf (33116): Weixdorfer Rathausplatz 2a\, 01108 Dresden
CATEGORIES:Saison 2025/26
END:VEVENT
BEGIN:VEVENT
DTSTAMP:20260421T125825Z
DTSTART;TZID=Europe/Berlin:20260301T120000
DTEND;TZID=Europe/Berlin:20260301T130000
SUMMARY:Regionsoberliga S-M mJB S2 SG Weixdorf vs SV Niederau (53036)
UID:b39f364d-c660-4ae8-93dc-287a24adcd85
STATUS:CONFIRMED
LAST-MODIFIED:20260305T161341Z
DESCRIPTION:Regionsoberliga S-M mJB Staffel 2\nBegegnungs-Nr: 53036\nHeim: SG Weixdorf\nGast: SV Niederau\nHalle: Gerhard-Grafe-SH Weixdorf (33116)\nAdresse: Weixdorfer Rathausplatz 2a\, 01108 Dresden\n
LOCATION:Gerhard-Grafe-SH Weixdorf (33116): Weixdorfer Rathausplatz 2a\, 01108 Dresden
CATEGORIES:Saison 2025/26
END:VEVENT
BEGIN:VEVENT
DTSTAMP:20260421T125825Z
DTSTART;TZID=Europe/Berlin:20260111T120000
DTEND;TZID=Europe/Berlin:20260111T130000
SUMMARY:Regionsoberliga S-M mJB S2 SG Weixdorf vs SG Dippoldiswalde-Ruppendorf (53022)
UID:9c54ff0f-1cfc-4e86-b00c-82985135a013
STATUS:CONFIRMED
LAST-MODIFIED:20260113T163841Z
DESCRIPTION:Regionsoberliga S-M mJB Staffel 2\nBegegnungs-Nr: 53022\nHeim: SG Weixdorf\nGast: SG Dippoldiswalde-Ruppendorf\nHalle: Gerhard-Grafe-SH Weixdorf (33116)\nAdresse: Weixdorfer Rathausplatz 2a\, 01108 Dresden\n
LOCATION:Gerhard-Grafe-SH Weixdorf (33116): Weixdorfer Rathausplatz 2a\, 01108 Dresden
CATEGORIES:Saison 2025/26
END:VEVENT
BEGIN:VEVENT
DTSTAMP:20260421T125825Z
DTSTART;TZID=Europe/Berlin:20250928T100000
DTEND;TZID=Europe/Berlin:20250928T110000
SUMMARY:Regionsoberliga S-M mJB S2 SG Weixdorf vs SG Klotzsche (53012)
UID:3d399391-7258-4e85-92a1-e8e1b1886936
STATUS:CONFIRMED
LAST-MODIFIED:20250928T161140Z
DESCRIPTION:Regionsoberliga S-M mJB Staffel 2\nBegegnungs-Nr: 53012\nHeim: SG Weixdorf\nGast: SG Klotzsche\nHalle: Gerhard-Grafe-SH Weixdorf (33116)\nAdresse: Weixdorfer Rathausplatz 2a\, 01108 Dresden\n
LOCATION:Gerhard-Grafe-SH Weixdorf (33116): Weixdorfer Rathausplatz 2a\, 01108 Dresden
CATEGORIES:Saison 2025/26
END:VEVENT
BEGIN:VEVENT
DTSTAMP:20260421T125825Z
DTSTART;TZID=Europe/Berlin:20251102T100000
DTEND;TZID=Europe/Berlin:20251102T110000
SUMMARY:Regionsoberliga S-M mJB S2 SG Weixdorf vs Motor Wilsdruff  (53017)
UID:f539dd67-a382-4583-8ab0-d5d740ad0907
STATUS:CONFIRMED
LAST-MODIFIED:20251103T163238Z
DESCRIPTION:Regionsoberliga S-M mJB Staffel 2\nBegegnungs-Nr: 53017\nHeim: SG Weixdorf\nGast: Motor Wilsdruff \nHalle: Gerhard-Grafe-SH Weixdorf (33116)\nAdresse: Weixdorfer Rathausplatz 2a\, 01108 Dresden\n
LOCATION:Gerhard-Grafe-SH Weixdorf (33116): Weixdorfer Rathausplatz 2a\, 01108 Dresden
CATEGORIES:Saison 2025/26
END:VEVENT
BEGIN:VEVENT
DTSTAMP:20260421T125825Z
DTSTART;TZID=Europe/Berlin:20250907T120000
DTEND;TZID=Europe/Berlin:20250907T130000
SUMMARY:Regionsoberliga S-M mJB S2 SG Weixdorf vs Coswiger HSG (53004)
UID:35fdf311-6fc5-49cc-b2cb-7d1d85d7b695
STATUS:CONFIRMED
LAST-MODIFIED:20250908T145124Z
DESCRIPTION:Regionsoberliga S-M mJB Staffel 2\nBegegnungs-Nr: 53004\nHeim: SG Weixdorf\nGast: Coswiger HSG\nHalle: Gerhard-Grafe-SH Weixdorf (33116)\nAdresse: Weixdorfer Rathausplatz 2a\, 01108 Dresden\n
LOCATION:Gerhard-Grafe-SH Weixdorf (33116): Weixdorfer Rathausplatz 2a\, 01108 Dresden
CATEGORIES:Saison 2025/26
END:VEVENT
BEGIN:VEVENT
DTSTAMP:20260421T125825Z
DTSTART;TZID=Europe/Berlin:20260419T100000
DTEND;TZID=Europe/Berlin:20260419T110000
SUMMARY:Regionsoberliga S-M mJB F4 SG Weixdorf vs Medizin Bad Gottleuba (55001)
UID:583e1031-2e59-46f3-930b-c78c5534f76c
STATUS:CONFIRMED
LAST-MODIFIED:20260416T181301Z
DESCRIPTION:Regionsoberliga S-M mJB Final4\nBegegnungs-Nr: 55001\nHeim: SG Weixdorf\nGast: Medizin Bad Gottleuba\nHalle: SH Gymnasium Klotzsche (33126)\nAdresse: Karl-Marx-Straße 44\, 01109 Dresden\n
LOCATION:SH Gymnasium Klotzsche (33126): Karl-Marx-Straße 44\, 01109 Dresden
CATEGORIES:Saison 2025/26
END:VEVENT
BEGIN:VEVENT
DTSTAMP:20260421T125825Z
DTSTART;TZID=Europe/Berlin:20260419T133000
DTEND;TZID=Europe/Berlin:20260419T143000
SUMMARY:Regionsoberliga S-M mJB F4 SG Weixdorf vs SG Kurort Hartha (55003)
UID:952246bb-5e62-4bad-8ff5-c611de3eccce
STATUS:CONFIRMED
LAST-MODIFIED:20260419T110809Z
DESCRIPTION:Regionsoberliga S-M mJB Final4\nBegegnungs-Nr: 55003\nHeim: SG Weixdorf\nGast: SG Kurort Hartha\nHalle: SH Gymnasium Klotzsche (33126)\nAdresse: Karl-Marx-Straße 44\, 01109 Dresden\n
LOCATION:SH Gymnasium Klotzsche (33126): Karl-Marx-Straße 44\, 01109 Dresden
CATEGORIES:Saison 2025/26
END:VEVENT
BEGIN:VEVENT
DTSTAMP:20260421T125825Z
DTSTART;TZID=Europe/Berlin:20260307T103000
DTEND;TZID=Europe/Berlin:20260307T113000
SUMMARY:Regionsoberliga S-M mJB S2 Motor Wilsdruff  vs SG Weixdorf (53038)
UID:260d3bb0-4d32-409d-b3be-a33eee00e090
STATUS:CONFIRMED
LAST-MODIFIED:20260311T210358Z
DESCRIPTION:Regionsoberliga S-M mJB Staffel 2\nBegegnungs-Nr: 53038\nHeim: Motor Wilsdruff \nGast: SG Weixdorf\nHalle: Saubach-SH Wilsdruff (33208)\nAdresse: Nossener Str. 21b\, 01723 Wilsdruff\n
LOCATION:Saubach-SH Wilsdruff (33208): Nossener Str. 21b\, 01723 Wilsdruff
CATEGORIES:Saison 2025/26
END:VEVENT
BEGIN:VEVENT
DTSTAMP:20260421T125825Z
DTSTART;TZID=Europe/Berlin:20260117T114500
DTEND;TZID=Europe/Berlin:20260117T124500
SUMMARY:Regionsoberliga S-M mJB S2 Coswiger HSG vs SG Weixdorf (53025)
UID:c3302df2-32fe-49a5-9b37-5447d96f7870
STATUS:CONFIRMED
LAST-MODIFIED:20260119T125229Z
DESCRIPTION:Regionsoberliga S-M mJB Staffel 2\nBegegnungs-Nr: 53025\nHeim: Coswiger HSG\nGast: SG Weixdorf\nHalle: SH Gymnasium Coswig (33209)\nAdresse: Melanchthonstraße 8 - 10\, 01640 Coswig\n
LOCATION:SH Gymnasium Coswig (33209): Melanchthonstraße 8 - 10\, 01640 Coswig
CATEGORIES:Saison 2025/26
END:VEVENT
BEGIN:VEVENT
DTSTAMP:20260421T125825Z
DTSTART;TZID=Europe/Berlin:20250831T150000
DTEND;TZID=Europe/Berlin:20250831T160000
SUMMARY:Regionsoberliga S-M mJB S2 SG Dippoldiswalde-Ruppendorf vs SG Weixdorf (53001)
UID:bae902e9-8c76-4700-a0df-41005381a7d9
STATUS:CONFIRMED
LAST-MODIFIED:20250902T134540Z
DESCRIPTION:Regionsoberliga S-M mJB Staffel 2\nBegegnungs-Nr: 53001\nHeim: SG Dippoldiswalde-Ruppendorf\nGast: SG Weixdorf\nHalle: SH Glashütte (33225)\nAdresse: Prießnitztal 32\, 01768 Glashütte\n
LOCATION:SH Glashütte (33225): Prießnitztal 32\, 01768 Glashütte
CATEGORIES:Saison 2025/26
END:VEVENT
BEGIN:VEVENT
DTSTAMP:20260421T125825Z
DTSTART;TZID=Europe/Berlin:20251122T130000
DTEND;TZID=Europe/Berlin:20251122T140000
SUMMARY:Regionsoberliga S-M mJB S2 HC Großenhain  II vs SG Weixdorf (53018)
UID:f1ecfe3c-d003-484d-9e00-1800ae1ea87a
STATUS:CONFIRMED
LAST-MODIFIED:20251126T172549Z
DESCRIPTION:Regionsoberliga S-M mJB Staffel 2\nBegegnungs-Nr: 53018\nHeim: HC Großenhain  II\nGast: SG Weixdorf\nHalle: Rödertal-SH (33205)\nAdresse: Am Marstall 4\, 01558 Großenhain\n
LOCATION:Rödertal-SH (33205): Am Marstall 4\, 01558 Großenhain
CATEGORIES:Saison 2025/26
END:VEVENT
BEGIN:VEVENT
DTSTAMP:20260421T125825Z
DTSTART;TZID=Europe/Berlin:20260318T183000
DTEND;TZID=Europe/Berlin:20260318T193000
SUMMARY:Regionsoberliga S-M mJB S2 SG Klotzsche vs SG Weixdorf (53033)
UID:f0d2d89b-7ce1-4aa2-a3b8-8f80bc449e77
STATUS:CONFIRMED
LAST-MODIFIED:20260320T172035Z
DESCRIPTION:Regionsoberliga S-M mJB Staffel 2\nBegegnungs-Nr: 53033\nHeim: SG Klotzsche\nGast: SG Weixdorf\nHalle: SH Gymnasium Klotzsche (33126)\nAdresse: Karl-Marx-Straße 44\, 01109 Dresden\n
LOCATION:SH Gymnasium Klotzsche (33126): Karl-Marx-Straße 44\, 01109 Dresden
CATEGORIES:Saison 2025/26
END:VEVENT
BEGIN:VEVENT
DTSTAMP:20260421T125825Z
DTSTART;TZID=Europe/Berlin:20251025T130000
DTEND;TZID=Europe/Berlin:20251025T140000
SUMMARY:Regionsoberliga S-M mJB S2 SV Niederau vs SG Weixdorf (53015)
UID:ef775527-a2de-4273-89f3-bef608a9be20
STATUS:CONFIRMED
LAST-MODIFIED:20251025T151138Z
DESCRIPTION:Regionsoberliga S-M mJB Staffel 2\nBegegnungs-Nr: 53015\nHeim: SV Niederau\nGast: SG Weixdorf\nHalle: SH BSZ Meißen (33220)\nAdresse: Goethestraße 21\, 01662 Meißen\n
LOCATION:SH BSZ Meißen (33220): Goethestraße 21\, 01662 Meißen
CATEGORIES:Saison 2025/26
END:VEVENT
END:VCALENDAR
