BEGIN:VCALENDAR
PRODID:-//nuDatenautomaten//framework iCal4j //DE
VERSION:2.0
CALSCALE:GREGORIAN
BEGIN:VTIMEZONE
TZID:Europe/Berlin
LAST-MODIFIED:20260306T231828Z
TZURL:https://www.tzurl.org/zoneinfo/Europe/Berlin
X-LIC-LOCATION:Europe/Berlin
X-PROLEPTIC-TZNAME:LMT
BEGIN:STANDARD
TZNAME:CET
TZOFFSETFROM:+005328
TZOFFSETTO:+0100
DTSTART:18930401T000000
END:STANDARD
BEGIN:DAYLIGHT
TZNAME:CEST
TZOFFSETFROM:+0100
TZOFFSETTO:+0200
DTSTART:19160430T230000
RDATE:19400401T020000
RDATE:19430329T020000
RDATE:19460414T020000
RDATE:19470406T030000
RDATE:19480418T020000
RDATE:19490410T020000
RDATE:19800406T020000
END:DAYLIGHT
BEGIN:STANDARD
TZNAME:CET
TZOFFSETFROM:+0200
TZOFFSETTO:+0100
DTSTART:19161001T010000
RDATE:19421102T030000
RDATE:19431004T030000
RDATE:19441002T030000
RDATE:19451118T030000
RDATE:19461007T030000
END:STANDARD
BEGIN:DAYLIGHT
TZNAME:CEST
TZOFFSETFROM:+0100
TZOFFSETTO:+0200
DTSTART:19170416T020000
RRULE:FREQ=YEARLY;UNTIL=19180415T010000Z;BYMONTH=4;BYDAY=3MO
END:DAYLIGHT
BEGIN:STANDARD
TZNAME:CET
TZOFFSETFROM:+0200
TZOFFSETTO:+0100
DTSTART:19170917T030000
RRULE:FREQ=YEARLY;UNTIL=19180916T010000Z;BYMONTH=9;BYDAY=3MO
END:STANDARD
BEGIN:DAYLIGHT
TZNAME:CEST
TZOFFSETFROM:+0100
TZOFFSETTO:+0200
DTSTART:19440403T020000
RRULE:FREQ=YEARLY;UNTIL=19450402T010000Z;BYMONTH=4;BYDAY=1MO
END:DAYLIGHT
BEGIN:DAYLIGHT
TZNAME:CEMT
TZOFFSETFROM:+0200
TZOFFSETTO:+0300
DTSTART:19450524T020000
RDATE:19470511T030000
END:DAYLIGHT
BEGIN:DAYLIGHT
TZNAME:CEST
TZOFFSETFROM:+0300
TZOFFSETTO:+0200
DTSTART:19450924T030000
RDATE:19470629T030000
END:DAYLIGHT
BEGIN:STANDARD
TZNAME:CET
TZOFFSETFROM:+0100
TZOFFSETTO:+0100
DTSTART:19460101T000000
RDATE:19800101T000000
END:STANDARD
BEGIN:STANDARD
TZNAME:CET
TZOFFSETFROM:+0200
TZOFFSETTO:+0100
DTSTART:19471005T030000
RRULE:FREQ=YEARLY;UNTIL=19491002T010000Z;BYMONTH=10;BYDAY=1SU
END:STANDARD
BEGIN:STANDARD
TZNAME:CET
TZOFFSETFROM:+0200
TZOFFSETTO:+0100
DTSTART:19800928T030000
RRULE:FREQ=YEARLY;UNTIL=19950924T010000Z;BYMONTH=9;BYDAY=-1SU
END:STANDARD
BEGIN:DAYLIGHT
TZNAME:CEST
TZOFFSETFROM:+0100
TZOFFSETTO:+0200
DTSTART:19810329T020000
RRULE:FREQ=YEARLY;BYMONTH=3;BYDAY=-1SU
END:DAYLIGHT
BEGIN:STANDARD
TZNAME:CET
TZOFFSETFROM:+0200
TZOFFSETTO:+0100
DTSTART:19961027T030000
RRULE:FREQ=YEARLY;BYMONTH=10;BYDAY=-1SU
END:STANDARD
END:VTIMEZONE
BEGIN:VEVENT
DTSTAMP:20260422T151841Z
DTSTART;TZID=Europe/Berlin:20260117T180000
DTEND;TZID=Europe/Berlin:20260117T193000
SUMMARY:Regionsklasse Leipzig HV Böhlen II vs HSV Mölkau - Die Haie  II (13054)
UID:8400dcab-6761-4bda-abb0-0072a6ef0e5f
STATUS:CONFIRMED
LAST-MODIFIED:20260209T163656Z
DESCRIPTION:Regionsklasse Leipzig\nBegegnungs-Nr: 13054\nHeim: HV Böhlen II\nGast: HSV Mölkau - Die Haie  II\nHalle: SH Oberschule Böhlen (31411)\nAdresse: Lessingstraße 1\, 04564 Böhlen\n
LOCATION:SH Oberschule Böhlen (31411): Lessingstraße 1\, 04564 Böhlen
CATEGORIES:Saison 2025/26
END:VEVENT
BEGIN:VEVENT
DTSTAMP:20260422T151841Z
DTSTART;TZID=Europe/Berlin:20260131T160000
DTEND;TZID=Europe/Berlin:20260131T173000
SUMMARY:Regionsklasse Leipzig HV Böhlen II vs VfB Eilenburg II (13063)
UID:685fcc09-66ef-4096-a5f1-d04e4542975e
STATUS:CONFIRMED
LAST-MODIFIED:20260209T164112Z
DESCRIPTION:Regionsklasse Leipzig\nBegegnungs-Nr: 13063\nHeim: HV Böhlen II\nGast: VfB Eilenburg II\nHalle: SH Oberschule Böhlen (31411)\nAdresse: Lessingstraße 1\, 04564 Böhlen\n
LOCATION:SH Oberschule Böhlen (31411): Lessingstraße 1\, 04564 Böhlen
CATEGORIES:Saison 2025/26
END:VEVENT
BEGIN:VEVENT
DTSTAMP:20260422T151841Z
DTSTART;TZID=Europe/Berlin:20260307T160000
DTEND;TZID=Europe/Berlin:20260307T173000
SUMMARY:Regionsklasse Leipzig HV Böhlen II vs SV Regis-Breitingen II (13073)
UID:634a1665-f585-416c-af49-5cf603e6afcc
STATUS:CONFIRMED
LAST-MODIFIED:20260309T154937Z
DESCRIPTION:Regionsklasse Leipzig\nBegegnungs-Nr: 13073\nHeim: HV Böhlen II\nGast: SV Regis-Breitingen II\nHalle: SH Oberschule Böhlen (31411)\nAdresse: Lessingstraße 1\, 04564 Böhlen\n
LOCATION:SH Oberschule Böhlen (31411): Lessingstraße 1\, 04564 Böhlen
CATEGORIES:Saison 2025/26
END:VEVENT
BEGIN:VEVENT
DTSTAMP:20260422T151841Z
DTSTART;TZID=Europe/Berlin:20250830T160000
DTEND;TZID=Europe/Berlin:20250830T173000
SUMMARY:Regionsklasse Leipzig HV Böhlen II vs HSG Rückmarsdorf II (13003)
UID:9bacf41c-f2d3-41d3-9b8e-8a91cc710bf6
STATUS:CONFIRMED
LAST-MODIFIED:20250909T104352Z
DESCRIPTION:Regionsklasse Leipzig\nBegegnungs-Nr: 13003\nHeim: HV Böhlen II\nGast: HSG Rückmarsdorf II\nHalle: SH Oberschule Böhlen (31411)\nAdresse: Lessingstraße 1\, 04564 Böhlen\n
LOCATION:SH Oberschule Böhlen (31411): Lessingstraße 1\, 04564 Böhlen
CATEGORIES:Saison 2025/26
END:VEVENT
BEGIN:VEVENT
DTSTAMP:20260422T151841Z
DTSTART;TZID=Europe/Berlin:20260328T160000
DTEND;TZID=Europe/Berlin:20260328T173000
SUMMARY:Regionsklasse Leipzig HV Böhlen II vs HV Glesien (13080)
UID:ceca44b4-4495-437c-95cf-0ce0b0c85297
STATUS:CONFIRMED
LAST-MODIFIED:20260405T084058Z
DESCRIPTION:Regionsklasse Leipzig\nBegegnungs-Nr: 13080\nHeim: HV Böhlen II\nGast: HV Glesien\nHalle: SH Oberschule Böhlen (31411)\nAdresse: Lessingstraße 1\, 04564 Böhlen\n
LOCATION:SH Oberschule Böhlen (31411): Lessingstraße 1\, 04564 Böhlen
CATEGORIES:Saison 2025/26
END:VEVENT
BEGIN:VEVENT
DTSTAMP:20260422T151841Z
DTSTART;TZID=Europe/Berlin:20250927T160000
DTEND;TZID=Europe/Berlin:20250927T173000
SUMMARY:Regionsklasse Leipzig HV Böhlen II vs Germania Zwenkau III (13020)
UID:fca28916-a771-48fb-8e18-539f09f6ee95
STATUS:CONFIRMED
LAST-MODIFIED:20251028T003319Z
DESCRIPTION:Regionsklasse Leipzig\nBegegnungs-Nr: 13020\nHeim: HV Böhlen II\nGast: Germania Zwenkau III\nHalle: SH Oberschule Böhlen (31411)\nAdresse: Lessingstraße 1\, 04564 Böhlen\n
LOCATION:SH Oberschule Böhlen (31411): Lessingstraße 1\, 04564 Böhlen
CATEGORIES:Saison 2025/26
END:VEVENT
BEGIN:VEVENT
DTSTAMP:20260422T151841Z
DTSTART;TZID=Europe/Berlin:20251108T160000
DTEND;TZID=Europe/Berlin:20251108T173000
SUMMARY:Regionsklasse Leipzig HV Böhlen II vs VfL Waldheim 54 II (13032)
UID:8a2b2ed3-89e2-482b-8985-a4198bdfb507
STATUS:CONFIRMED
LAST-MODIFIED:20251114T155145Z
DESCRIPTION:Regionsklasse Leipzig\nBegegnungs-Nr: 13032\nHeim: HV Böhlen II\nGast: VfL Waldheim 54 II\nHalle: SH Oberschule Böhlen (31411)\nAdresse: Lessingstraße 1\, 04564 Böhlen\n
LOCATION:SH Oberschule Böhlen (31411): Lessingstraße 1\, 04564 Böhlen
CATEGORIES:Saison 2025/26
END:VEVENT
BEGIN:VEVENT
DTSTAMP:20260422T151841Z
DTSTART;TZID=Europe/Berlin:20251018T160000
DTEND;TZID=Europe/Berlin:20251018T173000
SUMMARY:Regionsklasse Leipzig HV Böhlen II vs SG LVB IV (13022)
UID:8e9e4b86-55d6-410f-aad4-f011b23606a5
STATUS:CONFIRMED
LAST-MODIFIED:20251113T095954Z
DESCRIPTION:Regionsklasse Leipzig\nBegegnungs-Nr: 13022\nHeim: HV Böhlen II\nGast: SG LVB IV\nHalle: SH Oberschule Böhlen (31411)\nAdresse: Lessingstraße 1\, 04564 Böhlen\n
LOCATION:SH Oberschule Böhlen (31411): Lessingstraße 1\, 04564 Böhlen
CATEGORIES:Saison 2025/26
END:VEVENT
BEGIN:VEVENT
DTSTAMP:20260422T151841Z
DTSTART;TZID=Europe/Berlin:20260110T140000
DTEND;TZID=Europe/Berlin:20260110T153000
SUMMARY:Regionsklasse Leipzig HSG Rückmarsdorf II vs HV Böhlen II (13048)
UID:0004182d-458a-4fa1-8ebb-b3f7c8357858
STATUS:CONFIRMED
LAST-MODIFIED:20260113T155323Z
DESCRIPTION:Regionsklasse Leipzig\nBegegnungs-Nr: 13048\nHeim: HSG Rückmarsdorf II\nGast: HV Böhlen II\nHalle: SH An der Radrennbahn Leipzig (31128)\nAdresse: Windorfer Straße 63\, 04229 Leipzig\n
LOCATION:SH An der Radrennbahn Leipzig (31128): Windorfer Straße 63\, 04229 Leipzig
CATEGORIES:Saison 2025/26
END:VEVENT
BEGIN:VEVENT
DTSTAMP:20260422T151841Z
DTSTART;TZID=Europe/Berlin:20260124T151500
DTEND;TZID=Europe/Berlin:20260124T164500
SUMMARY:Regionsklasse Leipzig SG LVB IV vs HV Böhlen II (13059)
UID:1d9b3134-802f-4342-a8e9-d237dd3f3e70
STATUS:CONFIRMED
LAST-MODIFIED:20260209T163724Z
DESCRIPTION:Regionsklasse Leipzig\nBegegnungs-Nr: 13059\nHeim: SG LVB IV\nGast: HV Böhlen II\nHalle: SH Gymnasium an der Telemannstraße  (31109)\nAdresse: Telemannstraße 9\, 04107 Leipzig\n
LOCATION:SH Gymnasium an der Telemannstraße  (31109): Telemannstraße 9\, 04107 Leipzig
CATEGORIES:Saison 2025/26
END:VEVENT
BEGIN:VEVENT
DTSTAMP:20260422T151841Z
DTSTART;TZID=Europe/Berlin:20260207T140000
DTEND;TZID=Europe/Berlin:20260207T153000
SUMMARY:Regionsklasse Leipzig Germania Zwenkau III vs HV Böhlen II (13065)
UID:22c8637b-ac80-4e03-a339-3da7a70d369e
STATUS:CONFIRMED
LAST-MODIFIED:20260302T112900Z
DESCRIPTION:Regionsklasse Leipzig\nBegegnungs-Nr: 13065\nHeim: Germania Zwenkau III\nGast: HV Böhlen II\nHalle: Stadthalle Zwenkau (31113)\nAdresse: Heinrich-Mann-Weg 17\, 04442 Zwenkau\n
LOCATION:Stadthalle Zwenkau (31113): Heinrich-Mann-Weg 17\, 04442 Zwenkau
CATEGORIES:Saison 2025/26
END:VEVENT
BEGIN:VEVENT
DTSTAMP:20260422T151841Z
DTSTART;TZID=Europe/Berlin:20250906T160000
DTEND;TZID=Europe/Berlin:20250906T173000
SUMMARY:Regionsklasse Leipzig HSV Mölkau - Die Haie  II vs HV Böhlen II (13007)
UID:042da506-fe3c-4729-87b8-10f0a11e9dd8
STATUS:CONFIRMED
LAST-MODIFIED:20250909T105141Z
DESCRIPTION:Regionsklasse Leipzig\nBegegnungs-Nr: 13007\nHeim: HSV Mölkau - Die Haie  II\nGast: HV Böhlen II\nHalle: SH Oberschule Leipzig-Mölkau (31106)\nAdresse: Schulstr. 6\, 04316 Leipzig\n
LOCATION:SH Oberschule Leipzig-Mölkau (31106): Schulstr. 6\, 04316 Leipzig
CATEGORIES:Saison 2025/26
END:VEVENT
BEGIN:VEVENT
DTSTAMP:20260422T151841Z
DTSTART;TZID=Europe/Berlin:20260321T180000
DTEND;TZID=Europe/Berlin:20260321T193000
SUMMARY:Regionsklasse Leipzig VfL Waldheim 54 II vs HV Böhlen II (13078)
UID:136e5f32-56cb-48e7-ab52-91cca23bace1
STATUS:CONFIRMED
LAST-MODIFIED:20260323T145830Z
DESCRIPTION:Regionsklasse Leipzig\nBegegnungs-Nr: 13078\nHeim: VfL Waldheim 54 II\nGast: HV Böhlen II\nHalle: Stadt-SH Waldheim (31204)\nAdresse: Am Schulberg 3 (Anfahrt zum Parkplatz über die Schönberger Straße)\, 04736 Waldheim\n
LOCATION:Stadt-SH Waldheim (31204): Am Schulberg 3 (Anfahrt zum Parkplatz über die Schönberger Straße)\, 04736 Waldheim
CATEGORIES:Saison 2025/26
END:VEVENT
BEGIN:VEVENT
DTSTAMP:20260422T151841Z
DTSTART;TZID=Europe/Berlin:20250920T170000
DTEND;TZID=Europe/Berlin:20250920T183000
SUMMARY:Regionsklasse Leipzig VfB Eilenburg II vs HV Böhlen II (13015)
UID:4facfa2f-0581-42f4-8ec1-90f49bbb9e37
STATUS:CONFIRMED
LAST-MODIFIED:20250922T144833Z
DESCRIPTION:Regionsklasse Leipzig\nBegegnungs-Nr: 13015\nHeim: VfB Eilenburg II\nGast: HV Böhlen II\nHalle: Belian-SH Eilenburg (31307)\nAdresse: Dr.-Belian-Str. 7\, 04838 Eilenburg\n
LOCATION:Belian-SH Eilenburg (31307): Dr.-Belian-Str. 7\, 04838 Eilenburg
CATEGORIES:Saison 2025/26
END:VEVENT
BEGIN:VEVENT
DTSTAMP:20260422T151841Z
DTSTART;TZID=Europe/Berlin:20251101T150000
DTEND;TZID=Europe/Berlin:20251101T163000
SUMMARY:Regionsklasse Leipzig SV Regis-Breitingen II vs HV Böhlen II (13029)
UID:a7f042da-f6bf-4449-b5f2-e8f0634082f8
STATUS:CONFIRMED
LAST-MODIFIED:20251103T101141Z
DESCRIPTION:Regionsklasse Leipzig\nBegegnungs-Nr: 13029\nHeim: SV Regis-Breitingen II\nGast: HV Böhlen II\nHalle: SH Regis-Breitingen (31405)\nAdresse: Am Stadion\, 04565 Regis-Breitingen\n
LOCATION:SH Regis-Breitingen (31405): Am Stadion\, 04565 Regis-Breitingen
CATEGORIES:Saison 2025/26
END:VEVENT
BEGIN:VEVENT
DTSTAMP:20260422T151841Z
DTSTART;TZID=Europe/Berlin:20251122T150000
DTEND;TZID=Europe/Berlin:20251122T163000
SUMMARY:Regionsklasse Leipzig HV Glesien vs HV Böhlen II (13035)
UID:60ce5c97-7352-4461-8229-7335b730818d
STATUS:CONFIRMED
LAST-MODIFIED:20251202T091009Z
DESCRIPTION:Regionsklasse Leipzig\nBegegnungs-Nr: 13035\nHeim: HV Glesien\nGast: HV Böhlen II\nHalle: SH Am Sportplatz Glesien (31302)\nAdresse: Karl-Liebknecht-Str.\, 04435 Schkeuditz / OT Glesien\n
LOCATION:SH Am Sportplatz Glesien (31302): Karl-Liebknecht-Str.\, 04435 Schkeuditz / OT Glesien
CATEGORIES:Saison 2025/26
END:VEVENT
END:VCALENDAR
