BEGIN:VCALENDAR
PRODID:-//nuDatenautomaten//framework iCal4j //DE
VERSION:2.0
CALSCALE:GREGORIAN
BEGIN:VTIMEZONE
TZID:Europe/Berlin
LAST-MODIFIED:20260306T231828Z
TZURL:https://www.tzurl.org/zoneinfo/Europe/Berlin
X-LIC-LOCATION:Europe/Berlin
X-PROLEPTIC-TZNAME:LMT
BEGIN:STANDARD
TZNAME:CET
TZOFFSETFROM:+005328
TZOFFSETTO:+0100
DTSTART:18930401T000000
END:STANDARD
BEGIN:DAYLIGHT
TZNAME:CEST
TZOFFSETFROM:+0100
TZOFFSETTO:+0200
DTSTART:19160430T230000
RDATE:19400401T020000
RDATE:19430329T020000
RDATE:19460414T020000
RDATE:19470406T030000
RDATE:19480418T020000
RDATE:19490410T020000
RDATE:19800406T020000
END:DAYLIGHT
BEGIN:STANDARD
TZNAME:CET
TZOFFSETFROM:+0200
TZOFFSETTO:+0100
DTSTART:19161001T010000
RDATE:19421102T030000
RDATE:19431004T030000
RDATE:19441002T030000
RDATE:19451118T030000
RDATE:19461007T030000
END:STANDARD
BEGIN:DAYLIGHT
TZNAME:CEST
TZOFFSETFROM:+0100
TZOFFSETTO:+0200
DTSTART:19170416T020000
RRULE:FREQ=YEARLY;UNTIL=19180415T010000Z;BYMONTH=4;BYDAY=3MO
END:DAYLIGHT
BEGIN:STANDARD
TZNAME:CET
TZOFFSETFROM:+0200
TZOFFSETTO:+0100
DTSTART:19170917T030000
RRULE:FREQ=YEARLY;UNTIL=19180916T010000Z;BYMONTH=9;BYDAY=3MO
END:STANDARD
BEGIN:DAYLIGHT
TZNAME:CEST
TZOFFSETFROM:+0100
TZOFFSETTO:+0200
DTSTART:19440403T020000
RRULE:FREQ=YEARLY;UNTIL=19450402T010000Z;BYMONTH=4;BYDAY=1MO
END:DAYLIGHT
BEGIN:DAYLIGHT
TZNAME:CEMT
TZOFFSETFROM:+0200
TZOFFSETTO:+0300
DTSTART:19450524T020000
RDATE:19470511T030000
END:DAYLIGHT
BEGIN:DAYLIGHT
TZNAME:CEST
TZOFFSETFROM:+0300
TZOFFSETTO:+0200
DTSTART:19450924T030000
RDATE:19470629T030000
END:DAYLIGHT
BEGIN:STANDARD
TZNAME:CET
TZOFFSETFROM:+0100
TZOFFSETTO:+0100
DTSTART:19460101T000000
RDATE:19800101T000000
END:STANDARD
BEGIN:STANDARD
TZNAME:CET
TZOFFSETFROM:+0200
TZOFFSETTO:+0100
DTSTART:19471005T030000
RRULE:FREQ=YEARLY;UNTIL=19491002T010000Z;BYMONTH=10;BYDAY=1SU
END:STANDARD
BEGIN:STANDARD
TZNAME:CET
TZOFFSETFROM:+0200
TZOFFSETTO:+0100
DTSTART:19800928T030000
RRULE:FREQ=YEARLY;UNTIL=19950924T010000Z;BYMONTH=9;BYDAY=-1SU
END:STANDARD
BEGIN:DAYLIGHT
TZNAME:CEST
TZOFFSETFROM:+0100
TZOFFSETTO:+0200
DTSTART:19810329T020000
RRULE:FREQ=YEARLY;BYMONTH=3;BYDAY=-1SU
END:DAYLIGHT
BEGIN:STANDARD
TZNAME:CET
TZOFFSETFROM:+0200
TZOFFSETTO:+0100
DTSTART:19961027T030000
RRULE:FREQ=YEARLY;BYMONTH=10;BYDAY=-1SU
END:STANDARD
END:VTIMEZONE
BEGIN:VEVENT
DTSTAMP:20260425T183615Z
DTSTART;TZID=Europe/Berlin:20250907T100000
DTEND;TZID=Europe/Berlin:20250907T110000
SUMMARY:Regionsoberliga S-M mJE HC Großenhain  vs Motor Wilsdruff  (62052)
UID:31934ad1-eb70-4220-a2fd-76a2fb16b083
STATUS:CONFIRMED
LAST-MODIFIED:20250907T105404Z
DESCRIPTION:Regionsoberliga S-M mJE\nBegegnungs-Nr: 62052\nHeim: HC Großenhain \nGast: Motor Wilsdruff \nHalle: SH BSZ Meißen (33220)\nAdresse: Goethestraße 21\, 01662 Meißen\n
LOCATION:SH BSZ Meißen (33220): Goethestraße 21\, 01662 Meißen
CATEGORIES:Saison 2025/26
END:VEVENT
BEGIN:VEVENT
DTSTAMP:20260425T183615Z
DTSTART;TZID=Europe/Berlin:20250907T110000
DTEND;TZID=Europe/Berlin:20250907T120000
SUMMARY:Regionsoberliga S-M mJE HC Großenhain  vs SG Pirna/Heidenau (62053)
UID:1b12c6c4-caf7-40da-b423-927129844aba
STATUS:CONFIRMED
LAST-MODIFIED:20250907T105756Z
DESCRIPTION:Regionsoberliga S-M mJE\nBegegnungs-Nr: 62053\nHeim: HC Großenhain \nGast: SG Pirna/Heidenau\nHalle: SH BSZ Meißen (33220)\nAdresse: Goethestraße 21\, 01662 Meißen\n
LOCATION:SH BSZ Meißen (33220): Goethestraße 21\, 01662 Meißen
CATEGORIES:Saison 2025/26
END:VEVENT
BEGIN:VEVENT
DTSTAMP:20260425T183615Z
DTSTART;TZID=Europe/Berlin:20250921T090000
DTEND;TZID=Europe/Berlin:20250921T100000
SUMMARY:Regionsoberliga S-M mJE HC Großenhain  vs SSV Lommatzsch (62081)
UID:0b0f8eef-5165-41a0-894b-5d3a338c6fb8
STATUS:CONFIRMED
LAST-MODIFIED:20250921T110256Z
DESCRIPTION:Regionsoberliga S-M mJE\nBegegnungs-Nr: 62081\nHeim: HC Großenhain \nGast: SSV Lommatzsch\nHalle: Rödertal-SH (33205)\nAdresse: Am Marstall 4\, 01558 Großenhain\n
LOCATION:Rödertal-SH (33205): Am Marstall 4\, 01558 Großenhain
CATEGORIES:Saison 2025/26
END:VEVENT
BEGIN:VEVENT
DTSTAMP:20260425T183615Z
DTSTART;TZID=Europe/Berlin:20251025T110000
DTEND;TZID=Europe/Berlin:20251025T120000
SUMMARY:Regionsoberliga S-M mJE HC Großenhain  vs SV Niederau (62132)
UID:491f4d21-090d-4d5c-9157-9e354f1e8833
STATUS:CONFIRMED
LAST-MODIFIED:20251025T111409Z
DESCRIPTION:Regionsoberliga S-M mJE\nBegegnungs-Nr: 62132\nHeim: HC Großenhain \nGast: SV Niederau\nHalle: SH 121. Oberschule Dresden (33102)\nAdresse: Gamigstraße 28/30\, 01239 Dresden\n
LOCATION:SH 121. Oberschule Dresden (33102): Gamigstraße 28/30\, 01239 Dresden
CATEGORIES:Saison 2025/26
END:VEVENT
BEGIN:VEVENT
DTSTAMP:20260425T183615Z
DTSTART;TZID=Europe/Berlin:20251101T110000
DTEND;TZID=Europe/Berlin:20251101T120000
SUMMARY:Regionsoberliga S-M mJE HC Großenhain  vs Medizin Bad Gottleuba (62152)
UID:f66b44b2-4cc6-4ec4-bd43-182e8d628f0a
STATUS:CONFIRMED
LAST-MODIFIED:20251101T112435Z
DESCRIPTION:Regionsoberliga S-M mJE\nBegegnungs-Nr: 62152\nHeim: HC Großenhain \nGast: Medizin Bad Gottleuba\nHalle: Lothar-Krauße-SH Lommatzsch (33211)\nAdresse: Domselwitzer Str. 21\, 01623 Lommatzsch\n
LOCATION:Lothar-Krauße-SH Lommatzsch (33211): Domselwitzer Str. 21\, 01623 Lommatzsch
CATEGORIES:Saison 2025/26
END:VEVENT
BEGIN:VEVENT
DTSTAMP:20260425T183615Z
DTSTART;TZID=Europe/Berlin:20251129T110000
DTEND;TZID=Europe/Berlin:20251129T120000
SUMMARY:Regionsoberliga S-M mJE HC Großenhain  vs HC Elbflorenz 2006 II (62212)
UID:35e0d70f-edd4-471c-ac81-4f91e553334a
STATUS:CONFIRMED
LAST-MODIFIED:20251129T170434Z
DESCRIPTION:Regionsoberliga S-M mJE\nBegegnungs-Nr: 62212\nHeim: HC Großenhain \nGast: HC Elbflorenz 2006 II\nHalle: Saubach-SH Wilsdruff (33208)\nAdresse: Nossener Str. 21b\, 01723 Wilsdruff\n
LOCATION:Saubach-SH Wilsdruff (33208): Nossener Str. 21b\, 01723 Wilsdruff
CATEGORIES:Saison 2025/26
END:VEVENT
BEGIN:VEVENT
DTSTAMP:20260425T183615Z
DTSTART;TZID=Europe/Berlin:20251129T120000
DTEND;TZID=Europe/Berlin:20251129T130000
SUMMARY:Regionsoberliga S-M mJE HC Großenhain  vs SHV Oschatz (62213)
UID:61cc2ef2-ef09-40a4-bdfa-82d981571de1
STATUS:CONFIRMED
LAST-MODIFIED:20251129T170519Z
DESCRIPTION:Regionsoberliga S-M mJE\nBegegnungs-Nr: 62213\nHeim: HC Großenhain \nGast: SHV Oschatz\nHalle: Saubach-SH Wilsdruff (33208)\nAdresse: Nossener Str. 21b\, 01723 Wilsdruff\n
LOCATION:Saubach-SH Wilsdruff (33208): Nossener Str. 21b\, 01723 Wilsdruff
CATEGORIES:Saison 2025/26
END:VEVENT
BEGIN:VEVENT
DTSTAMP:20260425T183615Z
DTSTART;TZID=Europe/Berlin:20260314T090000
DTEND;TZID=Europe/Berlin:20260314T100000
SUMMARY:Regionsoberliga S-M mJE HC Großenhain  vs Coswiger HSG (62261)
UID:24d2102e-2594-4a9e-bc77-77d5a47eee8f
STATUS:CONFIRMED
LAST-MODIFIED:20260315T101123Z
DESCRIPTION:Regionsoberliga S-M mJE\nBegegnungs-Nr: 62261\nHeim: HC Großenhain \nGast: Coswiger HSG\nHalle: Rödertal-SH (33205)\nAdresse: Am Marstall 4\, 01558 Großenhain\n
LOCATION:Rödertal-SH (33205): Am Marstall 4\, 01558 Großenhain
CATEGORIES:Saison 2025/26
END:VEVENT
BEGIN:VEVENT
DTSTAMP:20260425T183615Z
DTSTART;TZID=Europe/Berlin:20260314T120000
DTEND;TZID=Europe/Berlin:20260314T130000
SUMMARY:Regionsoberliga S-M mJE HC Großenhain  vs Radebeuler HV (62264)
UID:88ecb22e-3970-4f7f-a9b8-6670ddba5c4b
STATUS:CONFIRMED
LAST-MODIFIED:20260315T101351Z
DESCRIPTION:Regionsoberliga S-M mJE\nBegegnungs-Nr: 62264\nHeim: HC Großenhain \nGast: Radebeuler HV\nHalle: Rödertal-SH (33205)\nAdresse: Am Marstall 4\, 01558 Großenhain\n
LOCATION:Rödertal-SH (33205): Am Marstall 4\, 01558 Großenhain
CATEGORIES:Saison 2025/26
END:VEVENT
BEGIN:VEVENT
DTSTAMP:20260425T183615Z
DTSTART;TZID=Europe/Berlin:20260308T090000
DTEND;TZID=Europe/Berlin:20260308T100000
SUMMARY:Regionsoberliga S-M mJE HC Großenhain  vs HSV Dresden (62331)
UID:f38ed53f-fc22-4693-93ff-497b15adeb4c
STATUS:CONFIRMED
LAST-MODIFIED:20260308T111259Z
DESCRIPTION:Regionsoberliga S-M mJE\nBegegnungs-Nr: 62331\nHeim: HC Großenhain \nGast: HSV Dresden\nHalle: Rödertal-SH (33205)\nAdresse: Am Marstall 4\, 01558 Großenhain\n
LOCATION:Rödertal-SH (33205): Am Marstall 4\, 01558 Großenhain
CATEGORIES:Saison 2025/26
END:VEVENT
BEGIN:VEVENT
DTSTAMP:20260425T183615Z
DTSTART;TZID=Europe/Berlin:20260308T113000
DTEND;TZID=Europe/Berlin:20260308T123000
SUMMARY:Regionsoberliga S-M mJE HC Großenhain  vs KJS-Club Dresden (62334)
UID:db8bbe92-5b7e-4518-9360-5a84d28c10bf
STATUS:CONFIRMED
LAST-MODIFIED:20260308T161426Z
DESCRIPTION:Regionsoberliga S-M mJE\nBegegnungs-Nr: 62334\nHeim: HC Großenhain \nGast: KJS-Club Dresden\nHalle: Rödertal-SH (33205)\nAdresse: Am Marstall 4\, 01558 Großenhain\n
LOCATION:Rödertal-SH (33205): Am Marstall 4\, 01558 Großenhain
CATEGORIES:Saison 2025/26
END:VEVENT
BEGIN:VEVENT
DTSTAMP:20260425T183615Z
DTSTART;TZID=Europe/Berlin:20250921T110000
DTEND;TZID=Europe/Berlin:20250921T120000
SUMMARY:Regionsoberliga S-M mJE SV Niederau vs HC Großenhain  (62083)
UID:8234cd04-192a-428f-82f6-320200a60895
STATUS:CONFIRMED
LAST-MODIFIED:20250921T143835Z
DESCRIPTION:Regionsoberliga S-M mJE\nBegegnungs-Nr: 62083\nHeim: SV Niederau\nGast: HC Großenhain \nHalle: Rödertal-SH (33205)\nAdresse: Am Marstall 4\, 01558 Großenhain\n
LOCATION:Rödertal-SH (33205): Am Marstall 4\, 01558 Großenhain
CATEGORIES:Saison 2025/26
END:VEVENT
BEGIN:VEVENT
DTSTAMP:20260425T183615Z
DTSTART;TZID=Europe/Berlin:20251025T120000
DTEND;TZID=Europe/Berlin:20251025T130000
SUMMARY:Regionsoberliga S-M mJE HSV Dresden vs HC Großenhain  (62133)
UID:7d2a0005-5810-404b-9e77-f135844a2270
STATUS:CONFIRMED
LAST-MODIFIED:20251025T143739Z
DESCRIPTION:Regionsoberliga S-M mJE\nBegegnungs-Nr: 62133\nHeim: HSV Dresden\nGast: HC Großenhain \nHalle: SH 121. Oberschule Dresden (33102)\nAdresse: Gamigstraße 28/30\, 01239 Dresden\n
LOCATION:SH 121. Oberschule Dresden (33102): Gamigstraße 28/30\, 01239 Dresden
CATEGORIES:Saison 2025/26
END:VEVENT
BEGIN:VEVENT
DTSTAMP:20260425T183615Z
DTSTART;TZID=Europe/Berlin:20251101T120000
DTEND;TZID=Europe/Berlin:20251101T130000
SUMMARY:Regionsoberliga S-M mJE SSV Lommatzsch vs HC Großenhain  (62153)
UID:0aa4d340-38e7-42e5-a29a-78f742e91264
STATUS:CONFIRMED
LAST-MODIFIED:20251101T125057Z
DESCRIPTION:Regionsoberliga S-M mJE\nBegegnungs-Nr: 62153\nHeim: SSV Lommatzsch\nGast: HC Großenhain \nHalle: Lothar-Krauße-SH Lommatzsch (33211)\nAdresse: Domselwitzer Str. 21\, 01623 Lommatzsch\n
LOCATION:Lothar-Krauße-SH Lommatzsch (33211): Domselwitzer Str. 21\, 01623 Lommatzsch
CATEGORIES:Saison 2025/26
END:VEVENT
BEGIN:VEVENT
DTSTAMP:20260425T183615Z
DTSTART;TZID=Europe/Berlin:20251108T130000
DTEND;TZID=Europe/Berlin:20251108T140000
SUMMARY:Regionsoberliga S-M mJE Medizin Bad Gottleuba vs HC Großenhain  (62171)
UID:d7009e61-4d26-4247-8dee-f91124590278
STATUS:CONFIRMED
LAST-MODIFIED:20251109T105843Z
DESCRIPTION:Regionsoberliga S-M mJE\nBegegnungs-Nr: 62171\nHeim: Medizin Bad Gottleuba\nGast: HC Großenhain \nHalle: SH Geising (33201)\nAdresse: Lange Str. 25\, 01778 Altenberg ST Geising\n
LOCATION:SH Geising (33201): Lange Str. 25\, 01778 Altenberg ST Geising
CATEGORIES:Saison 2025/26
END:VEVENT
BEGIN:VEVENT
DTSTAMP:20260425T183615Z
DTSTART;TZID=Europe/Berlin:20251117T173000
DTEND;TZID=Europe/Berlin:20251117T183000
SUMMARY:Regionsoberliga S-M mJE KJS-Club Dresden vs HC Großenhain  (62173)
UID:fbb8a13b-a901-4209-86cf-fc8fdf2f8b38
STATUS:CONFIRMED
LAST-MODIFIED:20251118T084312Z
DESCRIPTION:Regionsoberliga S-M mJE\nBegegnungs-Nr: 62173\nHeim: KJS-Club Dresden\nGast: HC Großenhain \nHalle: Rödertal-SH (33205)\nAdresse: Am Marstall 4\, 01558 Großenhain\n
LOCATION:Rödertal-SH (33205): Am Marstall 4\, 01558 Großenhain
CATEGORIES:Saison 2025/26
END:VEVENT
BEGIN:VEVENT
DTSTAMP:20260425T183615Z
DTSTART;TZID=Europe/Berlin:20260418T140000
DTEND;TZID=Europe/Berlin:20260418T150000
SUMMARY:Regionsoberliga S-M mJE SG Pirna/Heidenau vs HC Großenhain  (62364)
UID:0e8f31a8-ee84-4d64-a90e-b162a88aba85
STATUS:CONFIRMED
LAST-MODIFIED:20260418T135219Z
DESCRIPTION:Regionsoberliga S-M mJE\nBegegnungs-Nr: 62364\nHeim: SG Pirna/Heidenau\nGast: HC Großenhain \nHalle: SH Pirna-Sonnenstein (33302)\nAdresse: Struppener Str. 9\, 01796 Pirna\n
LOCATION:SH Pirna-Sonnenstein (33302): Struppener Str. 9\, 01796 Pirna
CATEGORIES:Saison 2025/26
END:VEVENT
BEGIN:VEVENT
DTSTAMP:20260425T183615Z
DTSTART;TZID=Europe/Berlin:20260111T110000
DTEND;TZID=Europe/Berlin:20260111T120000
SUMMARY:Regionsoberliga S-M mJE Coswiger HSG vs HC Großenhain  (62252)
UID:6784209c-fd9e-4f81-87fe-0565fd2d820c
STATUS:CONFIRMED
LAST-MODIFIED:20260111T115940Z
DESCRIPTION:Regionsoberliga S-M mJE\nBegegnungs-Nr: 62252\nHeim: Coswiger HSG\nGast: HC Großenhain \nHalle: Elb-SH Radebeul West (33203)\nAdresse: An der Festwiese 1\, 01445 Radebeul\n
LOCATION:Elb-SH Radebeul West (33203): An der Festwiese 1\, 01445 Radebeul
CATEGORIES:Saison 2025/26
END:VEVENT
BEGIN:VEVENT
DTSTAMP:20260425T183615Z
DTSTART;TZID=Europe/Berlin:20260111T130000
DTEND;TZID=Europe/Berlin:20260111T140000
SUMMARY:Regionsoberliga S-M mJE Radebeuler HV vs HC Großenhain  (62254)
UID:d13cabfc-03d1-4c1e-ad9d-23b2c1d20df1
STATUS:CONFIRMED
LAST-MODIFIED:20260111T150458Z
DESCRIPTION:Regionsoberliga S-M mJE\nBegegnungs-Nr: 62254\nHeim: Radebeuler HV\nGast: HC Großenhain \nHalle: Elb-SH Radebeul West (33203)\nAdresse: An der Festwiese 1\, 01445 Radebeul\n
LOCATION:Elb-SH Radebeul West (33203): An der Festwiese 1\, 01445 Radebeul
CATEGORIES:Saison 2025/26
END:VEVENT
BEGIN:VEVENT
DTSTAMP:20260425T183615Z
DTSTART;TZID=Europe/Berlin:20260329T100000
DTEND;TZID=Europe/Berlin:20260329T110000
SUMMARY:Regionsoberliga S-M mJE SHV Oschatz vs HC Großenhain  (62351)
UID:379ef1db-d2b6-47d5-96bf-92ffd8f9313a
STATUS:CONFIRMED
LAST-MODIFIED:20260329T151311Z
DESCRIPTION:Regionsoberliga S-M mJE\nBegegnungs-Nr: 62351\nHeim: SHV Oschatz\nGast: HC Großenhain \nHalle: Rosental-SH Oschatz (31604)\nAdresse: Berufsschulstraße 8\, 04758 Oschatz\n
LOCATION:Rosental-SH Oschatz (31604): Berufsschulstraße 8\, 04758 Oschatz
CATEGORIES:Saison 2025/26
END:VEVENT
BEGIN:VEVENT
DTSTAMP:20260425T183615Z
DTSTART;TZID=Europe/Berlin:20260329T114500
DTEND;TZID=Europe/Berlin:20260329T124500
SUMMARY:Regionsoberliga S-M mJE HC Elbflorenz 2006 II vs HC Großenhain  (62353)
UID:9b5845c5-20e2-4a53-a869-55f98055866b
STATUS:CONFIRMED
LAST-MODIFIED:20260329T151455Z
DESCRIPTION:Regionsoberliga S-M mJE\nBegegnungs-Nr: 62353\nHeim: HC Elbflorenz 2006 II\nGast: HC Großenhain \nHalle: Rosental-SH Oschatz (31604)\nAdresse: Berufsschulstraße 8\, 04758 Oschatz\n
LOCATION:Rosental-SH Oschatz (31604): Berufsschulstraße 8\, 04758 Oschatz
CATEGORIES:Saison 2025/26
END:VEVENT
BEGIN:VEVENT
DTSTAMP:20260425T183615Z
DTSTART;TZID=Europe/Berlin:20260418T120000
DTEND;TZID=Europe/Berlin:20260418T130000
SUMMARY:Regionsoberliga S-M mJE Motor Wilsdruff  vs HC Großenhain  (62362)
UID:a63dcce4-186b-4465-bbd1-50dcdfeecc91
STATUS:CONFIRMED
LAST-MODIFIED:20260418T134347Z
DESCRIPTION:Regionsoberliga S-M mJE\nBegegnungs-Nr: 62362\nHeim: Motor Wilsdruff \nGast: HC Großenhain \nHalle: SH Pirna-Sonnenstein (33302)\nAdresse: Struppener Str. 9\, 01796 Pirna\n
LOCATION:SH Pirna-Sonnenstein (33302): Struppener Str. 9\, 01796 Pirna
CATEGORIES:Saison 2025/26
END:VEVENT
END:VCALENDAR
