BEGIN:VCALENDAR
PRODID:-//nuDatenautomaten//framework iCal4j //DE
VERSION:2.0
CALSCALE:GREGORIAN
BEGIN:VTIMEZONE
TZID:Europe/Berlin
LAST-MODIFIED:20260306T231828Z
TZURL:https://www.tzurl.org/zoneinfo/Europe/Berlin
X-LIC-LOCATION:Europe/Berlin
X-PROLEPTIC-TZNAME:LMT
BEGIN:STANDARD
TZNAME:CET
TZOFFSETFROM:+005328
TZOFFSETTO:+0100
DTSTART:18930401T000000
END:STANDARD
BEGIN:DAYLIGHT
TZNAME:CEST
TZOFFSETFROM:+0100
TZOFFSETTO:+0200
DTSTART:19160430T230000
RDATE:19400401T020000
RDATE:19430329T020000
RDATE:19460414T020000
RDATE:19470406T030000
RDATE:19480418T020000
RDATE:19490410T020000
RDATE:19800406T020000
END:DAYLIGHT
BEGIN:STANDARD
TZNAME:CET
TZOFFSETFROM:+0200
TZOFFSETTO:+0100
DTSTART:19161001T010000
RDATE:19421102T030000
RDATE:19431004T030000
RDATE:19441002T030000
RDATE:19451118T030000
RDATE:19461007T030000
END:STANDARD
BEGIN:DAYLIGHT
TZNAME:CEST
TZOFFSETFROM:+0100
TZOFFSETTO:+0200
DTSTART:19170416T020000
RRULE:FREQ=YEARLY;UNTIL=19180415T010000Z;BYMONTH=4;BYDAY=3MO
END:DAYLIGHT
BEGIN:STANDARD
TZNAME:CET
TZOFFSETFROM:+0200
TZOFFSETTO:+0100
DTSTART:19170917T030000
RRULE:FREQ=YEARLY;UNTIL=19180916T010000Z;BYMONTH=9;BYDAY=3MO
END:STANDARD
BEGIN:DAYLIGHT
TZNAME:CEST
TZOFFSETFROM:+0100
TZOFFSETTO:+0200
DTSTART:19440403T020000
RRULE:FREQ=YEARLY;UNTIL=19450402T010000Z;BYMONTH=4;BYDAY=1MO
END:DAYLIGHT
BEGIN:DAYLIGHT
TZNAME:CEMT
TZOFFSETFROM:+0200
TZOFFSETTO:+0300
DTSTART:19450524T020000
RDATE:19470511T030000
END:DAYLIGHT
BEGIN:DAYLIGHT
TZNAME:CEST
TZOFFSETFROM:+0300
TZOFFSETTO:+0200
DTSTART:19450924T030000
RDATE:19470629T030000
END:DAYLIGHT
BEGIN:STANDARD
TZNAME:CET
TZOFFSETFROM:+0100
TZOFFSETTO:+0100
DTSTART:19460101T000000
RDATE:19800101T000000
END:STANDARD
BEGIN:STANDARD
TZNAME:CET
TZOFFSETFROM:+0200
TZOFFSETTO:+0100
DTSTART:19471005T030000
RRULE:FREQ=YEARLY;UNTIL=19491002T010000Z;BYMONTH=10;BYDAY=1SU
END:STANDARD
BEGIN:STANDARD
TZNAME:CET
TZOFFSETFROM:+0200
TZOFFSETTO:+0100
DTSTART:19800928T030000
RRULE:FREQ=YEARLY;UNTIL=19950924T010000Z;BYMONTH=9;BYDAY=-1SU
END:STANDARD
BEGIN:DAYLIGHT
TZNAME:CEST
TZOFFSETFROM:+0100
TZOFFSETTO:+0200
DTSTART:19810329T020000
RRULE:FREQ=YEARLY;BYMONTH=3;BYDAY=-1SU
END:DAYLIGHT
BEGIN:STANDARD
TZNAME:CET
TZOFFSETFROM:+0200
TZOFFSETTO:+0100
DTSTART:19961027T030000
RRULE:FREQ=YEARLY;BYMONTH=10;BYDAY=-1SU
END:STANDARD
END:VTIMEZONE
BEGIN:VEVENT
DTSTAMP:20260424T205633Z
DTSTART;TZID=Europe/Berlin:20250907T113000
DTEND;TZID=Europe/Berlin:20250907T123000
SUMMARY:Regionsoberliga mJC - 2 TSV Markkleeberg vs Turbine Leipzig (17203)
UID:9c377bb5-61ad-4119-8f4b-6a2a27bfb682
STATUS:CONFIRMED
LAST-MODIFIED:20250922T143114Z
DESCRIPTION:Regionsoberliga männliche C-Jugend (2)\nBegegnungs-Nr: 17203\nHeim: TSV Markkleeberg\nGast: Turbine Leipzig\nHalle: Peter-Pohlmann-Sportzentrum (31123)\nAdresse: Mehringstraße 6\, 04416 Markkleeberg\n
LOCATION:Peter-Pohlmann-Sportzentrum (31123): Mehringstraße 6\, 04416 Markkleeberg
CATEGORIES:Saison 2025/26
END:VEVENT
BEGIN:VEVENT
DTSTAMP:20260424T205633Z
DTSTART;TZID=Europe/Berlin:20250921T143000
DTEND;TZID=Europe/Berlin:20250921T153000
SUMMARY:Regionsoberliga mJC - 2 TSV Markkleeberg vs TSG 1861 Taucha II (17209)
UID:b9209856-6c87-4f38-b275-bfc335ef18d0
STATUS:CONFIRMED
LAST-MODIFIED:20250922T145809Z
DESCRIPTION:Regionsoberliga männliche C-Jugend (2)\nBegegnungs-Nr: 17209\nHeim: TSV Markkleeberg\nGast: TSG 1861 Taucha II\nHalle: Peter-Pohlmann-Sportzentrum (31123)\nAdresse: Mehringstraße 6\, 04416 Markkleeberg\n
LOCATION:Peter-Pohlmann-Sportzentrum (31123): Mehringstraße 6\, 04416 Markkleeberg
CATEGORIES:Saison 2025/26
END:VEVENT
BEGIN:VEVENT
DTSTAMP:20260424T205633Z
DTSTART;TZID=Europe/Berlin:20251102T093000
DTEND;TZID=Europe/Berlin:20251102T103000
SUMMARY:Regionsoberliga mJC - 2 TSV Markkleeberg vs TuS Leipzig-Mockau (17214)
UID:29d05315-9835-4bb0-abac-e421a627a2ab
STATUS:CONFIRMED
LAST-MODIFIED:20251104T064457Z
DESCRIPTION:Regionsoberliga männliche C-Jugend (2)\nBegegnungs-Nr: 17214\nHeim: TSV Markkleeberg\nGast: TuS Leipzig-Mockau\nHalle: Peter-Pohlmann-Sportzentrum (31123)\nAdresse: Mehringstraße 6\, 04416 Markkleeberg\n
LOCATION:Peter-Pohlmann-Sportzentrum (31123): Mehringstraße 6\, 04416 Markkleeberg
CATEGORIES:Saison 2025/26
END:VEVENT
BEGIN:VEVENT
DTSTAMP:20260424T205633Z
DTSTART;TZID=Europe/Berlin:20260503T130000
DTEND;TZID=Europe/Berlin:20260503T140000
SUMMARY:ROL - mJC Meisterrunde TSV Markkleeberg vs Turbine Leipzig (17329)
UID:fc54cd5f-19b9-4b76-9757-66ee7ac37697
STATUS:CONFIRMED
DESCRIPTION:Regionsoberliga männliche C-Jugend (M)\nBegegnungs-Nr: 17329\nHeim: TSV Markkleeberg\nGast: Turbine Leipzig\nHalle: Neuseenlandhalle (31111)\nAdresse: Städtelner Str. 13\, 04416 Markkleeberg\n
LOCATION:Neuseenlandhalle (31111): Städtelner Str. 13\, 04416 Markkleeberg
CATEGORIES:Saison 2025/26
END:VEVENT
BEGIN:VEVENT
DTSTAMP:20260424T205633Z
DTSTART;TZID=Europe/Berlin:20260419T141000
DTEND;TZID=Europe/Berlin:20260419T151000
SUMMARY:ROL - mJC Meisterrunde TSV Markkleeberg vs TSG 1861 Taucha (17324)
UID:b51fdc1e-159d-444c-830f-06586c95d60c
STATUS:CONFIRMED
LAST-MODIFIED:20260424T033920Z
DESCRIPTION:Regionsoberliga männliche C-Jugend (M)\nBegegnungs-Nr: 17324\nHeim: TSV Markkleeberg\nGast: TSG 1861 Taucha\nHalle: Peter-Pohlmann-Sportzentrum (31123)\nAdresse: Mehringstraße 6\, 04416 Markkleeberg\n
LOCATION:Peter-Pohlmann-Sportzentrum (31123): Mehringstraße 6\, 04416 Markkleeberg
CATEGORIES:Saison 2025/26
END:VEVENT
BEGIN:VEVENT
DTSTAMP:20260424T205633Z
DTSTART;TZID=Europe/Berlin:20260315T133000
DTEND;TZID=Europe/Berlin:20260315T143000
SUMMARY:ROL - mJC Meisterrunde TSV Markkleeberg vs SG LVB II (17318)
UID:78724ee3-7615-407d-9d2f-b39afc11b389
STATUS:CONFIRMED
LAST-MODIFIED:20260323T160215Z
DESCRIPTION:Regionsoberliga männliche C-Jugend (M)\nBegegnungs-Nr: 17318\nHeim: TSV Markkleeberg\nGast: SG LVB II\nHalle: Peter-Pohlmann-Sportzentrum (31123)\nAdresse: Mehringstraße 6\, 04416 Markkleeberg\n
LOCATION:Peter-Pohlmann-Sportzentrum (31123): Mehringstraße 6\, 04416 Markkleeberg
CATEGORIES:Saison 2025/26
END:VEVENT
BEGIN:VEVENT
DTSTAMP:20260424T205633Z
DTSTART;TZID=Europe/Berlin:20260308T130000
DTEND;TZID=Europe/Berlin:20260308T140000
SUMMARY:ROL - mJC Meisterrunde TSV Markkleeberg vs VfB Eilenburg (17314)
UID:c61cde55-f710-4238-aedd-ac7e081037df
STATUS:CONFIRMED
LAST-MODIFIED:20260323T160042Z
DESCRIPTION:Regionsoberliga männliche C-Jugend (M)\nBegegnungs-Nr: 17314\nHeim: TSV Markkleeberg\nGast: VfB Eilenburg\nHalle: Peter-Pohlmann-Sportzentrum (31123)\nAdresse: Mehringstraße 6\, 04416 Markkleeberg\n
LOCATION:Peter-Pohlmann-Sportzentrum (31123): Mehringstraße 6\, 04416 Markkleeberg
CATEGORIES:Saison 2025/26
END:VEVENT
BEGIN:VEVENT
DTSTAMP:20260424T205633Z
DTSTART;TZID=Europe/Berlin:20260117T130000
DTEND;TZID=Europe/Berlin:20260117T140000
SUMMARY:ROL - mJC Meisterrunde TSV Markkleeberg vs NHV Concordia Delitzsch (17305)
UID:01de0628-0ad9-41a3-a67e-728549fb3f40
STATUS:CONFIRMED
LAST-MODIFIED:20260121T185927Z
DESCRIPTION:Regionsoberliga männliche C-Jugend (M)\nBegegnungs-Nr: 17305\nHeim: TSV Markkleeberg\nGast: NHV Concordia Delitzsch\nHalle: Peter-Pohlmann-Sportzentrum (31123)\nAdresse: Mehringstraße 6\, 04416 Markkleeberg\n
LOCATION:Peter-Pohlmann-Sportzentrum (31123): Mehringstraße 6\, 04416 Markkleeberg
CATEGORIES:Saison 2025/26
END:VEVENT
BEGIN:VEVENT
DTSTAMP:20260424T205633Z
DTSTART;TZID=Europe/Berlin:20250913T110000
DTEND;TZID=Europe/Berlin:20250913T120000
SUMMARY:Regionsoberliga mJC - 2 SG MoGoNo Leipzig II vs TSV Markkleeberg (17204)
UID:d1559edb-10e7-4b61-a8ca-9a27efe106c6
STATUS:CONFIRMED
LAST-MODIFIED:20250915T115841Z
DESCRIPTION:Regionsoberliga männliche C-Jugend (2)\nBegegnungs-Nr: 17204\nHeim: SG MoGoNo Leipzig II\nGast: TSV Markkleeberg\nHalle: SH Kästner-Grundschule Leipzig (31131)\nAdresse: Erfurter Str\, 04155 Leipzig\n
LOCATION:SH Kästner-Grundschule Leipzig (31131): Erfurter Str\, 04155 Leipzig
CATEGORIES:Saison 2025/26
END:VEVENT
BEGIN:VEVENT
DTSTAMP:20260424T205633Z
DTSTART;TZID=Europe/Berlin:20251026T160000
DTEND;TZID=Europe/Berlin:20251026T170000
SUMMARY:Regionsoberliga mJC - 2 VICTORIA Naunhof vs TSV Markkleeberg (17211)
UID:7b343bdd-bd04-4975-bc56-86fa05f515a1
STATUS:CONFIRMED
LAST-MODIFIED:20251104T064238Z
DESCRIPTION:Regionsoberliga männliche C-Jugend (2)\nBegegnungs-Nr: 17211\nHeim: VICTORIA Naunhof\nGast: TSV Markkleeberg\nHalle: Parthelandhalle Naunhof (31120)\nAdresse: Wiesenstraße 34\, 04683 Naunhof\n
LOCATION:Parthelandhalle Naunhof (31120): Wiesenstraße 34\, 04683 Naunhof
CATEGORIES:Saison 2025/26
END:VEVENT
BEGIN:VEVENT
DTSTAMP:20260424T205633Z
DTSTART;TZID=Europe/Berlin:20251108T111500
DTEND;TZID=Europe/Berlin:20251108T121500
SUMMARY:Regionsoberliga mJC - 2 SG LVB II vs TSV Markkleeberg (17216)
UID:ad7d37d3-257b-41b0-991c-80eab263ee70
STATUS:CONFIRMED
LAST-MODIFIED:20251110T153430Z
DESCRIPTION:Regionsoberliga männliche C-Jugend (2)\nBegegnungs-Nr: 17216\nHeim: SG LVB II\nGast: TSV Markkleeberg\nHalle: SH Gymnasium an der Telemannstraße  (31109)\nAdresse: Telemannstraße 9\, 04107 Leipzig\n
LOCATION:SH Gymnasium an der Telemannstraße  (31109): Telemannstraße 9\, 04107 Leipzig
CATEGORIES:Saison 2025/26
END:VEVENT
BEGIN:VEVENT
DTSTAMP:20260424T205633Z
DTSTART;TZID=Europe/Berlin:20260329T093000
DTEND;TZID=Europe/Berlin:20260329T103000
SUMMARY:ROL - mJC Meisterrunde VfB Eilenburg vs TSV Markkleeberg (17321)
UID:84250f2f-b035-4da6-9ef7-6635af5c7dfe
STATUS:CONFIRMED
LAST-MODIFIED:20260330T091616Z
DESCRIPTION:Regionsoberliga männliche C-Jugend (M)\nBegegnungs-Nr: 17321\nHeim: VfB Eilenburg\nGast: TSV Markkleeberg\nHalle: MZH Martin-Rickart-Gymnasium (31608)\nAdresse: Hochhausstraße 48\, 04838 Eilenburg\n
LOCATION:MZH Martin-Rickart-Gymnasium (31608): Hochhausstraße 48\, 04838 Eilenburg
CATEGORIES:Saison 2025/26
END:VEVENT
BEGIN:VEVENT
DTSTAMP:20260424T205633Z
DTSTART;TZID=Europe/Berlin:20260321T125500
DTEND;TZID=Europe/Berlin:20260321T135500
SUMMARY:ROL - mJC Meisterrunde SG LVB II vs TSV Markkleeberg (17319)
UID:5168a889-0cd2-41b4-b8c7-e4947898ad7c
STATUS:CONFIRMED
LAST-MODIFIED:20260325T173035Z
DESCRIPTION:Regionsoberliga männliche C-Jugend (M)\nBegegnungs-Nr: 17319\nHeim: SG LVB II\nGast: TSV Markkleeberg\nHalle: SH Gymnasium an der Telemannstraße  (31109)\nAdresse: Telemannstraße 9\, 04107 Leipzig\n
LOCATION:SH Gymnasium an der Telemannstraße  (31109): Telemannstraße 9\, 04107 Leipzig
CATEGORIES:Saison 2025/26
END:VEVENT
BEGIN:VEVENT
DTSTAMP:20260424T205633Z
DTSTART;TZID=Europe/Berlin:20260131T110000
DTEND;TZID=Europe/Berlin:20260131T120000
SUMMARY:ROL - mJC Meisterrunde Turbine Leipzig vs TSV Markkleeberg (17309)
UID:a9127bad-675c-4ac6-9a9e-40fef58ba6df
STATUS:CONFIRMED
LAST-MODIFIED:20260206T182857Z
DESCRIPTION:Regionsoberliga männliche C-Jugend (M)\nBegegnungs-Nr: 17309\nHeim: Turbine Leipzig\nGast: TSV Markkleeberg\nHalle: SH Ostwald Gymnasium Leipzig-Lößnig (31105)\nAdresse: Willi-Bredel-Str. 13\, 04279 Leipzig\n
LOCATION:SH Ostwald Gymnasium Leipzig-Lößnig (31105): Willi-Bredel-Str. 13\, 04279 Leipzig
CATEGORIES:Saison 2025/26
END:VEVENT
BEGIN:VEVENT
DTSTAMP:20260424T205633Z
DTSTART;TZID=Europe/Berlin:20260125T100000
DTEND;TZID=Europe/Berlin:20260125T110000
SUMMARY:ROL - mJC Meisterrunde TSG 1861 Taucha vs TSV Markkleeberg (17308)
UID:a1d8bfee-9e63-4ba2-b549-13fbf7c2240d
STATUS:CONFIRMED
LAST-MODIFIED:20260128T181359Z
DESCRIPTION:Regionsoberliga männliche C-Jugend (M)\nBegegnungs-Nr: 17308\nHeim: TSG 1861 Taucha\nGast: TSV Markkleeberg\nHalle: Mehrzweckhalle Taucha (31112)\nAdresse: Geschwister-Scholl-Str. 6\, 04425 Taucha\n
LOCATION:Mehrzweckhalle Taucha (31112): Geschwister-Scholl-Str. 6\, 04425 Taucha
CATEGORIES:Saison 2025/26
END:VEVENT
BEGIN:VEVENT
DTSTAMP:20260424T205633Z
DTSTART;TZID=Europe/Berlin:20260111T103000
DTEND;TZID=Europe/Berlin:20260111T113000
SUMMARY:ROL - mJC Meisterrunde NHV Concordia Delitzsch vs TSV Markkleeberg (17302)
UID:6076daa5-ef39-447b-9548-494260016af2
STATUS:CONFIRMED
LAST-MODIFIED:20260114T074224Z
DESCRIPTION:Regionsoberliga männliche C-Jugend (M)\nBegegnungs-Nr: 17302\nHeim: NHV Concordia Delitzsch\nGast: TSV Markkleeberg\nHalle: Mehrzweckhalle Delitzsch  (31304)\nAdresse: Karl-Marx-Str. 1\, 04509 Delitzsch\n
LOCATION:Mehrzweckhalle Delitzsch  (31304): Karl-Marx-Str. 1\, 04509 Delitzsch
CATEGORIES:Saison 2025/26
END:VEVENT
END:VCALENDAR
