BEGIN:VCALENDAR
PRODID:-//nuDatenautomaten//framework iCal4j //DE
VERSION:2.0
CALSCALE:GREGORIAN
BEGIN:VTIMEZONE
TZID:Europe/Berlin
LAST-MODIFIED:20260306T231828Z
TZURL:https://www.tzurl.org/zoneinfo/Europe/Berlin
X-LIC-LOCATION:Europe/Berlin
X-PROLEPTIC-TZNAME:LMT
BEGIN:STANDARD
TZNAME:CET
TZOFFSETFROM:+005328
TZOFFSETTO:+0100
DTSTART:18930401T000000
END:STANDARD
BEGIN:DAYLIGHT
TZNAME:CEST
TZOFFSETFROM:+0100
TZOFFSETTO:+0200
DTSTART:19160430T230000
RDATE:19400401T020000
RDATE:19430329T020000
RDATE:19460414T020000
RDATE:19470406T030000
RDATE:19480418T020000
RDATE:19490410T020000
RDATE:19800406T020000
END:DAYLIGHT
BEGIN:STANDARD
TZNAME:CET
TZOFFSETFROM:+0200
TZOFFSETTO:+0100
DTSTART:19161001T010000
RDATE:19421102T030000
RDATE:19431004T030000
RDATE:19441002T030000
RDATE:19451118T030000
RDATE:19461007T030000
END:STANDARD
BEGIN:DAYLIGHT
TZNAME:CEST
TZOFFSETFROM:+0100
TZOFFSETTO:+0200
DTSTART:19170416T020000
RRULE:FREQ=YEARLY;UNTIL=19180415T010000Z;BYMONTH=4;BYDAY=3MO
END:DAYLIGHT
BEGIN:STANDARD
TZNAME:CET
TZOFFSETFROM:+0200
TZOFFSETTO:+0100
DTSTART:19170917T030000
RRULE:FREQ=YEARLY;UNTIL=19180916T010000Z;BYMONTH=9;BYDAY=3MO
END:STANDARD
BEGIN:DAYLIGHT
TZNAME:CEST
TZOFFSETFROM:+0100
TZOFFSETTO:+0200
DTSTART:19440403T020000
RRULE:FREQ=YEARLY;UNTIL=19450402T010000Z;BYMONTH=4;BYDAY=1MO
END:DAYLIGHT
BEGIN:DAYLIGHT
TZNAME:CEMT
TZOFFSETFROM:+0200
TZOFFSETTO:+0300
DTSTART:19450524T020000
RDATE:19470511T030000
END:DAYLIGHT
BEGIN:DAYLIGHT
TZNAME:CEST
TZOFFSETFROM:+0300
TZOFFSETTO:+0200
DTSTART:19450924T030000
RDATE:19470629T030000
END:DAYLIGHT
BEGIN:STANDARD
TZNAME:CET
TZOFFSETFROM:+0100
TZOFFSETTO:+0100
DTSTART:19460101T000000
RDATE:19800101T000000
END:STANDARD
BEGIN:STANDARD
TZNAME:CET
TZOFFSETFROM:+0200
TZOFFSETTO:+0100
DTSTART:19471005T030000
RRULE:FREQ=YEARLY;UNTIL=19491002T010000Z;BYMONTH=10;BYDAY=1SU
END:STANDARD
BEGIN:STANDARD
TZNAME:CET
TZOFFSETFROM:+0200
TZOFFSETTO:+0100
DTSTART:19800928T030000
RRULE:FREQ=YEARLY;UNTIL=19950924T010000Z;BYMONTH=9;BYDAY=-1SU
END:STANDARD
BEGIN:DAYLIGHT
TZNAME:CEST
TZOFFSETFROM:+0100
TZOFFSETTO:+0200
DTSTART:19810329T020000
RRULE:FREQ=YEARLY;BYMONTH=3;BYDAY=-1SU
END:DAYLIGHT
BEGIN:STANDARD
TZNAME:CET
TZOFFSETFROM:+0200
TZOFFSETTO:+0100
DTSTART:19961027T030000
RRULE:FREQ=YEARLY;BYMONTH=10;BYDAY=-1SU
END:STANDARD
END:VTIMEZONE
BEGIN:VEVENT
DTSTAMP:20260420T071520Z
DTSTART;TZID=Europe/Berlin:20250913T140000
DTEND;TZID=Europe/Berlin:20250913T150000
SUMMARY:Regionsoberliga wJC - 1 VICTORIA Naunhof vs TuS Leipzig-Mockau (27105)
UID:2bb24ebd-0f5a-45a1-b9e9-19a769fdd61a
STATUS:CONFIRMED
LAST-MODIFIED:20250914T101934Z
DESCRIPTION:Regionsoberliga weibliche C-Jugend (1)\nBegegnungs-Nr: 27105\nHeim: VICTORIA Naunhof\nGast: TuS Leipzig-Mockau\nHalle: SH Oberschule Naunhof (31114)\nAdresse: Wurzener Straße 38\, 04683 Naunhof\n
LOCATION:SH Oberschule Naunhof (31114): Wurzener Straße 38\, 04683 Naunhof
CATEGORIES:Saison 2025/26
END:VEVENT
BEGIN:VEVENT
DTSTAMP:20260420T071520Z
DTSTART;TZID=Europe/Berlin:20251026T140000
DTEND;TZID=Europe/Berlin:20251026T150000
SUMMARY:Regionsoberliga wJC - 1 VICTORIA Naunhof vs VfB Torgau (27111)
UID:b185ee39-41ea-4839-81dd-0c762f25a659
STATUS:CONFIRMED
LAST-MODIFIED:20251202T215621Z
DESCRIPTION:Regionsoberliga weibliche C-Jugend (1)\nBegegnungs-Nr: 27111\nHeim: VICTORIA Naunhof\nGast: VfB Torgau\nHalle: Parthelandhalle Naunhof (31120)\nAdresse: Wiesenstraße 34\, 04683 Naunhof\n
LOCATION:Parthelandhalle Naunhof (31120): Wiesenstraße 34\, 04683 Naunhof
CATEGORIES:Saison 2025/26
END:VEVENT
BEGIN:VEVENT
DTSTAMP:20260420T071520Z
DTSTART;TZID=Europe/Berlin:20251108T120000
DTEND;TZID=Europe/Berlin:20251108T130000
SUMMARY:Regionsoberliga wJC - 1 VICTORIA Naunhof vs HV Glesien (27116)
UID:cc478707-8ab5-48e5-ab44-7351d288b593
STATUS:CONFIRMED
LAST-MODIFIED:20251111T142618Z
DESCRIPTION:Regionsoberliga weibliche C-Jugend (1)\nBegegnungs-Nr: 27116\nHeim: VICTORIA Naunhof\nGast: HV Glesien\nHalle: Parthelandhalle Naunhof (31120)\nAdresse: Wiesenstraße 34\, 04683 Naunhof\n
LOCATION:Parthelandhalle Naunhof (31120): Wiesenstraße 34\, 04683 Naunhof
CATEGORIES:Saison 2025/26
END:VEVENT
BEGIN:VEVENT
DTSTAMP:20260420T071520Z
DTSTART;TZID=Europe/Berlin:20251026T140000
DTEND;TZID=Europe/Berlin:20251026T150000
SUMMARY:ROL - wJC Platz 7-13 VICTORIA Naunhof vs VfB Torgau (27111)
UID:01d27810-576f-4214-b321-fa8c8710a352
STATUS:CONFIRMED
LAST-MODIFIED:20251216T142940Z
DESCRIPTION:Regionsoberliga weibliche C-Jugend (P)\nBegegnungs-Nr: 27111\nHeim: VICTORIA Naunhof\nGast: VfB Torgau\n
LOCATION:
CATEGORIES:Saison 2025/26
END:VEVENT
BEGIN:VEVENT
DTSTAMP:20260420T071520Z
DTSTART;TZID=Europe/Berlin:20260328T100000
DTEND;TZID=Europe/Berlin:20260328T110000
SUMMARY:ROL - wJC Platz 7-13 VICTORIA Naunhof vs NSG Neuseenland (27433)
UID:decf49c5-75a9-4e0e-9c18-f2315e3d5b94
STATUS:CONFIRMED
LAST-MODIFIED:20260330T102525Z
DESCRIPTION:Regionsoberliga weibliche C-Jugend (P)\nBegegnungs-Nr: 27433\nHeim: VICTORIA Naunhof\nGast: NSG Neuseenland\nHalle: Parthelandhalle Naunhof (31120)\nAdresse: Wiesenstraße 34\, 04683 Naunhof\n
LOCATION:Parthelandhalle Naunhof (31120): Wiesenstraße 34\, 04683 Naunhof
CATEGORIES:Saison 2025/26
END:VEVENT
BEGIN:VEVENT
DTSTAMP:20260420T071520Z
DTSTART;TZID=Europe/Berlin:20260314T120000
DTEND;TZID=Europe/Berlin:20260314T130000
SUMMARY:ROL - wJC Platz 7-13 VICTORIA Naunhof vs HV Böhlen (27429)
UID:4075ca00-1146-4c01-a55e-85cb52a614df
STATUS:CONFIRMED
LAST-MODIFIED:20260320T153652Z
DESCRIPTION:Regionsoberliga weibliche C-Jugend (P)\nBegegnungs-Nr: 27429\nHeim: VICTORIA Naunhof\nGast: HV Böhlen\nHalle: SH Oberschule Naunhof (31114)\nAdresse: Wurzener Straße 38\, 04683 Naunhof\n
LOCATION:SH Oberschule Naunhof (31114): Wurzener Straße 38\, 04683 Naunhof
CATEGORIES:Saison 2025/26
END:VEVENT
BEGIN:VEVENT
DTSTAMP:20260420T071520Z
DTSTART;TZID=Europe/Berlin:20260301T120000
DTEND;TZID=Europe/Berlin:20260301T130000
SUMMARY:ROL - wJC Platz 7-13 VICTORIA Naunhof vs TSG 1861 Taucha (27421)
UID:9ab60b1a-a7a3-4fce-a805-eb920bc12e9e
STATUS:CONFIRMED
LAST-MODIFIED:20260305T144920Z
DESCRIPTION:Regionsoberliga weibliche C-Jugend (P)\nBegegnungs-Nr: 27421\nHeim: VICTORIA Naunhof\nGast: TSG 1861 Taucha\nHalle: Parthelandhalle Naunhof (31120)\nAdresse: Wiesenstraße 34\, 04683 Naunhof\n
LOCATION:Parthelandhalle Naunhof (31120): Wiesenstraße 34\, 04683 Naunhof
CATEGORIES:Saison 2025/26
END:VEVENT
BEGIN:VEVENT
DTSTAMP:20260420T071520Z
DTSTART;TZID=Europe/Berlin:20260329T120000
DTEND;TZID=Europe/Berlin:20260329T130000
SUMMARY:ROL - wJC Platz 7-13 VICTORIA Naunhof vs VfB Eilenburg (27415)
UID:0ef8b2f4-66cc-4829-b475-f67fed275b8c
STATUS:CONFIRMED
LAST-MODIFIED:20260330T102602Z
DESCRIPTION:Regionsoberliga weibliche C-Jugend (P)\nBegegnungs-Nr: 27415\nHeim: VICTORIA Naunhof\nGast: VfB Eilenburg\nHalle: Parthelandhalle Naunhof (31120)\nAdresse: Wiesenstraße 34\, 04683 Naunhof\n
LOCATION:Parthelandhalle Naunhof (31120): Wiesenstraße 34\, 04683 Naunhof
CATEGORIES:Saison 2025/26
END:VEVENT
BEGIN:VEVENT
DTSTAMP:20260420T071520Z
DTSTART;TZID=Europe/Berlin:20260123T173000
DTEND;TZID=Europe/Berlin:20260123T183000
SUMMARY:ROL - wJC Platz 7-13 VICTORIA Naunhof vs NHV Concordia Delitzsch (27411)
UID:049d5cc4-32dd-4b8a-ac37-9f20d8d94bee
STATUS:CONFIRMED
LAST-MODIFIED:20260129T092616Z
DESCRIPTION:Regionsoberliga weibliche C-Jugend (P)\nBegegnungs-Nr: 27411\nHeim: VICTORIA Naunhof\nGast: NHV Concordia Delitzsch\nHalle: Parthelandhalle Naunhof (31120)\nAdresse: Wiesenstraße 34\, 04683 Naunhof\n
LOCATION:Parthelandhalle Naunhof (31120): Wiesenstraße 34\, 04683 Naunhof
CATEGORIES:Saison 2025/26
END:VEVENT
BEGIN:VEVENT
DTSTAMP:20260420T071520Z
DTSTART;TZID=Europe/Berlin:20250921T113000
DTEND;TZID=Europe/Berlin:20250921T123000
SUMMARY:Regionsoberliga wJC - 1 VfB Eilenburg vs VICTORIA Naunhof (27109)
UID:3005d61a-ffbf-477b-a9f9-0f17225e6b2d
STATUS:CONFIRMED
LAST-MODIFIED:20250926T091856Z
DESCRIPTION:Regionsoberliga weibliche C-Jugend (1)\nBegegnungs-Nr: 27109\nHeim: VfB Eilenburg\nGast: VICTORIA Naunhof\nHalle: Belian-SH Eilenburg (31307)\nAdresse: Dr.-Belian-Str. 7\, 04838 Eilenburg\n
LOCATION:Belian-SH Eilenburg (31307): Dr.-Belian-Str. 7\, 04838 Eilenburg
CATEGORIES:Saison 2025/26
END:VEVENT
BEGIN:VEVENT
DTSTAMP:20260420T071520Z
DTSTART;TZID=Europe/Berlin:20251130T140000
DTEND;TZID=Europe/Berlin:20251130T150000
SUMMARY:Regionsoberliga wJC - 1 TSG 1861 Taucha vs VICTORIA Naunhof (27121)
UID:42b16629-b7e7-4f53-9e1c-d91322f1acd4
STATUS:CONFIRMED
LAST-MODIFIED:20251208T212350Z
DESCRIPTION:Regionsoberliga weibliche C-Jugend (1)\nBegegnungs-Nr: 27121\nHeim: TSG 1861 Taucha\nGast: VICTORIA Naunhof\nHalle: Klebendorfer Sporthalle (31119)\nAdresse: Ferdinand-Lassalle-Str. 20\, 04425 Taucha\n
LOCATION:Klebendorfer Sporthalle (31119): Ferdinand-Lassalle-Str. 20\, 04425 Taucha
CATEGORIES:Saison 2025/26
END:VEVENT
BEGIN:VEVENT
DTSTAMP:20260420T071520Z
DTSTART;TZID=Europe/Berlin:20251101T120000
DTEND;TZID=Europe/Berlin:20251101T130000
SUMMARY:Regionsoberliga wJC - 1 HSV Mölkau - Die Haie  vs VICTORIA Naunhof (27113)
UID:ee086735-e06f-41c1-9f7e-aad9036bd2a3
STATUS:CONFIRMED
LAST-MODIFIED:20251202T215907Z
DESCRIPTION:Regionsoberliga weibliche C-Jugend (1)\nBegegnungs-Nr: 27113\nHeim: HSV Mölkau - Die Haie \nGast: VICTORIA Naunhof\nHalle: SH Oberschule Leipzig-Mölkau (31106)\nAdresse: Schulstr. 6\, 04316 Leipzig\n
LOCATION:SH Oberschule Leipzig-Mölkau (31106): Schulstr. 6\, 04316 Leipzig
CATEGORIES:Saison 2025/26
END:VEVENT
BEGIN:VEVENT
DTSTAMP:20260420T071520Z
DTSTART;TZID=Europe/Berlin:20250921T113000
DTEND;TZID=Europe/Berlin:20250921T123000
SUMMARY:ROL - wJC Platz 7-13 VfB Eilenburg vs VICTORIA Naunhof (27109)
UID:f78ae90e-c7a1-4582-94f2-211c4dea24c3
STATUS:CONFIRMED
LAST-MODIFIED:20251216T142940Z
DESCRIPTION:Regionsoberliga weibliche C-Jugend (P)\nBegegnungs-Nr: 27109\nHeim: VfB Eilenburg\nGast: VICTORIA Naunhof\n
LOCATION:
CATEGORIES:Saison 2025/26
END:VEVENT
BEGIN:VEVENT
DTSTAMP:20260420T071520Z
DTSTART;TZID=Europe/Berlin:20251130T140000
DTEND;TZID=Europe/Berlin:20251130T150000
SUMMARY:ROL - wJC Platz 7-13 TSG 1861 Taucha vs VICTORIA Naunhof (27121)
UID:a2c464f4-374c-4cbe-a66a-f02337e2e069
STATUS:CONFIRMED
LAST-MODIFIED:20251216T142940Z
DESCRIPTION:Regionsoberliga weibliche C-Jugend (P)\nBegegnungs-Nr: 27121\nHeim: TSG 1861 Taucha\nGast: VICTORIA Naunhof\n
LOCATION:
CATEGORIES:Saison 2025/26
END:VEVENT
BEGIN:VEVENT
DTSTAMP:20260420T071520Z
DTSTART;TZID=Europe/Berlin:20260414T173000
DTEND;TZID=Europe/Berlin:20260414T183000
SUMMARY:ROL - wJC Platz 7-13 HV Böhlen vs VICTORIA Naunhof (27430)
UID:109d85d8-6822-48ec-999e-fd32c78f6256
STATUS:CONFIRMED
LAST-MODIFIED:20260320T153652Z
DESCRIPTION:Regionsoberliga weibliche C-Jugend (P)\nBegegnungs-Nr: 27430\nHeim: HV Böhlen\nGast: VICTORIA Naunhof\nHalle: SH Oberschule Böhlen (31411)\nAdresse: Lessingstraße 1\, 04564 Böhlen\n
LOCATION:SH Oberschule Böhlen (31411): Lessingstraße 1\, 04564 Böhlen
CATEGORIES:Saison 2025/26
END:VEVENT
BEGIN:VEVENT
DTSTAMP:20260420T071520Z
DTSTART;TZID=Europe/Berlin:20260307T130000
DTEND;TZID=Europe/Berlin:20260307T140000
SUMMARY:ROL - wJC Platz 7-13 NSG Neuseenland vs VICTORIA Naunhof (27426)
UID:b090de81-c5f0-4dd0-8b51-50f2beb5e285
STATUS:CONFIRMED
LAST-MODIFIED:20260310T103616Z
DESCRIPTION:Regionsoberliga weibliche C-Jugend (P)\nBegegnungs-Nr: 27426\nHeim: NSG Neuseenland\nGast: VICTORIA Naunhof\nHalle: SH Borna-Ost (31401)\nAdresse: Oststr. 2 \, 04552 Borna\n
LOCATION:SH Borna-Ost (31401): Oststr. 2 \, 04552 Borna
CATEGORIES:Saison 2025/26
END:VEVENT
BEGIN:VEVENT
DTSTAMP:20260420T071520Z
DTSTART;TZID=Europe/Berlin:20260131T110000
DTEND;TZID=Europe/Berlin:20260131T120000
SUMMARY:ROL - wJC Platz 7-13 VfB Torgau vs VICTORIA Naunhof (27418)
UID:c8d88af0-a5bc-467c-a860-7b8d1b417c29
STATUS:CONFIRMED
LAST-MODIFIED:20260323T160943Z
DESCRIPTION:Regionsoberliga weibliche C-Jugend (P)\nBegegnungs-Nr: 27418\nHeim: VfB Torgau\nGast: VICTORIA Naunhof\nHalle: Stadthalle Belgern (31606)\nAdresse: Mühlberger Str.\, 04874 Belgern\n
LOCATION:Stadthalle Belgern (31606): Mühlberger Str.\, 04874 Belgern
CATEGORIES:Saison 2025/26
END:VEVENT
BEGIN:VEVENT
DTSTAMP:20260420T071520Z
DTSTART;TZID=Europe/Berlin:20260118T103000
DTEND;TZID=Europe/Berlin:20260118T113000
SUMMARY:ROL - wJC Platz 7-13 NHV Concordia Delitzsch vs VICTORIA Naunhof (27414)
UID:88835d7f-8f0f-445d-af7d-a91955ae9a7b
STATUS:CONFIRMED
LAST-MODIFIED:20260129T092536Z
DESCRIPTION:Regionsoberliga weibliche C-Jugend (P)\nBegegnungs-Nr: 27414\nHeim: NHV Concordia Delitzsch\nGast: VICTORIA Naunhof\nHalle: Mehrzweckhalle Delitzsch  (31304)\nAdresse: Karl-Marx-Str. 1\, 04509 Delitzsch\n
LOCATION:Mehrzweckhalle Delitzsch  (31304): Karl-Marx-Str. 1\, 04509 Delitzsch
CATEGORIES:Saison 2025/26
END:VEVENT
END:VCALENDAR
