BEGIN:VCALENDAR
PRODID:-//nuDatenautomaten//framework iCal4j //DE
VERSION:2.0
CALSCALE:GREGORIAN
BEGIN:VTIMEZONE
TZID:Europe/Berlin
LAST-MODIFIED:20260306T231828Z
TZURL:https://www.tzurl.org/zoneinfo/Europe/Berlin
X-LIC-LOCATION:Europe/Berlin
X-PROLEPTIC-TZNAME:LMT
BEGIN:STANDARD
TZNAME:CET
TZOFFSETFROM:+005328
TZOFFSETTO:+0100
DTSTART:18930401T000000
END:STANDARD
BEGIN:DAYLIGHT
TZNAME:CEST
TZOFFSETFROM:+0100
TZOFFSETTO:+0200
DTSTART:19160430T230000
RDATE:19400401T020000
RDATE:19430329T020000
RDATE:19460414T020000
RDATE:19470406T030000
RDATE:19480418T020000
RDATE:19490410T020000
RDATE:19800406T020000
END:DAYLIGHT
BEGIN:STANDARD
TZNAME:CET
TZOFFSETFROM:+0200
TZOFFSETTO:+0100
DTSTART:19161001T010000
RDATE:19421102T030000
RDATE:19431004T030000
RDATE:19441002T030000
RDATE:19451118T030000
RDATE:19461007T030000
END:STANDARD
BEGIN:DAYLIGHT
TZNAME:CEST
TZOFFSETFROM:+0100
TZOFFSETTO:+0200
DTSTART:19170416T020000
RRULE:FREQ=YEARLY;UNTIL=19180415T010000Z;BYMONTH=4;BYDAY=3MO
END:DAYLIGHT
BEGIN:STANDARD
TZNAME:CET
TZOFFSETFROM:+0200
TZOFFSETTO:+0100
DTSTART:19170917T030000
RRULE:FREQ=YEARLY;UNTIL=19180916T010000Z;BYMONTH=9;BYDAY=3MO
END:STANDARD
BEGIN:DAYLIGHT
TZNAME:CEST
TZOFFSETFROM:+0100
TZOFFSETTO:+0200
DTSTART:19440403T020000
RRULE:FREQ=YEARLY;UNTIL=19450402T010000Z;BYMONTH=4;BYDAY=1MO
END:DAYLIGHT
BEGIN:DAYLIGHT
TZNAME:CEMT
TZOFFSETFROM:+0200
TZOFFSETTO:+0300
DTSTART:19450524T020000
RDATE:19470511T030000
END:DAYLIGHT
BEGIN:DAYLIGHT
TZNAME:CEST
TZOFFSETFROM:+0300
TZOFFSETTO:+0200
DTSTART:19450924T030000
RDATE:19470629T030000
END:DAYLIGHT
BEGIN:STANDARD
TZNAME:CET
TZOFFSETFROM:+0100
TZOFFSETTO:+0100
DTSTART:19460101T000000
RDATE:19800101T000000
END:STANDARD
BEGIN:STANDARD
TZNAME:CET
TZOFFSETFROM:+0200
TZOFFSETTO:+0100
DTSTART:19471005T030000
RRULE:FREQ=YEARLY;UNTIL=19491002T010000Z;BYMONTH=10;BYDAY=1SU
END:STANDARD
BEGIN:STANDARD
TZNAME:CET
TZOFFSETFROM:+0200
TZOFFSETTO:+0100
DTSTART:19800928T030000
RRULE:FREQ=YEARLY;UNTIL=19950924T010000Z;BYMONTH=9;BYDAY=-1SU
END:STANDARD
BEGIN:DAYLIGHT
TZNAME:CEST
TZOFFSETFROM:+0100
TZOFFSETTO:+0200
DTSTART:19810329T020000
RRULE:FREQ=YEARLY;BYMONTH=3;BYDAY=-1SU
END:DAYLIGHT
BEGIN:STANDARD
TZNAME:CET
TZOFFSETFROM:+0200
TZOFFSETTO:+0100
DTSTART:19961027T030000
RRULE:FREQ=YEARLY;BYMONTH=10;BYDAY=-1SU
END:STANDARD
END:VTIMEZONE
BEGIN:VEVENT
DTSTAMP:20260424T011525Z
DTSTART;TZID=Europe/Berlin:20250921T130000
DTEND;TZID=Europe/Berlin:20250921T143000
SUMMARY:Regionsklasse S-M Mä. St.2 SV Niederau III vs SV Rähnitz II (4008)
UID:0be2b9f7-6527-49fa-be27-a2a0b7c0afe5
STATUS:CONFIRMED
LAST-MODIFIED:20250926T130008Z
DESCRIPTION:Regionsklasse S-M Männer Staffel 2\nBegegnungs-Nr: 4008\nHeim: SV Niederau III\nGast: SV Rähnitz II\nHalle: SH BSZ Meißen (33220)\nAdresse: Goethestraße 21\, 01662 Meißen\n
LOCATION:SH BSZ Meißen (33220): Goethestraße 21\, 01662 Meißen
CATEGORIES:Saison 2025/26
END:VEVENT
BEGIN:VEVENT
DTSTAMP:20260424T011525Z
DTSTART;TZID=Europe/Berlin:20260418T150000
DTEND;TZID=Europe/Berlin:20260418T163000
SUMMARY:Regionsklasse S-M Mä. St.2 SV Niederau III vs Medizin Bad Gottleuba II (4040)
UID:b19289c1-df67-49be-af99-368342992d9c
STATUS:CONFIRMED
LAST-MODIFIED:20260420T152301Z
DESCRIPTION:Regionsklasse S-M Männer Staffel 2\nBegegnungs-Nr: 4040\nHeim: SV Niederau III\nGast: Medizin Bad Gottleuba II\nHalle: SH BSZ Meißen (33220)\nAdresse: Goethestraße 21\, 01662 Meißen\n
LOCATION:SH BSZ Meißen (33220): Goethestraße 21\, 01662 Meißen
CATEGORIES:Saison 2025/26
END:VEVENT
BEGIN:VEVENT
DTSTAMP:20260424T011525Z
DTSTART;TZID=Europe/Berlin:20260307T130000
DTEND;TZID=Europe/Berlin:20260307T143000
SUMMARY:Regionsklasse S-M Mä. St.2 SV Niederau III vs VfL Meißen (4033)
UID:15b83e6c-1293-4865-81e9-417e0d4987fb
STATUS:CONFIRMED
LAST-MODIFIED:20260308T075136Z
DESCRIPTION:Regionsklasse S-M Männer Staffel 2\nBegegnungs-Nr: 4033\nHeim: SV Niederau III\nGast: VfL Meißen\nHalle: SH BSZ Meißen (33220)\nAdresse: Goethestraße 21\, 01662 Meißen\n
LOCATION:SH BSZ Meißen (33220): Goethestraße 21\, 01662 Meißen
CATEGORIES:Saison 2025/26
END:VEVENT
BEGIN:VEVENT
DTSTAMP:20260424T011525Z
DTSTART;TZID=Europe/Berlin:20260411T150000
DTEND;TZID=Europe/Berlin:20260411T163000
SUMMARY:Regionsklasse S-M Mä. St.2 SV Niederau III vs SG Dippoldiswalde-Ruppendorf (4030)
UID:99327a6c-cc8a-4283-b6f5-84c5b94949d5
STATUS:CONFIRMED
LAST-MODIFIED:20260413T171939Z
DESCRIPTION:Regionsklasse S-M Männer Staffel 2\nBegegnungs-Nr: 4030\nHeim: SV Niederau III\nGast: SG Dippoldiswalde-Ruppendorf\nHalle: SH BSZ Meißen (33220)\nAdresse: Goethestraße 21\, 01662 Meißen\n
LOCATION:SH BSZ Meißen (33220): Goethestraße 21\, 01662 Meißen
CATEGORIES:Saison 2025/26
END:VEVENT
BEGIN:VEVENT
DTSTAMP:20260424T011525Z
DTSTART;TZID=Europe/Berlin:20260124T130000
DTEND;TZID=Europe/Berlin:20260124T143000
SUMMARY:Regionsklasse S-M Mä. St.2 SV Niederau III vs SSV Lommatzsch II (4027)
UID:d165a0b8-a247-42d8-a370-35fc4d3cf6db
STATUS:CONFIRMED
LAST-MODIFIED:20260125T153132Z
DESCRIPTION:Regionsklasse S-M Männer Staffel 2\nBegegnungs-Nr: 4027\nHeim: SV Niederau III\nGast: SSV Lommatzsch II\nHalle: SH BSZ Meißen (33220)\nAdresse: Goethestraße 21\, 01662 Meißen\n
LOCATION:SH BSZ Meißen (33220): Goethestraße 21\, 01662 Meißen
CATEGORIES:Saison 2025/26
END:VEVENT
BEGIN:VEVENT
DTSTAMP:20260424T011525Z
DTSTART;TZID=Europe/Berlin:20251108T130000
DTEND;TZID=Europe/Berlin:20251108T143000
SUMMARY:Regionsklasse S-M Mä. St.2 SV Niederau III vs HC Elbflorenz 2006 IV (4014)
UID:9673aad2-3696-4aff-8aaf-612b24d8465c
STATUS:CONFIRMED
LAST-MODIFIED:20251109T075357Z
DESCRIPTION:Regionsklasse S-M Männer Staffel 2\nBegegnungs-Nr: 4014\nHeim: SV Niederau III\nGast: HC Elbflorenz 2006 IV\nHalle: SH \"Heiliger Grund\" Meißen (33212)\nAdresse: Goethestraße 27\, 01662 Meißen\n
LOCATION:SH \"Heiliger Grund\" Meißen (33212): Goethestraße 27\, 01662 Meißen
CATEGORIES:Saison 2025/26
END:VEVENT
BEGIN:VEVENT
DTSTAMP:20260424T011525Z
DTSTART;TZID=Europe/Berlin:20251101T150000
DTEND;TZID=Europe/Berlin:20251101T163000
SUMMARY:Regionsklasse S-M Mä. St.2 VfL Meißen vs SV Niederau III (4012)
UID:b9df3d08-d496-40d2-b754-4bb795e10749
STATUS:CONFIRMED
LAST-MODIFIED:20251103T153115Z
DESCRIPTION:Regionsklasse S-M Männer Staffel 2\nBegegnungs-Nr: 4012\nHeim: VfL Meißen\nGast: SV Niederau III\nHalle: SH \"Heiliger Grund\" Meißen (33212)\nAdresse: Goethestraße 27\, 01662 Meißen\n
LOCATION:SH \"Heiliger Grund\" Meißen (33212): Goethestraße 27\, 01662 Meißen
CATEGORIES:Saison 2025/26
END:VEVENT
BEGIN:VEVENT
DTSTAMP:20260424T011525Z
DTSTART;TZID=Europe/Berlin:20250927T160000
DTEND;TZID=Europe/Berlin:20250927T173000
SUMMARY:Regionsklasse S-M Mä. St.2 SG Dippoldiswalde-Ruppendorf vs SV Niederau III (4009)
UID:9413a3e5-4795-4c72-9ade-d087a35a7fea
STATUS:CONFIRMED
LAST-MODIFIED:20250929T161343Z
DESCRIPTION:Regionsklasse S-M Männer Staffel 2\nBegegnungs-Nr: 4009\nHeim: SG Dippoldiswalde-Ruppendorf\nGast: SV Niederau III\nHalle: Sportpark Dippoldiswalde (33229)\nAdresse: Nikolai-Ostrowski-Straße 2\, 01744 Dippoldiswalde\n
LOCATION:Sportpark Dippoldiswalde (33229): Nikolai-Ostrowski-Straße 2\, 01744 Dippoldiswalde
CATEGORIES:Saison 2025/26
END:VEVENT
BEGIN:VEVENT
DTSTAMP:20260424T011525Z
DTSTART;TZID=Europe/Berlin:20250913T140000
DTEND;TZID=Europe/Berlin:20250913T153000
SUMMARY:Regionsklasse S-M Mä. St.2 SSV Lommatzsch II vs SV Niederau III (4006)
UID:d826e79f-ac75-45d1-9c66-52e882895f83
STATUS:CONFIRMED
LAST-MODIFIED:20250914T172804Z
DESCRIPTION:Regionsklasse S-M Männer Staffel 2\nBegegnungs-Nr: 4006\nHeim: SSV Lommatzsch II\nGast: SV Niederau III\nHalle: Lothar-Krauße-SH Lommatzsch (33211)\nAdresse: Domselwitzer Str. 21\, 01623 Lommatzsch\n
LOCATION:Lothar-Krauße-SH Lommatzsch (33211): Domselwitzer Str. 21\, 01623 Lommatzsch
CATEGORIES:Saison 2025/26
END:VEVENT
BEGIN:VEVENT
DTSTAMP:20260424T011525Z
DTSTART;TZID=Europe/Berlin:20260322T163000
DTEND;TZID=Europe/Berlin:20260322T180000
SUMMARY:Regionsklasse S-M Mä. St.2 HC Elbflorenz 2006 IV vs SV Niederau III (4035)
UID:967146f6-f945-4069-b430-751b3df56365
STATUS:CONFIRMED
LAST-MODIFIED:20260322T174702Z
DESCRIPTION:Regionsklasse S-M Männer Staffel 2\nBegegnungs-Nr: 4035\nHeim: HC Elbflorenz 2006 IV\nGast: SV Niederau III\nHalle: BallsportARENA Dresden (33133)\nAdresse: Weißeritzstraße 4\, 01067 Dresden\n
LOCATION:BallsportARENA Dresden (33133): Weißeritzstraße 4\, 01067 Dresden
CATEGORIES:Saison 2025/26
END:VEVENT
BEGIN:VEVENT
DTSTAMP:20260424T011525Z
DTSTART;TZID=Europe/Berlin:20260201T120000
DTEND;TZID=Europe/Berlin:20260201T133000
SUMMARY:Regionsklasse S-M Mä. St.2 SV Rähnitz II vs SV Niederau III (4029)
UID:49ea801e-d94f-4a4e-b17a-4d32369f0b5c
STATUS:CONFIRMED
LAST-MODIFIED:20260201T145703Z
DESCRIPTION:Regionsklasse S-M Männer Staffel 2\nBegegnungs-Nr: 4029\nHeim: SV Rähnitz II\nGast: SV Niederau III\nHalle: SH 56. Oberschule Dresden Am Trachenberg (33131)\nAdresse: Aachener Straße 10\, 01129 Dresden\n
LOCATION:SH 56. Oberschule Dresden Am Trachenberg (33131): Aachener Straße 10\, 01129 Dresden
CATEGORIES:Saison 2025/26
END:VEVENT
BEGIN:VEVENT
DTSTAMP:20260424T011525Z
DTSTART;TZID=Europe/Berlin:20251130T150000
DTEND;TZID=Europe/Berlin:20251130T163000
SUMMARY:Regionsklasse S-M Mä. St.2 Medizin Bad Gottleuba II vs SV Niederau III (4019)
UID:544c472d-60a5-4084-9aca-cd03ecb72cb3
STATUS:CONFIRMED
LAST-MODIFIED:20251130T155150Z
DESCRIPTION:Regionsklasse S-M Männer Staffel 2\nBegegnungs-Nr: 4019\nHeim: Medizin Bad Gottleuba II\nGast: SV Niederau III\nHalle: SH Geising (33201)\nAdresse: Lange Str. 25\, 01778 Altenberg ST Geising\n
LOCATION:SH Geising (33201): Lange Str. 25\, 01778 Altenberg ST Geising
CATEGORIES:Saison 2025/26
END:VEVENT
END:VCALENDAR
