BEGIN:VCALENDAR
PRODID:-//nuDatenautomaten//framework iCal4j //DE
VERSION:2.0
CALSCALE:GREGORIAN
BEGIN:VTIMEZONE
TZID:Europe/Berlin
LAST-MODIFIED:20260306T231828Z
TZURL:https://www.tzurl.org/zoneinfo/Europe/Berlin
X-LIC-LOCATION:Europe/Berlin
X-PROLEPTIC-TZNAME:LMT
BEGIN:STANDARD
TZNAME:CET
TZOFFSETFROM:+005328
TZOFFSETTO:+0100
DTSTART:18930401T000000
END:STANDARD
BEGIN:DAYLIGHT
TZNAME:CEST
TZOFFSETFROM:+0100
TZOFFSETTO:+0200
DTSTART:19160430T230000
RDATE:19400401T020000
RDATE:19430329T020000
RDATE:19460414T020000
RDATE:19470406T030000
RDATE:19480418T020000
RDATE:19490410T020000
RDATE:19800406T020000
END:DAYLIGHT
BEGIN:STANDARD
TZNAME:CET
TZOFFSETFROM:+0200
TZOFFSETTO:+0100
DTSTART:19161001T010000
RDATE:19421102T030000
RDATE:19431004T030000
RDATE:19441002T030000
RDATE:19451118T030000
RDATE:19461007T030000
END:STANDARD
BEGIN:DAYLIGHT
TZNAME:CEST
TZOFFSETFROM:+0100
TZOFFSETTO:+0200
DTSTART:19170416T020000
RRULE:FREQ=YEARLY;UNTIL=19180415T010000Z;BYMONTH=4;BYDAY=3MO
END:DAYLIGHT
BEGIN:STANDARD
TZNAME:CET
TZOFFSETFROM:+0200
TZOFFSETTO:+0100
DTSTART:19170917T030000
RRULE:FREQ=YEARLY;UNTIL=19180916T010000Z;BYMONTH=9;BYDAY=3MO
END:STANDARD
BEGIN:DAYLIGHT
TZNAME:CEST
TZOFFSETFROM:+0100
TZOFFSETTO:+0200
DTSTART:19440403T020000
RRULE:FREQ=YEARLY;UNTIL=19450402T010000Z;BYMONTH=4;BYDAY=1MO
END:DAYLIGHT
BEGIN:DAYLIGHT
TZNAME:CEMT
TZOFFSETFROM:+0200
TZOFFSETTO:+0300
DTSTART:19450524T020000
RDATE:19470511T030000
END:DAYLIGHT
BEGIN:DAYLIGHT
TZNAME:CEST
TZOFFSETFROM:+0300
TZOFFSETTO:+0200
DTSTART:19450924T030000
RDATE:19470629T030000
END:DAYLIGHT
BEGIN:STANDARD
TZNAME:CET
TZOFFSETFROM:+0100
TZOFFSETTO:+0100
DTSTART:19460101T000000
RDATE:19800101T000000
END:STANDARD
BEGIN:STANDARD
TZNAME:CET
TZOFFSETFROM:+0200
TZOFFSETTO:+0100
DTSTART:19471005T030000
RRULE:FREQ=YEARLY;UNTIL=19491002T010000Z;BYMONTH=10;BYDAY=1SU
END:STANDARD
BEGIN:STANDARD
TZNAME:CET
TZOFFSETFROM:+0200
TZOFFSETTO:+0100
DTSTART:19800928T030000
RRULE:FREQ=YEARLY;UNTIL=19950924T010000Z;BYMONTH=9;BYDAY=-1SU
END:STANDARD
BEGIN:DAYLIGHT
TZNAME:CEST
TZOFFSETFROM:+0100
TZOFFSETTO:+0200
DTSTART:19810329T020000
RRULE:FREQ=YEARLY;BYMONTH=3;BYDAY=-1SU
END:DAYLIGHT
BEGIN:STANDARD
TZNAME:CET
TZOFFSETFROM:+0200
TZOFFSETTO:+0100
DTSTART:19961027T030000
RRULE:FREQ=YEARLY;BYMONTH=10;BYDAY=-1SU
END:STANDARD
END:VTIMEZONE
BEGIN:VEVENT
DTSTAMP:20260420T183649Z
DTSTART;TZID=Europe/Berlin:20260328T100000
DTEND;TZID=Europe/Berlin:20260328T110000
SUMMARY:ROL wJE HSV Marienberg vs BSV Limbach-O. (480113)
UID:ca07f8e3-a142-445e-a822-f7323b09118f
STATUS:CONFIRMED
LAST-MODIFIED:20260409T092432Z
DESCRIPTION:Regionsoberliga weibl. E-Jugend\nBegegnungs-Nr: 480113\nHeim: HSV Marienberg\nGast: BSV Limbach-O.\nHalle: SH am Goldkindstein Marienberg (32416)\nAdresse: Dr.-Wilhelm-Külz-Allee 23\, 09496 Marienberg\n
LOCATION:SH am Goldkindstein Marienberg (32416): Dr.-Wilhelm-Külz-Allee 23\, 09496 Marienberg
CATEGORIES:Saison 2025/26
END:VEVENT
BEGIN:VEVENT
DTSTAMP:20260420T183649Z
DTSTART;TZID=Europe/Berlin:20251207T110000
DTEND;TZID=Europe/Berlin:20251207T120000
SUMMARY:ROL wJE HSV Marienberg vs SG Zschorlau/Schneeberg (480057)
UID:4c725f1f-c6b8-456e-866c-0c7e128e3abd
STATUS:CONFIRMED
LAST-MODIFIED:20251210T110449Z
DESCRIPTION:Regionsoberliga weibl. E-Jugend\nBegegnungs-Nr: 480057\nHeim: HSV Marienberg\nGast: SG Zschorlau/Schneeberg\nHalle: SH am Goldkindstein Marienberg (32416)\nAdresse: Dr.-Wilhelm-Külz-Allee 23\, 09496 Marienberg\n
LOCATION:SH am Goldkindstein Marienberg (32416): Dr.-Wilhelm-Külz-Allee 23\, 09496 Marienberg
CATEGORIES:Saison 2025/26
END:VEVENT
BEGIN:VEVENT
DTSTAMP:20260420T183649Z
DTSTART;TZID=Europe/Berlin:20251207T140000
DTEND;TZID=Europe/Berlin:20251207T150000
SUMMARY:ROL wJE HSV Marienberg vs HC Fraureuth (480060)
UID:d51a5a45-2c4e-497e-ac20-08f2e151ccc9
STATUS:CONFIRMED
LAST-MODIFIED:20251210T110754Z
DESCRIPTION:Regionsoberliga weibl. E-Jugend\nBegegnungs-Nr: 480060\nHeim: HSV Marienberg\nGast: HC Fraureuth\nHalle: SH am Goldkindstein Marienberg (32416)\nAdresse: Dr.-Wilhelm-Külz-Allee 23\, 09496 Marienberg\n
LOCATION:SH am Goldkindstein Marienberg (32416): Dr.-Wilhelm-Külz-Allee 23\, 09496 Marienberg
CATEGORIES:Saison 2025/26
END:VEVENT
BEGIN:VEVENT
DTSTAMP:20260420T183649Z
DTSTART;TZID=Europe/Berlin:20251213T110000
DTEND;TZID=Europe/Berlin:20251213T120000
SUMMARY:ROL wJE HSV Marienberg vs HSV Marienberg II (480066)
UID:62a94258-903c-4995-8e0b-6d73e1d25b6f
STATUS:CONFIRMED
LAST-MODIFIED:20251213T164627Z
DESCRIPTION:Regionsoberliga weibl. E-Jugend\nBegegnungs-Nr: 480066\nHeim: HSV Marienberg\nGast: HSV Marienberg II\nHalle: SH am Goldkindstein Marienberg (32416)\nAdresse: Dr.-Wilhelm-Külz-Allee 23\, 09496 Marienberg\n
LOCATION:SH am Goldkindstein Marienberg (32416): Dr.-Wilhelm-Külz-Allee 23\, 09496 Marienberg
CATEGORIES:Saison 2025/26
END:VEVENT
BEGIN:VEVENT
DTSTAMP:20260420T183649Z
DTSTART;TZID=Europe/Berlin:20260131T120000
DTEND;TZID=Europe/Berlin:20260131T130000
SUMMARY:ROL wJE HSV Marienberg vs HC Glauchau/Meerane (480086)
UID:f7430ef8-32bb-431a-b730-245a2ab8c070
STATUS:CONFIRMED
LAST-MODIFIED:20260205T124820Z
DESCRIPTION:Regionsoberliga weibl. E-Jugend\nBegegnungs-Nr: 480086\nHeim: HSV Marienberg\nGast: HC Glauchau/Meerane\nHalle: SH am Goldkindstein Marienberg (32416)\nAdresse: Dr.-Wilhelm-Külz-Allee 23\, 09496 Marienberg\n
LOCATION:SH am Goldkindstein Marienberg (32416): Dr.-Wilhelm-Külz-Allee 23\, 09496 Marienberg
CATEGORIES:Saison 2025/26
END:VEVENT
BEGIN:VEVENT
DTSTAMP:20260420T183649Z
DTSTART;TZID=Europe/Berlin:20260131T130000
DTEND;TZID=Europe/Berlin:20260131T140000
SUMMARY:ROL wJE HSV Marienberg vs SV 04 Plauen-O. (480087)
UID:f4498cff-12b8-4592-8d35-8dcc6dde15a7
STATUS:CONFIRMED
LAST-MODIFIED:20260205T124943Z
DESCRIPTION:Regionsoberliga weibl. E-Jugend\nBegegnungs-Nr: 480087\nHeim: HSV Marienberg\nGast: SV 04 Plauen-O.\nHalle: SH am Goldkindstein Marienberg (32416)\nAdresse: Dr.-Wilhelm-Külz-Allee 23\, 09496 Marienberg\n
LOCATION:SH am Goldkindstein Marienberg (32416): Dr.-Wilhelm-Külz-Allee 23\, 09496 Marienberg
CATEGORIES:Saison 2025/26
END:VEVENT
BEGIN:VEVENT
DTSTAMP:20260420T183649Z
DTSTART;TZID=Europe/Berlin:20260328T130000
DTEND;TZID=Europe/Berlin:20260328T140000
SUMMARY:ROL wJE HSV Marienberg vs HV Chemnitz (480116)
UID:46fc561f-3b4d-4757-9cb7-a4077cef3623
STATUS:CONFIRMED
LAST-MODIFIED:20260409T092820Z
DESCRIPTION:Regionsoberliga weibl. E-Jugend\nBegegnungs-Nr: 480116\nHeim: HSV Marienberg\nGast: HV Chemnitz\nHalle: SH am Goldkindstein Marienberg (32416)\nAdresse: Dr.-Wilhelm-Külz-Allee 23\, 09496 Marienberg\n
LOCATION:SH am Goldkindstein Marienberg (32416): Dr.-Wilhelm-Külz-Allee 23\, 09496 Marienberg
CATEGORIES:Saison 2025/26
END:VEVENT
BEGIN:VEVENT
DTSTAMP:20260420T183649Z
DTSTART;TZID=Europe/Berlin:20250921T100000
DTEND;TZID=Europe/Berlin:20250921T110000
SUMMARY:ROL wJE HSV Marienberg vs Chemie Zwickau (480009)
UID:336a319f-0a49-4104-84e5-92a6f735c948
STATUS:CONFIRMED
LAST-MODIFIED:20250925T083356Z
DESCRIPTION:Regionsoberliga weibl. E-Jugend\nBegegnungs-Nr: 480009\nHeim: HSV Marienberg\nGast: Chemie Zwickau\nHalle: SH am Goldkindstein Marienberg (32416)\nAdresse: Dr.-Wilhelm-Külz-Allee 23\, 09496 Marienberg\n
LOCATION:SH am Goldkindstein Marienberg (32416): Dr.-Wilhelm-Külz-Allee 23\, 09496 Marienberg
CATEGORIES:Saison 2025/26
END:VEVENT
BEGIN:VEVENT
DTSTAMP:20260420T183649Z
DTSTART;TZID=Europe/Berlin:20250921T130000
DTEND;TZID=Europe/Berlin:20250921T140000
SUMMARY:ROL wJE HSV Marienberg vs BSV Sa. Zwickau (480012)
UID:5c9cbc9e-05a4-4655-91f6-dc1b92319cda
STATUS:CONFIRMED
LAST-MODIFIED:20250925T083635Z
DESCRIPTION:Regionsoberliga weibl. E-Jugend\nBegegnungs-Nr: 480012\nHeim: HSV Marienberg\nGast: BSV Sa. Zwickau\nHalle: SH am Goldkindstein Marienberg (32416)\nAdresse: Dr.-Wilhelm-Külz-Allee 23\, 09496 Marienberg\n
LOCATION:SH am Goldkindstein Marienberg (32416): Dr.-Wilhelm-Külz-Allee 23\, 09496 Marienberg
CATEGORIES:Saison 2025/26
END:VEVENT
BEGIN:VEVENT
DTSTAMP:20260420T183649Z
DTSTART;TZID=Europe/Berlin:20251109T120000
DTEND;TZID=Europe/Berlin:20251109T130000
SUMMARY:ROL wJE HSV Marienberg vs Rotation Weißenborn (480034)
UID:cefd6cc9-4389-425a-8bda-be969773561d
STATUS:CONFIRMED
LAST-MODIFIED:20251124T120205Z
DESCRIPTION:Regionsoberliga weibl. E-Jugend\nBegegnungs-Nr: 480034\nHeim: HSV Marienberg\nGast: Rotation Weißenborn\nHalle: SH am Goldkindstein Marienberg (32416)\nAdresse: Dr.-Wilhelm-Külz-Allee 23\, 09496 Marienberg\n
LOCATION:SH am Goldkindstein Marienberg (32416): Dr.-Wilhelm-Külz-Allee 23\, 09496 Marienberg
CATEGORIES:Saison 2025/26
END:VEVENT
BEGIN:VEVENT
DTSTAMP:20260420T183649Z
DTSTART;TZID=Europe/Berlin:20251109T130000
DTEND;TZID=Europe/Berlin:20251109T140000
SUMMARY:ROL wJE HSV Marienberg vs HSG Sachsenring (480035)
UID:0bf140ce-fc3d-4631-9679-e8bcf22f14e8
STATUS:CONFIRMED
LAST-MODIFIED:20251124T120315Z
DESCRIPTION:Regionsoberliga weibl. E-Jugend\nBegegnungs-Nr: 480035\nHeim: HSV Marienberg\nGast: HSG Sachsenring\nHalle: SH am Goldkindstein Marienberg (32416)\nAdresse: Dr.-Wilhelm-Külz-Allee 23\, 09496 Marienberg\n
LOCATION:SH am Goldkindstein Marienberg (32416): Dr.-Wilhelm-Külz-Allee 23\, 09496 Marienberg
CATEGORIES:Saison 2025/26
END:VEVENT
BEGIN:VEVENT
DTSTAMP:20260420T183649Z
DTSTART;TZID=Europe/Berlin:20251115T100000
DTEND;TZID=Europe/Berlin:20251115T110000
SUMMARY:ROL wJE HV Chemnitz vs HSV Marienberg (480037)
UID:ca42fc1f-4d9e-4cdd-98b6-ab76def1652a
STATUS:CONFIRMED
LAST-MODIFIED:20251124T120911Z
DESCRIPTION:Regionsoberliga weibl. E-Jugend\nBegegnungs-Nr: 480037\nHeim: HV Chemnitz\nGast: HSV Marienberg\nHalle: Sachsenhalle Chemnitz (32101)\nAdresse: Straße Usti nad Labem 275\, 09119 Chemnitz\n
LOCATION:Sachsenhalle Chemnitz (32101): Straße Usti nad Labem 275\, 09119 Chemnitz
CATEGORIES:Saison 2025/26
END:VEVENT
BEGIN:VEVENT
DTSTAMP:20260420T183649Z
DTSTART;TZID=Europe/Berlin:20251115T120000
DTEND;TZID=Europe/Berlin:20251115T130000
SUMMARY:ROL wJE BSV Limbach-O. vs HSV Marienberg (480039)
UID:f9531f58-55f3-4a5b-a7a3-faeacb77e28a
STATUS:CONFIRMED
LAST-MODIFIED:20251124T121104Z
DESCRIPTION:Regionsoberliga weibl. E-Jugend\nBegegnungs-Nr: 480039\nHeim: BSV Limbach-O.\nGast: HSV Marienberg\nHalle: Sachsenhalle Chemnitz (32101)\nAdresse: Straße Usti nad Labem 275\, 09119 Chemnitz\n
LOCATION:Sachsenhalle Chemnitz (32101): Straße Usti nad Labem 275\, 09119 Chemnitz
CATEGORIES:Saison 2025/26
END:VEVENT
BEGIN:VEVENT
DTSTAMP:20260420T183649Z
DTSTART;TZID=Europe/Berlin:20251213T100000
DTEND;TZID=Europe/Berlin:20251213T110000
SUMMARY:ROL wJE HSV Marienberg II vs HSV Marienberg (480065)
UID:c88567fa-2887-4b1a-a757-7a0e168a0081
STATUS:CONFIRMED
LAST-MODIFIED:20251213T164536Z
DESCRIPTION:Regionsoberliga weibl. E-Jugend\nBegegnungs-Nr: 480065\nHeim: HSV Marienberg II\nGast: HSV Marienberg\nHalle: SH am Goldkindstein Marienberg (32416)\nAdresse: Dr.-Wilhelm-Külz-Allee 23\, 09496 Marienberg\n
LOCATION:SH am Goldkindstein Marienberg (32416): Dr.-Wilhelm-Külz-Allee 23\, 09496 Marienberg
CATEGORIES:Saison 2025/26
END:VEVENT
BEGIN:VEVENT
DTSTAMP:20260420T183649Z
DTSTART;TZID=Europe/Berlin:20260117T100000
DTEND;TZID=Europe/Berlin:20260117T110000
SUMMARY:ROL wJE BSV Sa. Zwickau vs HSV Marienberg (480077)
UID:206cac32-e5d4-40a8-a0e1-4685e1555f5a
STATUS:CONFIRMED
LAST-MODIFIED:20260120T124438Z
DESCRIPTION:Regionsoberliga weibl. E-Jugend\nBegegnungs-Nr: 480077\nHeim: BSV Sa. Zwickau\nGast: HSV Marienberg\nHalle: SH Zwickau-Neuplanitz (32501)\nAdresse: Dortmunder Str. 7a\, 08062 Zwickau\n
LOCATION:SH Zwickau-Neuplanitz (32501): Dortmunder Str. 7a\, 08062 Zwickau
CATEGORIES:Saison 2025/26
END:VEVENT
BEGIN:VEVENT
DTSTAMP:20260420T183649Z
DTSTART;TZID=Europe/Berlin:20260117T120000
DTEND;TZID=Europe/Berlin:20260117T130000
SUMMARY:ROL wJE Chemie Zwickau vs HSV Marienberg (480079)
UID:b0de7c41-887f-47e8-b7be-97e6a7c14d17
STATUS:CONFIRMED
LAST-MODIFIED:20260120T124658Z
DESCRIPTION:Regionsoberliga weibl. E-Jugend\nBegegnungs-Nr: 480079\nHeim: Chemie Zwickau\nGast: HSV Marienberg\nHalle: SH Zwickau-Neuplanitz (32501)\nAdresse: Dortmunder Str. 7a\, 08062 Zwickau\n
LOCATION:SH Zwickau-Neuplanitz (32501): Dortmunder Str. 7a\, 08062 Zwickau
CATEGORIES:Saison 2025/26
END:VEVENT
BEGIN:VEVENT
DTSTAMP:20260420T183649Z
DTSTART;TZID=Europe/Berlin:20260321T100000
DTEND;TZID=Europe/Berlin:20260321T110000
SUMMARY:ROL wJE Rotation Weißenborn vs HSV Marienberg (480101)
UID:9704cd69-215c-4077-b0ab-ffd38da6d1e5
STATUS:CONFIRMED
LAST-MODIFIED:20260325T130435Z
DESCRIPTION:Regionsoberliga weibl. E-Jugend\nBegegnungs-Nr: 480101\nHeim: Rotation Weißenborn\nGast: HSV Marienberg\nHalle: SH Schoeller Weißenborn (32415)\nAdresse: Lichtenberger Straße 8\, 09600 Weißenborn\n
LOCATION:SH Schoeller Weißenborn (32415): Lichtenberger Straße 8\, 09600 Weißenborn
CATEGORIES:Saison 2025/26
END:VEVENT
BEGIN:VEVENT
DTSTAMP:20260420T183649Z
DTSTART;TZID=Europe/Berlin:20260321T120000
DTEND;TZID=Europe/Berlin:20260321T130000
SUMMARY:ROL wJE HSG Sachsenring vs HSV Marienberg (480103)
UID:228ac751-46f0-4c88-ba91-ce7f92bfc7c6
STATUS:CONFIRMED
LAST-MODIFIED:20260325T130652Z
DESCRIPTION:Regionsoberliga weibl. E-Jugend\nBegegnungs-Nr: 480103\nHeim: HSG Sachsenring\nGast: HSV Marienberg\nHalle: SH Schoeller Weißenborn (32415)\nAdresse: Lichtenberger Straße 8\, 09600 Weißenborn\n
LOCATION:SH Schoeller Weißenborn (32415): Lichtenberger Straße 8\, 09600 Weißenborn
CATEGORIES:Saison 2025/26
END:VEVENT
BEGIN:VEVENT
DTSTAMP:20260420T183649Z
DTSTART;TZID=Europe/Berlin:20260426T110000
DTEND;TZID=Europe/Berlin:20260426T120000
SUMMARY:ROL wJE SG Zschorlau/Schneeberg vs HSV Marienberg (480130)
UID:a2a99a1a-d520-4144-955e-0bc20601054a
STATUS:CONFIRMED
LAST-MODIFIED:20260227T102751Z
DESCRIPTION:Regionsoberliga weibl. E-Jugend\nBegegnungs-Nr: 480130\nHeim: SG Zschorlau/Schneeberg\nGast: HSV Marienberg\nHalle: Mehrzweckhalle \"Erich Glowatzky\" Fraureuth (32509)\nAdresse: Zwickauer Str. 8a\, 08427 Fraureuth\n
LOCATION:Mehrzweckhalle \"Erich Glowatzky\" Fraureuth (32509): Zwickauer Str. 8a\, 08427 Fraureuth
CATEGORIES:Saison 2025/26
END:VEVENT
BEGIN:VEVENT
DTSTAMP:20260420T183649Z
DTSTART;TZID=Europe/Berlin:20260426T130000
DTEND;TZID=Europe/Berlin:20260426T140000
SUMMARY:ROL wJE HC Fraureuth vs HSV Marienberg (480132)
UID:77a764cc-ba14-4f88-bc34-c947a2fdb5f7
STATUS:CONFIRMED
LAST-MODIFIED:20260223T102811Z
DESCRIPTION:Regionsoberliga weibl. E-Jugend\nBegegnungs-Nr: 480132\nHeim: HC Fraureuth\nGast: HSV Marienberg\nHalle: Mehrzweckhalle \"Erich Glowatzky\" Fraureuth (32509)\nAdresse: Zwickauer Str. 8a\, 08427 Fraureuth\n
LOCATION:Mehrzweckhalle \"Erich Glowatzky\" Fraureuth (32509): Zwickauer Str. 8a\, 08427 Fraureuth
CATEGORIES:Saison 2025/26
END:VEVENT
BEGIN:VEVENT
DTSTAMP:20260420T183649Z
DTSTART;TZID=Europe/Berlin:20250927T120000
DTEND;TZID=Europe/Berlin:20250927T130000
SUMMARY:ROL wJE SV 04 Plauen-O. vs HSV Marienberg (480014)
UID:7d3f3fd5-0bf0-4808-9898-75be04cd12c9
STATUS:CONFIRMED
LAST-MODIFIED:20251010T113742Z
DESCRIPTION:Regionsoberliga weibl. E-Jugend\nBegegnungs-Nr: 480014\nHeim: SV 04 Plauen-O.\nGast: HSV Marienberg\nHalle: Sachsenlandhalle Glauchau (32204)\nAdresse: An der Sachsenlandhalle 3\, 08371 Glauchau\n
LOCATION:Sachsenlandhalle Glauchau (32204): An der Sachsenlandhalle 3\, 08371 Glauchau
CATEGORIES:Saison 2025/26
END:VEVENT
BEGIN:VEVENT
DTSTAMP:20260420T183649Z
DTSTART;TZID=Europe/Berlin:20250927T100000
DTEND;TZID=Europe/Berlin:20250927T110000
SUMMARY:ROL wJE HC Glauchau/Meerane vs HSV Marienberg (480016)
UID:49bcef89-d7ae-4d50-935d-e02f345317b9
STATUS:CONFIRMED
LAST-MODIFIED:20251010T113521Z
DESCRIPTION:Regionsoberliga weibl. E-Jugend\nBegegnungs-Nr: 480016\nHeim: HC Glauchau/Meerane\nGast: HSV Marienberg\nHalle: Sachsenlandhalle Glauchau (32204)\nAdresse: An der Sachsenlandhalle 3\, 08371 Glauchau\n
LOCATION:Sachsenlandhalle Glauchau (32204): An der Sachsenlandhalle 3\, 08371 Glauchau
CATEGORIES:Saison 2025/26
END:VEVENT
END:VCALENDAR
