BEGIN:VCALENDAR
PRODID:-//nuDatenautomaten//framework iCal4j //DE
VERSION:2.0
CALSCALE:GREGORIAN
BEGIN:VTIMEZONE
TZID:Europe/Berlin
LAST-MODIFIED:20260306T231828Z
TZURL:https://www.tzurl.org/zoneinfo/Europe/Berlin
X-LIC-LOCATION:Europe/Berlin
X-PROLEPTIC-TZNAME:LMT
BEGIN:STANDARD
TZNAME:CET
TZOFFSETFROM:+005328
TZOFFSETTO:+0100
DTSTART:18930401T000000
END:STANDARD
BEGIN:DAYLIGHT
TZNAME:CEST
TZOFFSETFROM:+0100
TZOFFSETTO:+0200
DTSTART:19160430T230000
RDATE:19400401T020000
RDATE:19430329T020000
RDATE:19460414T020000
RDATE:19470406T030000
RDATE:19480418T020000
RDATE:19490410T020000
RDATE:19800406T020000
END:DAYLIGHT
BEGIN:STANDARD
TZNAME:CET
TZOFFSETFROM:+0200
TZOFFSETTO:+0100
DTSTART:19161001T010000
RDATE:19421102T030000
RDATE:19431004T030000
RDATE:19441002T030000
RDATE:19451118T030000
RDATE:19461007T030000
END:STANDARD
BEGIN:DAYLIGHT
TZNAME:CEST
TZOFFSETFROM:+0100
TZOFFSETTO:+0200
DTSTART:19170416T020000
RRULE:FREQ=YEARLY;UNTIL=19180415T010000Z;BYMONTH=4;BYDAY=3MO
END:DAYLIGHT
BEGIN:STANDARD
TZNAME:CET
TZOFFSETFROM:+0200
TZOFFSETTO:+0100
DTSTART:19170917T030000
RRULE:FREQ=YEARLY;UNTIL=19180916T010000Z;BYMONTH=9;BYDAY=3MO
END:STANDARD
BEGIN:DAYLIGHT
TZNAME:CEST
TZOFFSETFROM:+0100
TZOFFSETTO:+0200
DTSTART:19440403T020000
RRULE:FREQ=YEARLY;UNTIL=19450402T010000Z;BYMONTH=4;BYDAY=1MO
END:DAYLIGHT
BEGIN:DAYLIGHT
TZNAME:CEMT
TZOFFSETFROM:+0200
TZOFFSETTO:+0300
DTSTART:19450524T020000
RDATE:19470511T030000
END:DAYLIGHT
BEGIN:DAYLIGHT
TZNAME:CEST
TZOFFSETFROM:+0300
TZOFFSETTO:+0200
DTSTART:19450924T030000
RDATE:19470629T030000
END:DAYLIGHT
BEGIN:STANDARD
TZNAME:CET
TZOFFSETFROM:+0100
TZOFFSETTO:+0100
DTSTART:19460101T000000
RDATE:19800101T000000
END:STANDARD
BEGIN:STANDARD
TZNAME:CET
TZOFFSETFROM:+0200
TZOFFSETTO:+0100
DTSTART:19471005T030000
RRULE:FREQ=YEARLY;UNTIL=19491002T010000Z;BYMONTH=10;BYDAY=1SU
END:STANDARD
BEGIN:STANDARD
TZNAME:CET
TZOFFSETFROM:+0200
TZOFFSETTO:+0100
DTSTART:19800928T030000
RRULE:FREQ=YEARLY;UNTIL=19950924T010000Z;BYMONTH=9;BYDAY=-1SU
END:STANDARD
BEGIN:DAYLIGHT
TZNAME:CEST
TZOFFSETFROM:+0100
TZOFFSETTO:+0200
DTSTART:19810329T020000
RRULE:FREQ=YEARLY;BYMONTH=3;BYDAY=-1SU
END:DAYLIGHT
BEGIN:STANDARD
TZNAME:CET
TZOFFSETFROM:+0200
TZOFFSETTO:+0100
DTSTART:19961027T030000
RRULE:FREQ=YEARLY;BYMONTH=10;BYDAY=-1SU
END:STANDARD
END:VTIMEZONE
BEGIN:VEVENT
DTSTAMP:20260424T140726Z
DTSTART;TZID=Europe/Berlin:20251101T170000
DTEND;TZID=Europe/Berlin:20251101T183000
SUMMARY:Verbandsliga Staffel West SC Markranstädt II vs Zwönitzer HSV (14041)
UID:f86c6ba7-5323-42fc-9bfe-6ec92ea9b631
STATUS:CONFIRMED
LAST-MODIFIED:20251228T170237Z
DESCRIPTION:Verbandsliga Frauen Staffel West\nBegegnungs-Nr: 14041\nHeim: SC Markranstädt II\nGast: Zwönitzer HSV\nHalle: Sportcenter Markranstädt (31127)\nAdresse: Leipziger Str. 47\, 04420 Markranstädt\n
LOCATION:Sportcenter Markranstädt (31127): Leipziger Str. 47\, 04420 Markranstädt
CATEGORIES:Saison 2025/26
END:VEVENT
BEGIN:VEVENT
DTSTAMP:20260424T140726Z
DTSTART;TZID=Europe/Berlin:20251001T183000
DTEND;TZID=Europe/Berlin:20251001T200000
SUMMARY:Verbandsliga Staffel West SC Markranstädt II vs HSV Mölkau - Die Haie  (14015)
UID:b00d3c42-c2a2-44c0-baa1-65e52530be5b
STATUS:CONFIRMED
LAST-MODIFIED:20250909T174420Z
DESCRIPTION:Verbandsliga Frauen Staffel West\nBegegnungs-Nr: 14015\nHeim: SC Markranstädt II\nGast: HSV Mölkau - Die Haie \nHalle: Sportcenter Markranstädt (31127)\nAdresse: Leipziger Str. 47\, 04420 Markranstädt\n
LOCATION:Sportcenter Markranstädt (31127): Leipziger Str. 47\, 04420 Markranstädt
CATEGORIES:Saison 2025/26
END:VEVENT
BEGIN:VEVENT
DTSTAMP:20260424T140726Z
DTSTART;TZID=Europe/Berlin:20250830T170000
DTEND;TZID=Europe/Berlin:20250830T183000
SUMMARY:Verbandsliga Staffel West SC Markranstädt II vs HV Grüna (14002)
UID:0ba2e6d8-7d7c-4844-a6fe-6abefdf3a183
STATUS:CONFIRMED
LAST-MODIFIED:20250923T070308Z
DESCRIPTION:Verbandsliga Frauen Staffel West\nBegegnungs-Nr: 14002\nHeim: SC Markranstädt II\nGast: HV Grüna\nHalle: Sportcenter Markranstädt (31127)\nAdresse: Leipziger Str. 47\, 04420 Markranstädt\n
LOCATION:Sportcenter Markranstädt (31127): Leipziger Str. 47\, 04420 Markranstädt
CATEGORIES:Saison 2025/26
END:VEVENT
BEGIN:VEVENT
DTSTAMP:20260424T140726Z
DTSTART;TZID=Europe/Berlin:20260425T160000
DTEND;TZID=Europe/Berlin:20260425T173000
SUMMARY:Verbandsliga Staffel West SC Markranstädt II vs BSV Limbach-O. (14128)
UID:ae471177-9ba3-4f3b-a87c-8f598f1161ed
STATUS:CONFIRMED
DESCRIPTION:Verbandsliga Frauen Staffel West\nBegegnungs-Nr: 14128\nHeim: SC Markranstädt II\nGast: BSV Limbach-O.\nHalle: Sportcenter Markranstädt (31127)\nAdresse: Leipziger Str. 47\, 04420 Markranstädt\n
LOCATION:Sportcenter Markranstädt (31127): Leipziger Str. 47\, 04420 Markranstädt
CATEGORIES:Saison 2025/26
END:VEVENT
BEGIN:VEVENT
DTSTAMP:20260424T140726Z
DTSTART;TZID=Europe/Berlin:20260322T170000
DTEND;TZID=Europe/Berlin:20260322T183000
SUMMARY:Verbandsliga Staffel West SC Markranstädt II vs Leipziger SV Südwest (14114)
UID:fbf27d85-8408-4f6e-9cc6-886fb023eafc
STATUS:CONFIRMED
DESCRIPTION:Verbandsliga Frauen Staffel West\nBegegnungs-Nr: 14114\nHeim: SC Markranstädt II\nGast: Leipziger SV Südwest\nHalle: Sportcenter Markranstädt (31127)\nAdresse: Leipziger Str. 47\, 04420 Markranstädt\n
LOCATION:Sportcenter Markranstädt (31127): Leipziger Str. 47\, 04420 Markranstädt
CATEGORIES:Saison 2025/26
END:VEVENT
BEGIN:VEVENT
DTSTAMP:20260424T140726Z
DTSTART;TZID=Europe/Berlin:20260228T170000
DTEND;TZID=Europe/Berlin:20260228T183000
SUMMARY:Verbandsliga Staffel West SC Markranstädt II vs TuS Leipzig-Mockau II (14101)
UID:4b79fa48-c53d-4a9b-93a3-06ac6a876010
STATUS:CONFIRMED
DESCRIPTION:Verbandsliga Frauen Staffel West\nBegegnungs-Nr: 14101\nHeim: SC Markranstädt II\nGast: TuS Leipzig-Mockau II\nHalle: Sportcenter Markranstädt (31127)\nAdresse: Leipziger Str. 47\, 04420 Markranstädt\n
LOCATION:Sportcenter Markranstädt (31127): Leipziger Str. 47\, 04420 Markranstädt
CATEGORIES:Saison 2025/26
END:VEVENT
BEGIN:VEVENT
DTSTAMP:20260424T140726Z
DTSTART;TZID=Europe/Berlin:20260131T170000
DTEND;TZID=Europe/Berlin:20260131T183000
SUMMARY:Verbandsliga Staffel West SC Markranstädt II vs HC Fraureuth (14028)
UID:31afe346-0e49-42fd-98ee-757b0899ae64
STATUS:CONFIRMED
LAST-MODIFIED:20260220T202748Z
DESCRIPTION:Verbandsliga Frauen Staffel West\nBegegnungs-Nr: 14028\nHeim: SC Markranstädt II\nGast: HC Fraureuth\nHalle: Sportcenter Markranstädt (31127)\nAdresse: Leipziger Str. 47\, 04420 Markranstädt\n
LOCATION:Sportcenter Markranstädt (31127): Leipziger Str. 47\, 04420 Markranstädt
CATEGORIES:Saison 2025/26
END:VEVENT
BEGIN:VEVENT
DTSTAMP:20260424T140726Z
DTSTART;TZID=Europe/Berlin:20260131T000000
DTEND;TZID=Europe/Berlin:20260131T013000
SUMMARY:Verbandsliga Staffel West SC Markranstädt II vs spielfrei (14088)
UID:28aa2dd5-def7-4999-8a4d-96ae63570fbb
STATUS:CONFIRMED
LAST-MODIFIED:20250828T132810Z
DESCRIPTION:Verbandsliga Frauen Staffel West\nBegegnungs-Nr: 14088\nHeim: SC Markranstädt II\nGast: spielfrei\nHalle: Sportcenter Markranstädt (31127)\nAdresse: Leipziger Str. 47\, 04420 Markranstädt\n
LOCATION:Sportcenter Markranstädt (31127): Leipziger Str. 47\, 04420 Markranstädt
CATEGORIES:Saison 2025/26
END:VEVENT
BEGIN:VEVENT
DTSTAMP:20260424T140726Z
DTSTART;TZID=Europe/Berlin:20260118T170000
DTEND;TZID=Europe/Berlin:20260118T183000
SUMMARY:Verbandsliga Staffel West SC Markranstädt II vs HSG Rückmarsdorf (14075)
UID:221aa4a4-9588-4b7e-abde-45f8b676977e
STATUS:CONFIRMED
DESCRIPTION:Verbandsliga Frauen Staffel West\nBegegnungs-Nr: 14075\nHeim: SC Markranstädt II\nGast: HSG Rückmarsdorf\nHalle: Sportcenter Markranstädt (31127)\nAdresse: Leipziger Str. 47\, 04420 Markranstädt\n
LOCATION:Sportcenter Markranstädt (31127): Leipziger Str. 47\, 04420 Markranstädt
CATEGORIES:Saison 2025/26
END:VEVENT
BEGIN:VEVENT
DTSTAMP:20260424T140726Z
DTSTART;TZID=Europe/Berlin:20251129T170000
DTEND;TZID=Europe/Berlin:20251129T183000
SUMMARY:Verbandsliga Staffel West SC Markranstädt II vs SC DHfK Leipzig (14055)
UID:225be97e-9591-4f4e-9bd1-ab9ba19be882
STATUS:CONFIRMED
LAST-MODIFIED:20260103T195245Z
DESCRIPTION:Verbandsliga Frauen Staffel West\nBegegnungs-Nr: 14055\nHeim: SC Markranstädt II\nGast: SC DHfK Leipzig\nHalle: Sportcenter Markranstädt (31127)\nAdresse: Leipziger Str. 47\, 04420 Markranstädt\n
LOCATION:Sportcenter Markranstädt (31127): Leipziger Str. 47\, 04420 Markranstädt
CATEGORIES:Saison 2025/26
END:VEVENT
BEGIN:VEVENT
DTSTAMP:20260424T140726Z
DTSTART;TZID=Europe/Berlin:20251123T170000
DTEND;TZID=Europe/Berlin:20251123T183000
SUMMARY:Verbandsliga Staffel West SC Markranstädt II vs HC Glauchau/Meerane (14054)
UID:cb037c2e-6d64-4c00-a42b-fa242db7c454
STATUS:CONFIRMED
LAST-MODIFIED:20260103T153659Z
DESCRIPTION:Verbandsliga Frauen Staffel West\nBegegnungs-Nr: 14054\nHeim: SC Markranstädt II\nGast: HC Glauchau/Meerane\nHalle: Sportcenter Markranstädt (31127)\nAdresse: Leipziger Str. 47\, 04420 Markranstädt\n
LOCATION:Sportcenter Markranstädt (31127): Leipziger Str. 47\, 04420 Markranstädt
CATEGORIES:Saison 2025/26
END:VEVENT
BEGIN:VEVENT
DTSTAMP:20260424T140726Z
DTSTART;TZID=Europe/Berlin:20251109T180000
DTEND;TZID=Europe/Berlin:20251109T193000
SUMMARY:Verbandsliga Staffel West Leipziger SV Südwest vs SC Markranstädt II (14048)
UID:bb5fa266-3049-4c3b-8183-5932b3154739
STATUS:CONFIRMED
LAST-MODIFIED:20260103T105218Z
DESCRIPTION:Verbandsliga Frauen Staffel West\nBegegnungs-Nr: 14048\nHeim: Leipziger SV Südwest\nGast: SC Markranstädt II\nHalle: SH An der Radrennbahn Leipzig (31128)\nAdresse: Windorfer Straße 63\, 04229 Leipzig\n
LOCATION:SH An der Radrennbahn Leipzig (31128): Windorfer Straße 63\, 04229 Leipzig
CATEGORIES:Saison 2025/26
END:VEVENT
BEGIN:VEVENT
DTSTAMP:20260424T140726Z
DTSTART;TZID=Europe/Berlin:20251025T180000
DTEND;TZID=Europe/Berlin:20251025T193000
SUMMARY:Verbandsliga Staffel West TuS Leipzig-Mockau II vs SC Markranstädt II (14035)
UID:21d4f108-82a2-41c3-9307-331cc187ea25
STATUS:CONFIRMED
LAST-MODIFIED:20260115T173207Z
DESCRIPTION:Verbandsliga Frauen Staffel West\nBegegnungs-Nr: 14035\nHeim: TuS Leipzig-Mockau II\nGast: SC Markranstädt II\nHalle: Sporthalle Marie-Curie-Gymnasium Wiederitzsch (31137)\nAdresse: Messeallee 19\, 04158 Leipzig (OT Wiederitzsch)\n
LOCATION:Sporthalle Marie-Curie-Gymnasium Wiederitzsch (31137): Messeallee 19\, 04158 Leipzig (OT Wiederitzsch)
CATEGORIES:Saison 2025/26
END:VEVENT
BEGIN:VEVENT
DTSTAMP:20260424T140726Z
DTSTART;TZID=Europe/Berlin:20250920T000000
DTEND;TZID=Europe/Berlin:20250920T013000
SUMMARY:Verbandsliga Staffel West spielfrei vs SC Markranstädt II (14022)
UID:2324f5a5-3a5d-4724-97a9-037a790a125f
STATUS:CONFIRMED
LAST-MODIFIED:20250828T132810Z
DESCRIPTION:Verbandsliga Frauen Staffel West\nBegegnungs-Nr: 14022\nHeim: spielfrei\nGast: SC Markranstädt II\nHalle: SH Gymnasium an der Telemannstraße  (31109)\nAdresse: Telemannstraße 9\, 04107 Leipzig\n
LOCATION:SH Gymnasium an der Telemannstraße  (31109): Telemannstraße 9\, 04107 Leipzig
CATEGORIES:Saison 2025/26
END:VEVENT
BEGIN:VEVENT
DTSTAMP:20260424T140726Z
DTSTART;TZID=Europe/Berlin:20250906T180000
DTEND;TZID=Europe/Berlin:20250906T193000
SUMMARY:Verbandsliga Staffel West HSG Rückmarsdorf vs SC Markranstädt II (14009)
UID:3006db43-73da-4f45-96ba-5b5abdd29437
STATUS:CONFIRMED
DESCRIPTION:Verbandsliga Frauen Staffel West\nBegegnungs-Nr: 14009\nHeim: HSG Rückmarsdorf\nGast: SC Markranstädt II\nHalle: SH An der Radrennbahn Leipzig (31128)\nAdresse: Windorfer Straße 63\, 04229 Leipzig\n
LOCATION:SH An der Radrennbahn Leipzig (31128): Windorfer Straße 63\, 04229 Leipzig
CATEGORIES:Saison 2025/26
END:VEVENT
BEGIN:VEVENT
DTSTAMP:20260424T140726Z
DTSTART;TZID=Europe/Berlin:20260418T180000
DTEND;TZID=Europe/Berlin:20260418T193000
SUMMARY:Verbandsliga Staffel West SC DHfK Leipzig vs SC Markranstädt II (14121)
UID:09e90dc5-36ac-494b-8c12-0ebf00e8bc13
STATUS:CONFIRMED
DESCRIPTION:Verbandsliga Frauen Staffel West\nBegegnungs-Nr: 14121\nHeim: SC DHfK Leipzig\nGast: SC Markranstädt II\nHalle: SH Sportoberschule (31132)\nAdresse: Max -Planck-Str. 53-55\, 04105 Leipzig\n
LOCATION:SH Sportoberschule (31132): Max -Planck-Str. 53-55\, 04105 Leipzig
CATEGORIES:Saison 2025/26
END:VEVENT
BEGIN:VEVENT
DTSTAMP:20260424T140726Z
DTSTART;TZID=Europe/Berlin:20260329T140000
DTEND;TZID=Europe/Berlin:20260329T153000
SUMMARY:Verbandsliga Staffel West HC Glauchau/Meerane vs SC Markranstädt II (14120)
UID:c4c95619-0ec4-417c-965b-d0ea1b5aff76
STATUS:CONFIRMED
DESCRIPTION:Verbandsliga Frauen Staffel West\nBegegnungs-Nr: 14120\nHeim: HC Glauchau/Meerane\nGast: SC Markranstädt II\nHalle: SH Meerane (32202)\nAdresse: Leipziger Str. 7\, 08393 Meerane\n
LOCATION:SH Meerane (32202): Leipziger Str. 7\, 08393 Meerane
CATEGORIES:Saison 2025/26
END:VEVENT
BEGIN:VEVENT
DTSTAMP:20260424T140726Z
DTSTART;TZID=Europe/Berlin:20260307T140000
DTEND;TZID=Europe/Berlin:20260307T153000
SUMMARY:Verbandsliga Staffel West Zwönitzer HSV vs SC Markranstädt II (14107)
UID:2c4fa753-1e73-4a0b-b9f5-c57f33735fda
STATUS:CONFIRMED
DESCRIPTION:Verbandsliga Frauen Staffel West\nBegegnungs-Nr: 14107\nHeim: Zwönitzer HSV\nGast: SC Markranstädt II\nHalle: SH Zwönitz (32301)\nAdresse: Turnhallenweg 5\, 08297 Zwönitz\n
LOCATION:SH Zwönitz (32301): Turnhallenweg 5\, 08297 Zwönitz
CATEGORIES:Saison 2025/26
END:VEVENT
BEGIN:VEVENT
DTSTAMP:20260424T140726Z
DTSTART;TZID=Europe/Berlin:20260222T140000
DTEND;TZID=Europe/Berlin:20260222T153000
SUMMARY:Verbandsliga Staffel West HC Fraureuth vs SC Markranstädt II (14094)
UID:fb200ee9-1263-4bcd-a512-cfbec670e042
STATUS:CONFIRMED
LAST-MODIFIED:20260223T124721Z
DESCRIPTION:Verbandsliga Frauen Staffel West\nBegegnungs-Nr: 14094\nHeim: HC Fraureuth\nGast: SC Markranstädt II\nHalle: Mehrzweckhalle \"Erich Glowatzky\" Fraureuth (32509)\nAdresse: Zwickauer Str. 8a\, 08427 Fraureuth\n
LOCATION:Mehrzweckhalle \"Erich Glowatzky\" Fraureuth (32509): Zwickauer Str. 8a\, 08427 Fraureuth
CATEGORIES:Saison 2025/26
END:VEVENT
BEGIN:VEVENT
DTSTAMP:20260424T140726Z
DTSTART;TZID=Europe/Berlin:20260124T150000
DTEND;TZID=Europe/Berlin:20260124T163000
SUMMARY:Verbandsliga Staffel West HSV Mölkau - Die Haie  vs SC Markranstädt II (14081)
UID:d2c163d8-38f9-4c2a-846a-aab9785be0d6
STATUS:CONFIRMED
DESCRIPTION:Verbandsliga Frauen Staffel West\nBegegnungs-Nr: 14081\nHeim: HSV Mölkau - Die Haie \nGast: SC Markranstädt II\nHalle: SH Oberschule Leipzig-Mölkau (31106)\nAdresse: Schulstr. 6\, 04316 Leipzig\n
LOCATION:SH Oberschule Leipzig-Mölkau (31106): Schulstr. 6\, 04316 Leipzig
CATEGORIES:Saison 2025/26
END:VEVENT
BEGIN:VEVENT
DTSTAMP:20260424T140726Z
DTSTART;TZID=Europe/Berlin:20260110T180000
DTEND;TZID=Europe/Berlin:20260110T193000
SUMMARY:Verbandsliga Staffel West HV Grüna vs SC Markranstädt II (14068)
UID:fdcb9ff9-e829-44e5-b7c8-74f0467f94bf
STATUS:CONFIRMED
DESCRIPTION:Verbandsliga Frauen Staffel West\nBegegnungs-Nr: 14068\nHeim: HV Grüna\nGast: SC Markranstädt II\nHalle: SH Dr.-Wilhelm-André-Gymnasium Chemnitz (32114)\nAdresse: Henriettenstraße 35\, 09112 Chemnitz\n
LOCATION:SH Dr.-Wilhelm-André-Gymnasium Chemnitz (32114): Henriettenstraße 35\, 09112 Chemnitz
CATEGORIES:Saison 2025/26
END:VEVENT
BEGIN:VEVENT
DTSTAMP:20260424T140726Z
DTSTART;TZID=Europe/Berlin:20251206T163000
DTEND;TZID=Europe/Berlin:20251206T180000
SUMMARY:Verbandsliga Staffel West BSV Limbach-O. vs SC Markranstädt II (14062)
UID:3730b78f-e4fc-4d19-94ba-25ff56dddadb
STATUS:CONFIRMED
LAST-MODIFIED:20260104T112835Z
DESCRIPTION:Verbandsliga Frauen Staffel West\nBegegnungs-Nr: 14062\nHeim: BSV Limbach-O.\nGast: SC Markranstädt II\nHalle: GSH Limbach-Oberfrohna (32201)\nAdresse: Anna-Esche-Gäßchen 1\, 09212 Limbach-Oberfrohna\n
LOCATION:GSH Limbach-Oberfrohna (32201): Anna-Esche-Gäßchen 1\, 09212 Limbach-Oberfrohna
CATEGORIES:Saison 2025/26
END:VEVENT
END:VCALENDAR
