BEGIN:VCALENDAR
PRODID:-//nuDatenautomaten//framework iCal4j //DE
VERSION:2.0
CALSCALE:GREGORIAN
BEGIN:VTIMEZONE
TZID:Europe/Berlin
LAST-MODIFIED:20260306T231828Z
TZURL:https://www.tzurl.org/zoneinfo/Europe/Berlin
X-LIC-LOCATION:Europe/Berlin
X-PROLEPTIC-TZNAME:LMT
BEGIN:STANDARD
TZNAME:CET
TZOFFSETFROM:+005328
TZOFFSETTO:+0100
DTSTART:18930401T000000
END:STANDARD
BEGIN:DAYLIGHT
TZNAME:CEST
TZOFFSETFROM:+0100
TZOFFSETTO:+0200
DTSTART:19160430T230000
RDATE:19400401T020000
RDATE:19430329T020000
RDATE:19460414T020000
RDATE:19470406T030000
RDATE:19480418T020000
RDATE:19490410T020000
RDATE:19800406T020000
END:DAYLIGHT
BEGIN:STANDARD
TZNAME:CET
TZOFFSETFROM:+0200
TZOFFSETTO:+0100
DTSTART:19161001T010000
RDATE:19421102T030000
RDATE:19431004T030000
RDATE:19441002T030000
RDATE:19451118T030000
RDATE:19461007T030000
END:STANDARD
BEGIN:DAYLIGHT
TZNAME:CEST
TZOFFSETFROM:+0100
TZOFFSETTO:+0200
DTSTART:19170416T020000
RRULE:FREQ=YEARLY;UNTIL=19180415T010000Z;BYMONTH=4;BYDAY=3MO
END:DAYLIGHT
BEGIN:STANDARD
TZNAME:CET
TZOFFSETFROM:+0200
TZOFFSETTO:+0100
DTSTART:19170917T030000
RRULE:FREQ=YEARLY;UNTIL=19180916T010000Z;BYMONTH=9;BYDAY=3MO
END:STANDARD
BEGIN:DAYLIGHT
TZNAME:CEST
TZOFFSETFROM:+0100
TZOFFSETTO:+0200
DTSTART:19440403T020000
RRULE:FREQ=YEARLY;UNTIL=19450402T010000Z;BYMONTH=4;BYDAY=1MO
END:DAYLIGHT
BEGIN:DAYLIGHT
TZNAME:CEMT
TZOFFSETFROM:+0200
TZOFFSETTO:+0300
DTSTART:19450524T020000
RDATE:19470511T030000
END:DAYLIGHT
BEGIN:DAYLIGHT
TZNAME:CEST
TZOFFSETFROM:+0300
TZOFFSETTO:+0200
DTSTART:19450924T030000
RDATE:19470629T030000
END:DAYLIGHT
BEGIN:STANDARD
TZNAME:CET
TZOFFSETFROM:+0100
TZOFFSETTO:+0100
DTSTART:19460101T000000
RDATE:19800101T000000
END:STANDARD
BEGIN:STANDARD
TZNAME:CET
TZOFFSETFROM:+0200
TZOFFSETTO:+0100
DTSTART:19471005T030000
RRULE:FREQ=YEARLY;UNTIL=19491002T010000Z;BYMONTH=10;BYDAY=1SU
END:STANDARD
BEGIN:STANDARD
TZNAME:CET
TZOFFSETFROM:+0200
TZOFFSETTO:+0100
DTSTART:19800928T030000
RRULE:FREQ=YEARLY;UNTIL=19950924T010000Z;BYMONTH=9;BYDAY=-1SU
END:STANDARD
BEGIN:DAYLIGHT
TZNAME:CEST
TZOFFSETFROM:+0100
TZOFFSETTO:+0200
DTSTART:19810329T020000
RRULE:FREQ=YEARLY;BYMONTH=3;BYDAY=-1SU
END:DAYLIGHT
BEGIN:STANDARD
TZNAME:CET
TZOFFSETFROM:+0200
TZOFFSETTO:+0100
DTSTART:19961027T030000
RRULE:FREQ=YEARLY;BYMONTH=10;BYDAY=-1SU
END:STANDARD
END:VTIMEZONE
BEGIN:VEVENT
DTSTAMP:20260422T172614Z
DTSTART;TZID=Europe/Berlin:20260301T100000
DTEND;TZID=Europe/Berlin:20260301T103000
SUMMARY:Regionsliga gFJ B VfB Bischofswerda vs HC Rödertal  II (14336)
UID:1abd72f4-1c99-4b65-877d-5a0b2eb2ab4c
STATUS:CONFIRMED
DESCRIPTION:Regionsliga  gFJ Staffel B\nBegegnungs-Nr: 14336\nHeim: VfB Bischofswerda\nGast: HC Rödertal  II\nHalle: 3-Feld-Halle-GY Großröhrsdorf (34514)\nAdresse: Melanchthonstraße 21\, 01900  Großröhrsdorf\n
LOCATION:3-Feld-Halle-GY Großröhrsdorf (34514): Melanchthonstraße 21\, 01900  Großröhrsdorf
CATEGORIES:Saison 2025/26
END:VEVENT
BEGIN:VEVENT
DTSTAMP:20260422T172614Z
DTSTART;TZID=Europe/Berlin:20260314T134000
DTEND;TZID=Europe/Berlin:20260314T141000
SUMMARY:Regionsliga gFJ B VfB Bischofswerda vs HC Rödertal  II (14334)
UID:5af9eec9-312f-4965-8b3c-a83d92e7b634
STATUS:CONFIRMED
LAST-MODIFIED:20260216T172505Z
DESCRIPTION:Regionsliga  gFJ Staffel B\nBegegnungs-Nr: 14334\nHeim: VfB Bischofswerda\nGast: HC Rödertal  II\nHalle: SH Schleife (34402)\nAdresse: Spremberger Straße 29\, 02959 Schleife\n
LOCATION:SH Schleife (34402): Spremberger Straße 29\, 02959 Schleife
CATEGORIES:Saison 2025/26
END:VEVENT
BEGIN:VEVENT
DTSTAMP:20260422T172614Z
DTSTART;TZID=Europe/Berlin:20260207T142000
DTEND;TZID=Europe/Berlin:20260207T145000
SUMMARY:Regionsliga gFJ B VfB Bischofswerda vs Radeberger SV III (14332)
UID:7a537221-f737-49eb-94e1-584db7063766
STATUS:CONFIRMED
LAST-MODIFIED:20260206T190050Z
DESCRIPTION:Regionsliga  gFJ Staffel B\nBegegnungs-Nr: 14332\nHeim: VfB Bischofswerda\nGast: Radeberger SV III\nHalle: SH Wesenitzsportpark Bischofswerda (34505)\nAdresse: Clara-Zetkin-Str. 4\, 01877  Bischofswerda\n
LOCATION:SH Wesenitzsportpark Bischofswerda (34505): Clara-Zetkin-Str. 4\, 01877  Bischofswerda
CATEGORIES:Saison 2025/26
END:VEVENT
BEGIN:VEVENT
DTSTAMP:20260422T172614Z
DTSTART;TZID=Europe/Berlin:20250928T144000
DTEND;TZID=Europe/Berlin:20250928T151000
SUMMARY:Regionsliga gFJ B VfB Bischofswerda vs Lok Schleife (14302)
UID:c6cf603b-45ce-4eab-a8ee-20f464d68b83
STATUS:CONFIRMED
LAST-MODIFIED:20251022T181448Z
DESCRIPTION:Regionsliga  gFJ Staffel B\nBegegnungs-Nr: 14302\nHeim: VfB Bischofswerda\nGast: Lok Schleife\nHalle: SH Wesenitzsportpark Bischofswerda (34505)\nAdresse: Clara-Zetkin-Str. 4\, 01877  Bischofswerda\n
LOCATION:SH Wesenitzsportpark Bischofswerda (34505): Clara-Zetkin-Str. 4\, 01877  Bischofswerda
CATEGORIES:Saison 2025/26
END:VEVENT
BEGIN:VEVENT
DTSTAMP:20260422T172614Z
DTSTART;TZID=Europe/Berlin:20260207T130000
DTEND;TZID=Europe/Berlin:20260207T133000
SUMMARY:Regionsliga gFJ B VfB Bischofswerda vs Lok Schleife (14317)
UID:af9d2e49-c8de-4524-960e-c28f1a4a544f
STATUS:CONFIRMED
LAST-MODIFIED:20260206T185748Z
DESCRIPTION:Regionsliga  gFJ Staffel B\nBegegnungs-Nr: 14317\nHeim: VfB Bischofswerda\nGast: Lok Schleife\nHalle: SH Wesenitzsportpark Bischofswerda (34505)\nAdresse: Clara-Zetkin-Str. 4\, 01877  Bischofswerda\n
LOCATION:SH Wesenitzsportpark Bischofswerda (34505): Clara-Zetkin-Str. 4\, 01877  Bischofswerda
CATEGORIES:Saison 2025/26
END:VEVENT
BEGIN:VEVENT
DTSTAMP:20260422T172614Z
DTSTART;TZID=Europe/Berlin:20251116T115000
DTEND;TZID=Europe/Berlin:20251116T122000
SUMMARY:Regionsliga gFJ B VfB Bischofswerda vs SV Lok Königsbrück  II (14313)
UID:cc5137d3-c9f2-4271-a403-67a60d3ec47f
STATUS:CONFIRMED
LAST-MODIFIED:20251022T174536Z
DESCRIPTION:Regionsliga  gFJ Staffel B\nBegegnungs-Nr: 14313\nHeim: VfB Bischofswerda\nGast: SV Lok Königsbrück  II\nHalle: Sporthalle \"Neue Oberschule\" (34519)\nAdresse: Claus-von-Stauffenberg-Straße 40a\, 02977 Hoyerswerda\n
LOCATION:Sporthalle \"Neue Oberschule\" (34519): Claus-von-Stauffenberg-Straße 40a\, 02977 Hoyerswerda
CATEGORIES:Saison 2025/26
END:VEVENT
BEGIN:VEVENT
DTSTAMP:20260422T172614Z
DTSTART;TZID=Europe/Berlin:20251116T110000
DTEND;TZID=Europe/Berlin:20251116T113000
SUMMARY:Regionsliga gFJ B VfB Bischofswerda vs LHV Hoyerswerda II (14311)
UID:44157a13-d5b9-4e8e-a792-b7e4d41a0fe1
STATUS:CONFIRMED
LAST-MODIFIED:20251022T174236Z
DESCRIPTION:Regionsliga  gFJ Staffel B\nBegegnungs-Nr: 14311\nHeim: VfB Bischofswerda\nGast: LHV Hoyerswerda II\nHalle: Sporthalle \"Neue Oberschule\" (34519)\nAdresse: Claus-von-Stauffenberg-Straße 40a\, 02977 Hoyerswerda\n
LOCATION:Sporthalle \"Neue Oberschule\" (34519): Claus-von-Stauffenberg-Straße 40a\, 02977 Hoyerswerda
CATEGORIES:Saison 2025/26
END:VEVENT
BEGIN:VEVENT
DTSTAMP:20260422T172614Z
DTSTART;TZID=Europe/Berlin:20260301T105000
DTEND;TZID=Europe/Berlin:20260301T112000
SUMMARY:Regionsliga gFJ B HVH Kamenz II vs VfB Bischofswerda (14337)
UID:da436ce6-d6da-44d4-b48a-710a55e7be54
STATUS:CONFIRMED
DESCRIPTION:Regionsliga  gFJ Staffel B\nBegegnungs-Nr: 14337\nHeim: HVH Kamenz II\nGast: VfB Bischofswerda\nHalle: 3-Feld-Halle-GY Großröhrsdorf (34514)\nAdresse: Melanchthonstraße 21\, 01900  Großröhrsdorf\n
LOCATION:3-Feld-Halle-GY Großröhrsdorf (34514): Melanchthonstraße 21\, 01900  Großröhrsdorf
CATEGORIES:Saison 2025/26
END:VEVENT
BEGIN:VEVENT
DTSTAMP:20260422T172614Z
DTSTART;TZID=Europe/Berlin:20260117T120000
DTEND;TZID=Europe/Berlin:20260117T123000
SUMMARY:Regionsliga gFJ B SV Lok Königsbrück  II vs VfB Bischofswerda (14324)
UID:0b7f3e9a-adc9-44f0-a041-74dfc238e583
STATUS:CONFIRMED
DESCRIPTION:Regionsliga  gFJ Staffel B\nBegegnungs-Nr: 14324\nHeim: SV Lok Königsbrück  II\nGast: VfB Bischofswerda\nHalle: 2-Feld-Halle- OS Königsbrück (34513)\nAdresse: An der Schule 3\, 01936 Königsbrück\n
LOCATION:2-Feld-Halle- OS Königsbrück (34513): An der Schule 3\, 01936 Königsbrück
CATEGORIES:Saison 2025/26
END:VEVENT
BEGIN:VEVENT
DTSTAMP:20260422T172614Z
DTSTART;TZID=Europe/Berlin:20260117T103000
DTEND;TZID=Europe/Berlin:20260117T110000
SUMMARY:Regionsliga gFJ B LHV Hoyerswerda II vs VfB Bischofswerda (14322)
UID:0fc56d2f-44dd-4f6d-83fc-6d6288a59fe9
STATUS:CONFIRMED
DESCRIPTION:Regionsliga  gFJ Staffel B\nBegegnungs-Nr: 14322\nHeim: LHV Hoyerswerda II\nGast: VfB Bischofswerda\nHalle: 2-Feld-Halle- OS Königsbrück (34513)\nAdresse: An der Schule 3\, 01936 Königsbrück\n
LOCATION:2-Feld-Halle- OS Königsbrück (34513): An der Schule 3\, 01936 Königsbrück
CATEGORIES:Saison 2025/26
END:VEVENT
BEGIN:VEVENT
DTSTAMP:20260422T172614Z
DTSTART;TZID=Europe/Berlin:20250928T130000
DTEND;TZID=Europe/Berlin:20250928T133000
SUMMARY:Regionsliga gFJ B Radeberger SV III vs VfB Bischofswerda (14301)
UID:da7f5f30-7cb3-4c9b-a14f-7a479ac2548a
STATUS:CONFIRMED
LAST-MODIFIED:20251022T180954Z
DESCRIPTION:Regionsliga  gFJ Staffel B\nBegegnungs-Nr: 14301\nHeim: Radeberger SV III\nGast: VfB Bischofswerda\nHalle: SH Wesenitzsportpark Bischofswerda (34505)\nAdresse: Clara-Zetkin-Str. 4\, 01877  Bischofswerda\n
LOCATION:SH Wesenitzsportpark Bischofswerda (34505): Clara-Zetkin-Str. 4\, 01877  Bischofswerda
CATEGORIES:Saison 2025/26
END:VEVENT
BEGIN:VEVENT
DTSTAMP:20260422T172614Z
DTSTART;TZID=Europe/Berlin:20260314T125000
DTEND;TZID=Europe/Berlin:20260314T132000
SUMMARY:Regionsliga gFJ B HVH Kamenz II vs VfB Bischofswerda (14316)
UID:66772f95-1924-4572-aab7-7f2a9e109086
STATUS:CONFIRMED
LAST-MODIFIED:20260120T173929Z
DESCRIPTION:Regionsliga  gFJ Staffel B\nBegegnungs-Nr: 14316\nHeim: HVH Kamenz II\nGast: VfB Bischofswerda\nHalle: SH Schleife (34402)\nAdresse: Spremberger Straße 29\, 02959 Schleife\n
LOCATION:SH Schleife (34402): Spremberger Straße 29\, 02959 Schleife
CATEGORIES:Saison 2025/26
END:VEVENT
END:VCALENDAR
