BEGIN:VCALENDAR
PRODID:-//nuDatenautomaten//framework iCal4j //DE
VERSION:2.0
CALSCALE:GREGORIAN
BEGIN:VTIMEZONE
TZID:Europe/Berlin
LAST-MODIFIED:20260306T231828Z
TZURL:https://www.tzurl.org/zoneinfo/Europe/Berlin
X-LIC-LOCATION:Europe/Berlin
X-PROLEPTIC-TZNAME:LMT
BEGIN:STANDARD
TZNAME:CET
TZOFFSETFROM:+005328
TZOFFSETTO:+0100
DTSTART:18930401T000000
END:STANDARD
BEGIN:DAYLIGHT
TZNAME:CEST
TZOFFSETFROM:+0100
TZOFFSETTO:+0200
DTSTART:19160430T230000
RDATE:19400401T020000
RDATE:19430329T020000
RDATE:19460414T020000
RDATE:19470406T030000
RDATE:19480418T020000
RDATE:19490410T020000
RDATE:19800406T020000
END:DAYLIGHT
BEGIN:STANDARD
TZNAME:CET
TZOFFSETFROM:+0200
TZOFFSETTO:+0100
DTSTART:19161001T010000
RDATE:19421102T030000
RDATE:19431004T030000
RDATE:19441002T030000
RDATE:19451118T030000
RDATE:19461007T030000
END:STANDARD
BEGIN:DAYLIGHT
TZNAME:CEST
TZOFFSETFROM:+0100
TZOFFSETTO:+0200
DTSTART:19170416T020000
RRULE:FREQ=YEARLY;UNTIL=19180415T010000Z;BYMONTH=4;BYDAY=3MO
END:DAYLIGHT
BEGIN:STANDARD
TZNAME:CET
TZOFFSETFROM:+0200
TZOFFSETTO:+0100
DTSTART:19170917T030000
RRULE:FREQ=YEARLY;UNTIL=19180916T010000Z;BYMONTH=9;BYDAY=3MO
END:STANDARD
BEGIN:DAYLIGHT
TZNAME:CEST
TZOFFSETFROM:+0100
TZOFFSETTO:+0200
DTSTART:19440403T020000
RRULE:FREQ=YEARLY;UNTIL=19450402T010000Z;BYMONTH=4;BYDAY=1MO
END:DAYLIGHT
BEGIN:DAYLIGHT
TZNAME:CEMT
TZOFFSETFROM:+0200
TZOFFSETTO:+0300
DTSTART:19450524T020000
RDATE:19470511T030000
END:DAYLIGHT
BEGIN:DAYLIGHT
TZNAME:CEST
TZOFFSETFROM:+0300
TZOFFSETTO:+0200
DTSTART:19450924T030000
RDATE:19470629T030000
END:DAYLIGHT
BEGIN:STANDARD
TZNAME:CET
TZOFFSETFROM:+0100
TZOFFSETTO:+0100
DTSTART:19460101T000000
RDATE:19800101T000000
END:STANDARD
BEGIN:STANDARD
TZNAME:CET
TZOFFSETFROM:+0200
TZOFFSETTO:+0100
DTSTART:19471005T030000
RRULE:FREQ=YEARLY;UNTIL=19491002T010000Z;BYMONTH=10;BYDAY=1SU
END:STANDARD
BEGIN:STANDARD
TZNAME:CET
TZOFFSETFROM:+0200
TZOFFSETTO:+0100
DTSTART:19800928T030000
RRULE:FREQ=YEARLY;UNTIL=19950924T010000Z;BYMONTH=9;BYDAY=-1SU
END:STANDARD
BEGIN:DAYLIGHT
TZNAME:CEST
TZOFFSETFROM:+0100
TZOFFSETTO:+0200
DTSTART:19810329T020000
RRULE:FREQ=YEARLY;BYMONTH=3;BYDAY=-1SU
END:DAYLIGHT
BEGIN:STANDARD
TZNAME:CET
TZOFFSETFROM:+0200
TZOFFSETTO:+0100
DTSTART:19961027T030000
RRULE:FREQ=YEARLY;BYMONTH=10;BYDAY=-1SU
END:STANDARD
END:VTIMEZONE
BEGIN:VEVENT
DTSTAMP:20260420T013140Z
DTSTART;TZID=Europe/Berlin:20250921T133000
DTEND;TZID=Europe/Berlin:20250921T150000
SUMMARY:Regionsliga S-M Frauen St.2 Motor Dippoldiswalde vs SG Klotzsche III (7009)
UID:3f740374-8fee-4e6c-8bae-469ecf1bef53
STATUS:CONFIRMED
LAST-MODIFIED:20251009T082022Z
DESCRIPTION:Regionsliga S-M Frauen Staffel 2\nBegegnungs-Nr: 7009\nHeim: Motor Dippoldiswalde\nGast: SG Klotzsche III\nHalle: Sportpark Dippoldiswalde (33229)\nAdresse: Nikolai-Ostrowski-Straße 2\, 01744 Dippoldiswalde\n
LOCATION:Sportpark Dippoldiswalde (33229): Nikolai-Ostrowski-Straße 2\, 01744 Dippoldiswalde
CATEGORIES:Saison 2025/26
END:VEVENT
BEGIN:VEVENT
DTSTAMP:20260420T013140Z
DTSTART;TZID=Europe/Berlin:20251123T110000
DTEND;TZID=Europe/Berlin:20251123T123000
SUMMARY:Regionsliga S-M Frauen St.2 Motor Dippoldiswalde vs Blau-Weiß Gröditz (7023)
UID:78f4722a-9294-4706-a6ee-d3463f4f287d
STATUS:CONFIRMED
LAST-MODIFIED:20251123T183644Z
DESCRIPTION:Regionsliga S-M Frauen Staffel 2\nBegegnungs-Nr: 7023\nHeim: Motor Dippoldiswalde\nGast: Blau-Weiß Gröditz\nHalle: Sportpark Dippoldiswalde (33229)\nAdresse: Nikolai-Ostrowski-Straße 2\, 01744 Dippoldiswalde\n
LOCATION:Sportpark Dippoldiswalde (33229): Nikolai-Ostrowski-Straße 2\, 01744 Dippoldiswalde
CATEGORIES:Saison 2025/26
END:VEVENT
BEGIN:VEVENT
DTSTAMP:20260420T013140Z
DTSTART;TZID=Europe/Berlin:20260425T120000
DTEND;TZID=Europe/Berlin:20260425T133000
SUMMARY:Regionsliga S-M Frauen St.2 Motor Dippoldiswalde vs MSV Dresden III (7027)
UID:0439ddbb-71e7-48ba-ba2b-86c4188c43a0
STATUS:CONFIRMED
LAST-MODIFIED:20250730T151943Z
DESCRIPTION:Regionsliga S-M Frauen Staffel 2\nBegegnungs-Nr: 7027\nHeim: Motor Dippoldiswalde\nGast: MSV Dresden III\nHalle: SH Geising (33201)\nAdresse: Lange Str. 25\, 01778 Altenberg ST Geising\n
LOCATION:SH Geising (33201): Lange Str. 25\, 01778 Altenberg ST Geising
CATEGORIES:Saison 2025/26
END:VEVENT
BEGIN:VEVENT
DTSTAMP:20260420T013140Z
DTSTART;TZID=Europe/Berlin:20260228T133000
DTEND;TZID=Europe/Berlin:20260228T150000
SUMMARY:Regionsliga S-M Frauen St.2 Motor Dippoldiswalde vs TSV Rotation Dresden (7042)
UID:5d17f61b-bbea-41ef-a4b9-cecca4d6da1e
STATUS:CONFIRMED
LAST-MODIFIED:20260303T173611Z
DESCRIPTION:Regionsliga S-M Frauen Staffel 2\nBegegnungs-Nr: 7042\nHeim: Motor Dippoldiswalde\nGast: TSV Rotation Dresden\nHalle: Sportpark Dippoldiswalde (33229)\nAdresse: Nikolai-Ostrowski-Straße 2\, 01744 Dippoldiswalde\n
LOCATION:Sportpark Dippoldiswalde (33229): Nikolai-Ostrowski-Straße 2\, 01744 Dippoldiswalde
CATEGORIES:Saison 2025/26
END:VEVENT
BEGIN:VEVENT
DTSTAMP:20260420T013140Z
DTSTART;TZID=Europe/Berlin:20260418T160000
DTEND;TZID=Europe/Berlin:20260418T173000
SUMMARY:Regionsliga S-M Frauen St.2 Motor Dippoldiswalde vs TSV 1862 Radeburg (7053)
UID:aaa66219-21b6-4f47-a16e-6cb1afde4033
STATUS:CONFIRMED
LAST-MODIFIED:20260418T170549Z
DESCRIPTION:Regionsliga S-M Frauen Staffel 2\nBegegnungs-Nr: 7053\nHeim: Motor Dippoldiswalde\nGast: TSV 1862 Radeburg\nHalle: SH Geising (33201)\nAdresse: Lange Str. 25\, 01778 Altenberg ST Geising\n
LOCATION:SH Geising (33201): Lange Str. 25\, 01778 Altenberg ST Geising
CATEGORIES:Saison 2025/26
END:VEVENT
BEGIN:VEVENT
DTSTAMP:20260420T013140Z
DTSTART;TZID=Europe/Berlin:20250906T160000
DTEND;TZID=Europe/Berlin:20250906T173000
SUMMARY:Regionsliga S-M Frauen St.2 Motor Dippoldiswalde vs HSV Weinböhla III (7003)
UID:387ef292-51fa-4999-bab4-a4f3ce40b422
STATUS:CONFIRMED
LAST-MODIFIED:20250906T173314Z
DESCRIPTION:Regionsliga S-M Frauen Staffel 2\nBegegnungs-Nr: 7003\nHeim: Motor Dippoldiswalde\nGast: HSV Weinböhla III\nHalle: SH Geising (33201)\nAdresse: Lange Str. 25\, 01778 Altenberg ST Geising\n
LOCATION:SH Geising (33201): Lange Str. 25\, 01778 Altenberg ST Geising
CATEGORIES:Saison 2025/26
END:VEVENT
BEGIN:VEVENT
DTSTAMP:20260420T013140Z
DTSTART;TZID=Europe/Berlin:20251026T173000
DTEND;TZID=Europe/Berlin:20251026T190000
SUMMARY:Regionsliga S-M Frauen St.2 TSV Rotation Dresden vs Motor Dippoldiswalde (7014)
UID:bf321545-17b8-4fda-87ef-6617895e1b14
STATUS:CONFIRMED
LAST-MODIFIED:20251102T180235Z
DESCRIPTION:Regionsliga S-M Frauen Staffel 2\nBegegnungs-Nr: 7014\nHeim: TSV Rotation Dresden\nGast: Motor Dippoldiswalde\nHalle: SH 145. Oberschule Dresden-Pieschen (33140)\nAdresse: Gehestraße 10\, 01127 Dresden\n
LOCATION:SH 145. Oberschule Dresden-Pieschen (33140): Gehestraße 10\, 01127 Dresden
CATEGORIES:Saison 2025/26
END:VEVENT
BEGIN:VEVENT
DTSTAMP:20260420T013140Z
DTSTART;TZID=Europe/Berlin:20251129T163000
DTEND;TZID=Europe/Berlin:20251129T180000
SUMMARY:Regionsliga S-M Frauen St.2 TSV 1862 Radeburg vs Motor Dippoldiswalde (7025)
UID:f0f5fa7a-7d06-4787-af8f-da13c2ec0067
STATUS:CONFIRMED
LAST-MODIFIED:20251129T175755Z
DESCRIPTION:Regionsliga S-M Frauen Staffel 2\nBegegnungs-Nr: 7025\nHeim: TSV 1862 Radeburg\nGast: Motor Dippoldiswalde\nHalle: Paul-Tiedemann-SH Radeburg (33214)\nAdresse: Meißner Berg 83c\, 01471 Radeburg\n
LOCATION:Paul-Tiedemann-SH Radeburg (33214): Meißner Berg 83c\, 01471 Radeburg
CATEGORIES:Saison 2025/26
END:VEVENT
BEGIN:VEVENT
DTSTAMP:20260420T013140Z
DTSTART;TZID=Europe/Berlin:20251206T150000
DTEND;TZID=Europe/Berlin:20251206T163000
SUMMARY:Regionsliga S-M Frauen St.2 MSV Dresden III vs Motor Dippoldiswalde (7055)
UID:bd3b439c-68bb-4f5f-bf60-ab6dd6c08f59
STATUS:CONFIRMED
LAST-MODIFIED:20251207T180801Z
DESCRIPTION:Regionsliga S-M Frauen Staffel 2\nBegegnungs-Nr: 7055\nHeim: MSV Dresden III\nGast: Motor Dippoldiswalde\nHalle: SH Bertolt-Brecht-Gymnasium Dresden (33129)\nAdresse: Thomaestraße 60\, 01307 Dresden\n
LOCATION:SH Bertolt-Brecht-Gymnasium Dresden (33129): Thomaestraße 60\, 01307 Dresden
CATEGORIES:Saison 2025/26
END:VEVENT
BEGIN:VEVENT
DTSTAMP:20260420T013140Z
DTSTART;TZID=Europe/Berlin:20260118T123000
DTEND;TZID=Europe/Berlin:20260118T140000
SUMMARY:Regionsliga S-M Frauen St.2 HSV Weinböhla III vs Motor Dippoldiswalde (7031)
UID:1acce674-278b-499e-8d20-ee983a5d0f05
STATUS:CONFIRMED
LAST-MODIFIED:20260118T180342Z
DESCRIPTION:Regionsliga S-M Frauen Staffel 2\nBegegnungs-Nr: 7031\nHeim: HSV Weinböhla III\nGast: Motor Dippoldiswalde\nHalle: Nassau-SH Weinböhla (33224)\nAdresse: Meißner Str. 1\, 01689 Weinböhla\n
LOCATION:Nassau-SH Weinböhla (33224): Meißner Str. 1\, 01689 Weinböhla
CATEGORIES:Saison 2025/26
END:VEVENT
BEGIN:VEVENT
DTSTAMP:20260420T013140Z
DTSTART;TZID=Europe/Berlin:20260131T120000
DTEND;TZID=Europe/Berlin:20260131T133000
SUMMARY:Regionsliga S-M Frauen St.2 SG Klotzsche III vs Motor Dippoldiswalde (7037)
UID:b6ed3039-dcca-4f40-ae64-643bb6a12454
STATUS:CONFIRMED
LAST-MODIFIED:20260131T175631Z
DESCRIPTION:Regionsliga S-M Frauen Staffel 2\nBegegnungs-Nr: 7037\nHeim: SG Klotzsche III\nGast: Motor Dippoldiswalde\nHalle: SH Gymnasium Klotzsche (33126)\nAdresse: Karl-Marx-Straße 44\, 01109 Dresden\n
LOCATION:SH Gymnasium Klotzsche (33126): Karl-Marx-Straße 44\, 01109 Dresden
CATEGORIES:Saison 2025/26
END:VEVENT
BEGIN:VEVENT
DTSTAMP:20260420T013140Z
DTSTART;TZID=Europe/Berlin:20260329T103000
DTEND;TZID=Europe/Berlin:20260329T120000
SUMMARY:Regionsliga S-M Frauen St.2 Blau-Weiß Gröditz vs Motor Dippoldiswalde (7051)
UID:504d58dd-ffa3-4a19-827e-9c2092a4ec2e
STATUS:CONFIRMED
LAST-MODIFIED:20260329T161415Z
DESCRIPTION:Regionsliga S-M Frauen Staffel 2\nBegegnungs-Nr: 7051\nHeim: Blau-Weiß Gröditz\nGast: Motor Dippoldiswalde\nHalle: Röder-Elster-Sporthalle Gröditz (33239)\nAdresse: Waldweg 3c\, 01609 Gröditz\n
LOCATION:Röder-Elster-Sporthalle Gröditz (33239): Waldweg 3c\, 01609 Gröditz
CATEGORIES:Saison 2025/26
END:VEVENT
END:VCALENDAR
