BEGIN:VCALENDAR
PRODID:-//nuDatenautomaten//framework iCal4j //DE
VERSION:2.0
CALSCALE:GREGORIAN
BEGIN:VTIMEZONE
TZID:Europe/Berlin
LAST-MODIFIED:20260306T231828Z
TZURL:https://www.tzurl.org/zoneinfo/Europe/Berlin
X-LIC-LOCATION:Europe/Berlin
X-PROLEPTIC-TZNAME:LMT
BEGIN:STANDARD
TZNAME:CET
TZOFFSETFROM:+005328
TZOFFSETTO:+0100
DTSTART:18930401T000000
END:STANDARD
BEGIN:DAYLIGHT
TZNAME:CEST
TZOFFSETFROM:+0100
TZOFFSETTO:+0200
DTSTART:19160430T230000
RDATE:19400401T020000
RDATE:19430329T020000
RDATE:19460414T020000
RDATE:19470406T030000
RDATE:19480418T020000
RDATE:19490410T020000
RDATE:19800406T020000
END:DAYLIGHT
BEGIN:STANDARD
TZNAME:CET
TZOFFSETFROM:+0200
TZOFFSETTO:+0100
DTSTART:19161001T010000
RDATE:19421102T030000
RDATE:19431004T030000
RDATE:19441002T030000
RDATE:19451118T030000
RDATE:19461007T030000
END:STANDARD
BEGIN:DAYLIGHT
TZNAME:CEST
TZOFFSETFROM:+0100
TZOFFSETTO:+0200
DTSTART:19170416T020000
RRULE:FREQ=YEARLY;UNTIL=19180415T010000Z;BYMONTH=4;BYDAY=3MO
END:DAYLIGHT
BEGIN:STANDARD
TZNAME:CET
TZOFFSETFROM:+0200
TZOFFSETTO:+0100
DTSTART:19170917T030000
RRULE:FREQ=YEARLY;UNTIL=19180916T010000Z;BYMONTH=9;BYDAY=3MO
END:STANDARD
BEGIN:DAYLIGHT
TZNAME:CEST
TZOFFSETFROM:+0100
TZOFFSETTO:+0200
DTSTART:19440403T020000
RRULE:FREQ=YEARLY;UNTIL=19450402T010000Z;BYMONTH=4;BYDAY=1MO
END:DAYLIGHT
BEGIN:DAYLIGHT
TZNAME:CEMT
TZOFFSETFROM:+0200
TZOFFSETTO:+0300
DTSTART:19450524T020000
RDATE:19470511T030000
END:DAYLIGHT
BEGIN:DAYLIGHT
TZNAME:CEST
TZOFFSETFROM:+0300
TZOFFSETTO:+0200
DTSTART:19450924T030000
RDATE:19470629T030000
END:DAYLIGHT
BEGIN:STANDARD
TZNAME:CET
TZOFFSETFROM:+0100
TZOFFSETTO:+0100
DTSTART:19460101T000000
RDATE:19800101T000000
END:STANDARD
BEGIN:STANDARD
TZNAME:CET
TZOFFSETFROM:+0200
TZOFFSETTO:+0100
DTSTART:19471005T030000
RRULE:FREQ=YEARLY;UNTIL=19491002T010000Z;BYMONTH=10;BYDAY=1SU
END:STANDARD
BEGIN:STANDARD
TZNAME:CET
TZOFFSETFROM:+0200
TZOFFSETTO:+0100
DTSTART:19800928T030000
RRULE:FREQ=YEARLY;UNTIL=19950924T010000Z;BYMONTH=9;BYDAY=-1SU
END:STANDARD
BEGIN:DAYLIGHT
TZNAME:CEST
TZOFFSETFROM:+0100
TZOFFSETTO:+0200
DTSTART:19810329T020000
RRULE:FREQ=YEARLY;BYMONTH=3;BYDAY=-1SU
END:DAYLIGHT
BEGIN:STANDARD
TZNAME:CET
TZOFFSETFROM:+0200
TZOFFSETTO:+0100
DTSTART:19961027T030000
RRULE:FREQ=YEARLY;BYMONTH=10;BYDAY=-1SU
END:STANDARD
END:VTIMEZONE
BEGIN:VEVENT
DTSTAMP:20260422T154458Z
DTSTART;TZID=Europe/Berlin:20260322T123000
DTEND;TZID=Europe/Berlin:20260322T130000
SUMMARY:Regionsliga gFJ B Lok Schleife vs SV Lok Königsbrück  II (14342)
UID:54d10beb-8044-4731-9e2d-635f90de2063
STATUS:CONFIRMED
LAST-MODIFIED:20260122T190818Z
DESCRIPTION:Regionsliga  gFJ Staffel B\nBegegnungs-Nr: 14342\nHeim: Lok Schleife\nGast: SV Lok Königsbrück  II\nHalle: SH Schleife (34402)\nAdresse: Spremberger Straße 29\, 02959 Schleife\n
LOCATION:SH Schleife (34402): Spremberger Straße 29\, 02959 Schleife
CATEGORIES:Saison 2025/26
END:VEVENT
BEGIN:VEVENT
DTSTAMP:20260422T154458Z
DTSTART;TZID=Europe/Berlin:20260322T100000
DTEND;TZID=Europe/Berlin:20260322T103000
SUMMARY:Regionsliga gFJ B Lok Schleife vs LHV Hoyerswerda II (14339)
UID:37802ec7-071d-4e78-9431-42cede9be677
STATUS:CONFIRMED
DESCRIPTION:Regionsliga  gFJ Staffel B\nBegegnungs-Nr: 14339\nHeim: Lok Schleife\nGast: LHV Hoyerswerda II\nHalle: SH Schleife (34402)\nAdresse: Spremberger Straße 29\, 02959 Schleife\n
LOCATION:SH Schleife (34402): Spremberger Straße 29\, 02959 Schleife
CATEGORIES:Saison 2025/26
END:VEVENT
BEGIN:VEVENT
DTSTAMP:20260422T154458Z
DTSTART;TZID=Europe/Berlin:20260118T105000
DTEND;TZID=Europe/Berlin:20260118T112000
SUMMARY:Regionsliga gFJ B Lok Schleife vs HC Rödertal  II (14326)
UID:69a28121-03b6-4db0-9266-ecbfc61a9797
STATUS:CONFIRMED
DESCRIPTION:Regionsliga  gFJ Staffel B\nBegegnungs-Nr: 14326\nHeim: Lok Schleife\nGast: HC Rödertal  II\nHalle: SH Albert-Schweitzer-Gymnasium Kamenz (34204)\nAdresse: Am Flugplatz\, 01917 Kamenz\, Parkplatz - Macherstraße 142\n
LOCATION:SH Albert-Schweitzer-Gymnasium Kamenz (34204): Am Flugplatz\, 01917 Kamenz\, Parkplatz - Macherstraße 142
CATEGORIES:Saison 2025/26
END:VEVENT
BEGIN:VEVENT
DTSTAMP:20260422T154458Z
DTSTART;TZID=Europe/Berlin:20260118T100000
DTEND;TZID=Europe/Berlin:20260118T103000
SUMMARY:Regionsliga gFJ B Lok Schleife vs HVH Kamenz II (14325)
UID:622ba81b-d1fe-4967-ad8a-bde34ce312ca
STATUS:CONFIRMED
DESCRIPTION:Regionsliga  gFJ Staffel B\nBegegnungs-Nr: 14325\nHeim: Lok Schleife\nGast: HVH Kamenz II\nHalle: SH Albert-Schweitzer-Gymnasium Kamenz (34204)\nAdresse: Am Flugplatz\, 01917 Kamenz\, Parkplatz - Macherstraße 142\n
LOCATION:SH Albert-Schweitzer-Gymnasium Kamenz (34204): Am Flugplatz\, 01917 Kamenz\, Parkplatz - Macherstraße 142
CATEGORIES:Saison 2025/26
END:VEVENT
BEGIN:VEVENT
DTSTAMP:20260422T154458Z
DTSTART;TZID=Europe/Berlin:20260314T120000
DTEND;TZID=Europe/Berlin:20260314T123000
SUMMARY:Regionsliga gFJ B Lok Schleife vs HVH Kamenz II (14315)
UID:783e4309-2a26-4f23-a5cc-4d7a3cbae121
STATUS:CONFIRMED
LAST-MODIFIED:20260120T173711Z
DESCRIPTION:Regionsliga  gFJ Staffel B\nBegegnungs-Nr: 14315\nHeim: Lok Schleife\nGast: HVH Kamenz II\nHalle: SH Schleife (34402)\nAdresse: Spremberger Straße 29\, 02959 Schleife\n
LOCATION:SH Schleife (34402): Spremberger Straße 29\, 02959 Schleife
CATEGORIES:Saison 2025/26
END:VEVENT
BEGIN:VEVENT
DTSTAMP:20260422T154458Z
DTSTART;TZID=Europe/Berlin:20250928T135000
DTEND;TZID=Europe/Berlin:20250928T142000
SUMMARY:Regionsliga gFJ B Lok Schleife vs Radeberger SV III (14303)
UID:2b83e7bd-c7e5-4a3d-b46d-e3094b8937a6
STATUS:CONFIRMED
LAST-MODIFIED:20251022T181247Z
DESCRIPTION:Regionsliga  gFJ Staffel B\nBegegnungs-Nr: 14303\nHeim: Lok Schleife\nGast: Radeberger SV III\nHalle: SH Wesenitzsportpark Bischofswerda (34505)\nAdresse: Clara-Zetkin-Str. 4\, 01877  Bischofswerda\n
LOCATION:SH Wesenitzsportpark Bischofswerda (34505): Clara-Zetkin-Str. 4\, 01877  Bischofswerda
CATEGORIES:Saison 2025/26
END:VEVENT
BEGIN:VEVENT
DTSTAMP:20260422T154458Z
DTSTART;TZID=Europe/Berlin:20260207T134000
DTEND;TZID=Europe/Berlin:20260207T141000
SUMMARY:Regionsliga gFJ B Radeberger SV III vs Lok Schleife (14335)
UID:1aa0db5e-f5fb-4422-aa6b-1ea66609b87c
STATUS:CONFIRMED
LAST-MODIFIED:20260206T185932Z
DESCRIPTION:Regionsliga  gFJ Staffel B\nBegegnungs-Nr: 14335\nHeim: Radeberger SV III\nGast: Lok Schleife\nHalle: SH Wesenitzsportpark Bischofswerda (34505)\nAdresse: Clara-Zetkin-Str. 4\, 01877  Bischofswerda\n
LOCATION:SH Wesenitzsportpark Bischofswerda (34505): Clara-Zetkin-Str. 4\, 01877  Bischofswerda
CATEGORIES:Saison 2025/26
END:VEVENT
BEGIN:VEVENT
DTSTAMP:20260422T154458Z
DTSTART;TZID=Europe/Berlin:20260314T143000
DTEND;TZID=Europe/Berlin:20260314T150000
SUMMARY:Regionsliga gFJ B HC Rödertal  II vs Lok Schleife (14333)
UID:c40a7d2a-51dd-4320-949c-b6a92be79d63
STATUS:CONFIRMED
LAST-MODIFIED:20260216T172330Z
DESCRIPTION:Regionsliga  gFJ Staffel B\nBegegnungs-Nr: 14333\nHeim: HC Rödertal  II\nGast: Lok Schleife\nHalle: SH Schleife (34402)\nAdresse: Spremberger Straße 29\, 02959 Schleife\n
LOCATION:SH Schleife (34402): Spremberger Straße 29\, 02959 Schleife
CATEGORIES:Saison 2025/26
END:VEVENT
BEGIN:VEVENT
DTSTAMP:20260422T154458Z
DTSTART;TZID=Europe/Berlin:20250928T144000
DTEND;TZID=Europe/Berlin:20250928T151000
SUMMARY:Regionsliga gFJ B VfB Bischofswerda vs Lok Schleife (14302)
UID:c6cf603b-45ce-4eab-a8ee-20f464d68b83
STATUS:CONFIRMED
LAST-MODIFIED:20251022T181448Z
DESCRIPTION:Regionsliga  gFJ Staffel B\nBegegnungs-Nr: 14302\nHeim: VfB Bischofswerda\nGast: Lok Schleife\nHalle: SH Wesenitzsportpark Bischofswerda (34505)\nAdresse: Clara-Zetkin-Str. 4\, 01877  Bischofswerda\n
LOCATION:SH Wesenitzsportpark Bischofswerda (34505): Clara-Zetkin-Str. 4\, 01877  Bischofswerda
CATEGORIES:Saison 2025/26
END:VEVENT
BEGIN:VEVENT
DTSTAMP:20260422T154458Z
DTSTART;TZID=Europe/Berlin:20260207T130000
DTEND;TZID=Europe/Berlin:20260207T133000
SUMMARY:Regionsliga gFJ B VfB Bischofswerda vs Lok Schleife (14317)
UID:af9d2e49-c8de-4524-960e-c28f1a4a544f
STATUS:CONFIRMED
LAST-MODIFIED:20260206T185748Z
DESCRIPTION:Regionsliga  gFJ Staffel B\nBegegnungs-Nr: 14317\nHeim: VfB Bischofswerda\nGast: Lok Schleife\nHalle: SH Wesenitzsportpark Bischofswerda (34505)\nAdresse: Clara-Zetkin-Str. 4\, 01877  Bischofswerda\n
LOCATION:SH Wesenitzsportpark Bischofswerda (34505): Clara-Zetkin-Str. 4\, 01877  Bischofswerda
CATEGORIES:Saison 2025/26
END:VEVENT
BEGIN:VEVENT
DTSTAMP:20260422T154458Z
DTSTART;TZID=Europe/Berlin:20251116T115000
DTEND;TZID=Europe/Berlin:20251116T122000
SUMMARY:Regionsliga gFJ B LHV Hoyerswerda II vs Lok Schleife (14314)
UID:b14f780c-3b86-41b1-a7c0-e883135c4cbc
STATUS:CONFIRMED
LAST-MODIFIED:20251022T174640Z
DESCRIPTION:Regionsliga  gFJ Staffel B\nBegegnungs-Nr: 14314\nHeim: LHV Hoyerswerda II\nGast: Lok Schleife\nHalle: Sporthalle \"Neue Oberschule\" (34519)\nAdresse: Claus-von-Stauffenberg-Straße 40a\, 02977 Hoyerswerda\n
LOCATION:Sporthalle \"Neue Oberschule\" (34519): Claus-von-Stauffenberg-Straße 40a\, 02977 Hoyerswerda
CATEGORIES:Saison 2025/26
END:VEVENT
BEGIN:VEVENT
DTSTAMP:20260422T154458Z
DTSTART;TZID=Europe/Berlin:20251116T110000
DTEND;TZID=Europe/Berlin:20251116T113000
SUMMARY:Regionsliga gFJ B SV Lok Königsbrück  II vs Lok Schleife (14312)
UID:23fd0825-6186-48bf-834a-b8ef11444130
STATUS:CONFIRMED
LAST-MODIFIED:20251022T174347Z
DESCRIPTION:Regionsliga  gFJ Staffel B\nBegegnungs-Nr: 14312\nHeim: SV Lok Königsbrück  II\nGast: Lok Schleife\nHalle: Sporthalle \"Neue Oberschule\" (34519)\nAdresse: Claus-von-Stauffenberg-Straße 40a\, 02977 Hoyerswerda\n
LOCATION:Sporthalle \"Neue Oberschule\" (34519): Claus-von-Stauffenberg-Straße 40a\, 02977 Hoyerswerda
CATEGORIES:Saison 2025/26
END:VEVENT
END:VCALENDAR
