BEGIN:VCALENDAR
PRODID:-//nuDatenautomaten//framework iCal4j //DE
VERSION:2.0
CALSCALE:GREGORIAN
BEGIN:VTIMEZONE
TZID:Europe/Berlin
LAST-MODIFIED:20260306T231828Z
TZURL:https://www.tzurl.org/zoneinfo/Europe/Berlin
X-LIC-LOCATION:Europe/Berlin
X-PROLEPTIC-TZNAME:LMT
BEGIN:STANDARD
TZNAME:CET
TZOFFSETFROM:+005328
TZOFFSETTO:+0100
DTSTART:18930401T000000
END:STANDARD
BEGIN:DAYLIGHT
TZNAME:CEST
TZOFFSETFROM:+0100
TZOFFSETTO:+0200
DTSTART:19160430T230000
RDATE:19400401T020000
RDATE:19430329T020000
RDATE:19460414T020000
RDATE:19470406T030000
RDATE:19480418T020000
RDATE:19490410T020000
RDATE:19800406T020000
END:DAYLIGHT
BEGIN:STANDARD
TZNAME:CET
TZOFFSETFROM:+0200
TZOFFSETTO:+0100
DTSTART:19161001T010000
RDATE:19421102T030000
RDATE:19431004T030000
RDATE:19441002T030000
RDATE:19451118T030000
RDATE:19461007T030000
END:STANDARD
BEGIN:DAYLIGHT
TZNAME:CEST
TZOFFSETFROM:+0100
TZOFFSETTO:+0200
DTSTART:19170416T020000
RRULE:FREQ=YEARLY;UNTIL=19180415T010000Z;BYMONTH=4;BYDAY=3MO
END:DAYLIGHT
BEGIN:STANDARD
TZNAME:CET
TZOFFSETFROM:+0200
TZOFFSETTO:+0100
DTSTART:19170917T030000
RRULE:FREQ=YEARLY;UNTIL=19180916T010000Z;BYMONTH=9;BYDAY=3MO
END:STANDARD
BEGIN:DAYLIGHT
TZNAME:CEST
TZOFFSETFROM:+0100
TZOFFSETTO:+0200
DTSTART:19440403T020000
RRULE:FREQ=YEARLY;UNTIL=19450402T010000Z;BYMONTH=4;BYDAY=1MO
END:DAYLIGHT
BEGIN:DAYLIGHT
TZNAME:CEMT
TZOFFSETFROM:+0200
TZOFFSETTO:+0300
DTSTART:19450524T020000
RDATE:19470511T030000
END:DAYLIGHT
BEGIN:DAYLIGHT
TZNAME:CEST
TZOFFSETFROM:+0300
TZOFFSETTO:+0200
DTSTART:19450924T030000
RDATE:19470629T030000
END:DAYLIGHT
BEGIN:STANDARD
TZNAME:CET
TZOFFSETFROM:+0100
TZOFFSETTO:+0100
DTSTART:19460101T000000
RDATE:19800101T000000
END:STANDARD
BEGIN:STANDARD
TZNAME:CET
TZOFFSETFROM:+0200
TZOFFSETTO:+0100
DTSTART:19471005T030000
RRULE:FREQ=YEARLY;UNTIL=19491002T010000Z;BYMONTH=10;BYDAY=1SU
END:STANDARD
BEGIN:STANDARD
TZNAME:CET
TZOFFSETFROM:+0200
TZOFFSETTO:+0100
DTSTART:19800928T030000
RRULE:FREQ=YEARLY;UNTIL=19950924T010000Z;BYMONTH=9;BYDAY=-1SU
END:STANDARD
BEGIN:DAYLIGHT
TZNAME:CEST
TZOFFSETFROM:+0100
TZOFFSETTO:+0200
DTSTART:19810329T020000
RRULE:FREQ=YEARLY;BYMONTH=3;BYDAY=-1SU
END:DAYLIGHT
BEGIN:STANDARD
TZNAME:CET
TZOFFSETFROM:+0200
TZOFFSETTO:+0100
DTSTART:19961027T030000
RRULE:FREQ=YEARLY;BYMONTH=10;BYDAY=-1SU
END:STANDARD
END:VTIMEZONE
BEGIN:VEVENT
DTSTAMP:20260422T041003Z
DTSTART;TZID=Europe/Berlin:20260419T143000
DTEND;TZID=Europe/Berlin:20260419T160000
SUMMARY:Regionsliga S-M Frauen St.1 HSV Weinböhla II vs Radebeuler HV II (6053)
UID:5b4ebb9a-a09a-4f58-8ef2-f0f3d9348691
STATUS:CONFIRMED
LAST-MODIFIED:20260419T181613Z
DESCRIPTION:Regionsliga S-M Frauen Staffel 1\nBegegnungs-Nr: 6053\nHeim: HSV Weinböhla II\nGast: Radebeuler HV II\nHalle: Nassau-SH Weinböhla (33224)\nAdresse: Meißner Str. 1\, 01689 Weinböhla\n
LOCATION:Nassau-SH Weinböhla (33224): Meißner Str. 1\, 01689 Weinböhla
CATEGORIES:Saison 2025/26
END:VEVENT
BEGIN:VEVENT
DTSTAMP:20260422T041003Z
DTSTART;TZID=Europe/Berlin:20260322T143000
DTEND;TZID=Europe/Berlin:20260322T160000
SUMMARY:Regionsliga S-M Frauen St.1 HSV Weinböhla II vs ESV Dresden III (6048)
UID:e04d1bea-22b7-4814-9e8d-eb9ef337f3dc
STATUS:CONFIRMED
LAST-MODIFIED:20260322T174923Z
DESCRIPTION:Regionsliga S-M Frauen Staffel 1\nBegegnungs-Nr: 6048\nHeim: HSV Weinböhla II\nGast: ESV Dresden III\nHalle: Nassau-SH Weinböhla (33224)\nAdresse: Meißner Str. 1\, 01689 Weinböhla\n
LOCATION:Nassau-SH Weinböhla (33224): Meißner Str. 1\, 01689 Weinböhla
CATEGORIES:Saison 2025/26
END:VEVENT
BEGIN:VEVENT
DTSTAMP:20260422T041003Z
DTSTART;TZID=Europe/Berlin:20260201T143000
DTEND;TZID=Europe/Berlin:20260201T160000
SUMMARY:Regionsliga S-M Frauen St.1 HSV Weinböhla II vs SSV Heidenau  III (6039)
UID:d337c17b-278b-4f22-8e4d-787341aa1800
STATUS:CONFIRMED
LAST-MODIFIED:20260201T184752Z
DESCRIPTION:Regionsliga S-M Frauen Staffel 1\nBegegnungs-Nr: 6039\nHeim: HSV Weinböhla II\nGast: SSV Heidenau  III\nHalle: Nassau-SH Weinböhla (33224)\nAdresse: Meißner Str. 1\, 01689 Weinböhla\n
LOCATION:Nassau-SH Weinböhla (33224): Meißner Str. 1\, 01689 Weinböhla
CATEGORIES:Saison 2025/26
END:VEVENT
BEGIN:VEVENT
DTSTAMP:20260422T041003Z
DTSTART;TZID=Europe/Berlin:20260118T143000
DTEND;TZID=Europe/Berlin:20260118T160000
SUMMARY:Regionsliga S-M Frauen St.1 HSV Weinböhla II vs SG Dresdner Bank (6032)
UID:77f755f3-550d-44cd-ba53-4a4f361802d5
STATUS:CONFIRMED
LAST-MODIFIED:20260118T175409Z
DESCRIPTION:Regionsliga S-M Frauen Staffel 1\nBegegnungs-Nr: 6032\nHeim: HSV Weinböhla II\nGast: SG Dresdner Bank\nHalle: Nassau-SH Weinböhla (33224)\nAdresse: Meißner Str. 1\, 01689 Weinböhla\n
LOCATION:Nassau-SH Weinböhla (33224): Meißner Str. 1\, 01689 Weinböhla
CATEGORIES:Saison 2025/26
END:VEVENT
BEGIN:VEVENT
DTSTAMP:20260422T041003Z
DTSTART;TZID=Europe/Berlin:20251123T143000
DTEND;TZID=Europe/Berlin:20251123T160000
SUMMARY:Regionsliga S-M Frauen St.1 HSV Weinböhla II vs SF 01 Dresden III (6023)
UID:8f32cc2b-ca84-4262-9773-bd2a0f0fee5d
STATUS:CONFIRMED
LAST-MODIFIED:20251123T183549Z
DESCRIPTION:Regionsliga S-M Frauen Staffel 1\nBegegnungs-Nr: 6023\nHeim: HSV Weinböhla II\nGast: SF 01 Dresden III\nHalle: Nassau-SH Weinböhla (33224)\nAdresse: Meißner Str. 1\, 01689 Weinböhla\n
LOCATION:Nassau-SH Weinböhla (33224): Meißner Str. 1\, 01689 Weinböhla
CATEGORIES:Saison 2025/26
END:VEVENT
BEGIN:VEVENT
DTSTAMP:20260422T041003Z
DTSTART;TZID=Europe/Berlin:20250928T143000
DTEND;TZID=Europe/Berlin:20250928T160000
SUMMARY:Regionsliga S-M Frauen St.1 HSV Weinböhla II vs HSG Weißeritztal II (6013)
UID:8213c85a-d763-4eb3-af71-6b56e409422c
STATUS:CONFIRMED
LAST-MODIFIED:20250929T173830Z
DESCRIPTION:Regionsliga S-M Frauen Staffel 1\nBegegnungs-Nr: 6013\nHeim: HSV Weinböhla II\nGast: HSG Weißeritztal II\nHalle: Nassau-SH Weinböhla (33224)\nAdresse: Meißner Str. 1\, 01689 Weinböhla\n
LOCATION:Nassau-SH Weinböhla (33224): Meißner Str. 1\, 01689 Weinböhla
CATEGORIES:Saison 2025/26
END:VEVENT
BEGIN:VEVENT
DTSTAMP:20260422T041003Z
DTSTART;TZID=Europe/Berlin:20251116T143000
DTEND;TZID=Europe/Berlin:20251116T160000
SUMMARY:Regionsliga S-M Frauen St.1 HSV Weinböhla II vs SC Riesa II (6008)
UID:98641a00-20ca-45ea-8298-5819c70b607d
STATUS:CONFIRMED
LAST-MODIFIED:20251117T184311Z
DESCRIPTION:Regionsliga S-M Frauen Staffel 1\nBegegnungs-Nr: 6008\nHeim: HSV Weinböhla II\nGast: SC Riesa II\nHalle: Nassau-SH Weinböhla (33224)\nAdresse: Meißner Str. 1\, 01689 Weinböhla\n
LOCATION:Nassau-SH Weinböhla (33224): Meißner Str. 1\, 01689 Weinböhla
CATEGORIES:Saison 2025/26
END:VEVENT
BEGIN:VEVENT
DTSTAMP:20260422T041003Z
DTSTART;TZID=Europe/Berlin:20260329T100000
DTEND;TZID=Europe/Berlin:20260329T113000
SUMMARY:Regionsliga S-M Frauen St.1 SF 01 Dresden III vs HSV Weinböhla II (6051)
UID:f865a18c-96eb-4b35-9f9a-46c3bc6454c6
STATUS:CONFIRMED
LAST-MODIFIED:20260329T161140Z
DESCRIPTION:Regionsliga S-M Frauen Staffel 1\nBegegnungs-Nr: 6051\nHeim: SF 01 Dresden III\nGast: HSV Weinböhla II\nHalle: SH 151. Gesamtschule Dresden (33142)\nAdresse: Stauffenbergallee 8\, 01099 Dresden\n
LOCATION:SH 151. Gesamtschule Dresden (33142): Stauffenbergallee 8\, 01099 Dresden
CATEGORIES:Saison 2025/26
END:VEVENT
BEGIN:VEVENT
DTSTAMP:20260422T041003Z
DTSTART;TZID=Europe/Berlin:20260207T150000
DTEND;TZID=Europe/Berlin:20260207T163000
SUMMARY:Regionsliga S-M Frauen St.1 HSG Weißeritztal II vs HSV Weinböhla II (6041)
UID:d4405ad7-f227-4419-b453-c22ced60219a
STATUS:CONFIRMED
LAST-MODIFIED:20260207T175618Z
DESCRIPTION:Regionsliga S-M Frauen Staffel 1\nBegegnungs-Nr: 6041\nHeim: HSG Weißeritztal II\nGast: HSV Weinböhla II\nHalle: Saubach-SH Wilsdruff (33208)\nAdresse: Nossener Str. 21b\, 01723 Wilsdruff\n
LOCATION:Saubach-SH Wilsdruff (33208): Nossener Str. 21b\, 01723 Wilsdruff
CATEGORIES:Saison 2025/26
END:VEVENT
BEGIN:VEVENT
DTSTAMP:20260422T041003Z
DTSTART;TZID=Europe/Berlin:20260124T130000
DTEND;TZID=Europe/Berlin:20260124T143000
SUMMARY:Regionsliga S-M Frauen St.1 SC Riesa II vs HSV Weinböhla II (6036)
UID:423762f8-b2e8-424c-bb98-faafe5ec6de2
STATUS:CONFIRMED
LAST-MODIFIED:20260125T181602Z
DESCRIPTION:Regionsliga S-M Frauen Staffel 1\nBegegnungs-Nr: 6036\nHeim: SC Riesa II\nGast: HSV Weinböhla II\nHalle: SH BSZ Technik Riesa (33219)\nAdresse: Paul-Greifzu-Straße 51\, 01591 Riesa\n
LOCATION:SH BSZ Technik Riesa (33219): Paul-Greifzu-Straße 51\, 01591 Riesa
CATEGORIES:Saison 2025/26
END:VEVENT
BEGIN:VEVENT
DTSTAMP:20260422T041003Z
DTSTART;TZID=Europe/Berlin:20251130T160000
DTEND;TZID=Europe/Berlin:20251130T173000
SUMMARY:Regionsliga S-M Frauen St.1 Radebeuler HV II vs HSV Weinböhla II (6025)
UID:c0d04a36-b1dd-4ceb-917b-80d6584b3de7
STATUS:CONFIRMED
LAST-MODIFIED:20251130T184254Z
DESCRIPTION:Regionsliga S-M Frauen Staffel 1\nBegegnungs-Nr: 6025\nHeim: Radebeuler HV II\nGast: HSV Weinböhla II\nHalle: Elb-SH Radebeul West (33203)\nAdresse: An der Festwiese 1\, 01445 Radebeul\n
LOCATION:Elb-SH Radebeul West (33203): An der Festwiese 1\, 01445 Radebeul
CATEGORIES:Saison 2025/26
END:VEVENT
BEGIN:VEVENT
DTSTAMP:20260422T041003Z
DTSTART;TZID=Europe/Berlin:20251108T130000
DTEND;TZID=Europe/Berlin:20251108T143000
SUMMARY:Regionsliga S-M Frauen St.1 ESV Dresden III vs HSV Weinböhla II (6020)
UID:dbd05453-f03b-428f-abf2-9e22fe864657
STATUS:CONFIRMED
LAST-MODIFIED:20251108T173737Z
DESCRIPTION:Regionsliga S-M Frauen Staffel 1\nBegegnungs-Nr: 6020\nHeim: ESV Dresden III\nGast: HSV Weinböhla II\nHalle: Lok-SH Dresden (33106)\nAdresse: Emmerich-Ambros-Ufer 74\, 01159 Dresden\n
LOCATION:Lok-SH Dresden (33106): Emmerich-Ambros-Ufer 74\, 01159 Dresden
CATEGORIES:Saison 2025/26
END:VEVENT
BEGIN:VEVENT
DTSTAMP:20260422T041003Z
DTSTART;TZID=Europe/Berlin:20251206T130000
DTEND;TZID=Europe/Berlin:20251206T143000
SUMMARY:Regionsliga S-M Frauen St.1 SSV Heidenau  III vs HSV Weinböhla II (6011)
UID:93ef3d35-8d5c-40b1-bb75-a289df225fc0
STATUS:CONFIRMED
LAST-MODIFIED:20251206T181235Z
DESCRIPTION:Regionsliga S-M Frauen Staffel 1\nBegegnungs-Nr: 6011\nHeim: SSV Heidenau  III\nGast: HSV Weinböhla II\nHalle: SH Pestalozzi-Gymnasium Heidenau (33306)\nAdresse: Hauptstraße 37\, 01809 Heidenau\n
LOCATION:SH Pestalozzi-Gymnasium Heidenau (33306): Hauptstraße 37\, 01809 Heidenau
CATEGORIES:Saison 2025/26
END:VEVENT
BEGIN:VEVENT
DTSTAMP:20260422T041003Z
DTSTART;TZID=Europe/Berlin:20251012T150000
DTEND;TZID=Europe/Berlin:20251012T163000
SUMMARY:Regionsliga S-M Frauen St.1 SG Dresdner Bank vs HSV Weinböhla II (6004)
UID:a9407e9f-3885-4757-8db6-2b3b2938d193
STATUS:CONFIRMED
LAST-MODIFIED:20251013T170819Z
DESCRIPTION:Regionsliga S-M Frauen Staffel 1\nBegegnungs-Nr: 6004\nHeim: SG Dresdner Bank\nGast: HSV Weinböhla II\nHalle: SH Hülße-Gymnasium Dresden (33120)\nAdresse: Hülßestraße 16\, 01237 Dresden\n
LOCATION:SH Hülße-Gymnasium Dresden (33120): Hülßestraße 16\, 01237 Dresden
CATEGORIES:Saison 2025/26
END:VEVENT
END:VCALENDAR
