BEGIN:VCALENDAR
PRODID:-//nuDatenautomaten//framework iCal4j //DE
VERSION:2.0
CALSCALE:GREGORIAN
BEGIN:VTIMEZONE
TZID:Europe/Berlin
LAST-MODIFIED:20260306T231828Z
TZURL:https://www.tzurl.org/zoneinfo/Europe/Berlin
X-LIC-LOCATION:Europe/Berlin
X-PROLEPTIC-TZNAME:LMT
BEGIN:STANDARD
TZNAME:CET
TZOFFSETFROM:+005328
TZOFFSETTO:+0100
DTSTART:18930401T000000
END:STANDARD
BEGIN:DAYLIGHT
TZNAME:CEST
TZOFFSETFROM:+0100
TZOFFSETTO:+0200
DTSTART:19160430T230000
RDATE:19400401T020000
RDATE:19430329T020000
RDATE:19460414T020000
RDATE:19470406T030000
RDATE:19480418T020000
RDATE:19490410T020000
RDATE:19800406T020000
END:DAYLIGHT
BEGIN:STANDARD
TZNAME:CET
TZOFFSETFROM:+0200
TZOFFSETTO:+0100
DTSTART:19161001T010000
RDATE:19421102T030000
RDATE:19431004T030000
RDATE:19441002T030000
RDATE:19451118T030000
RDATE:19461007T030000
END:STANDARD
BEGIN:DAYLIGHT
TZNAME:CEST
TZOFFSETFROM:+0100
TZOFFSETTO:+0200
DTSTART:19170416T020000
RRULE:FREQ=YEARLY;UNTIL=19180415T010000Z;BYMONTH=4;BYDAY=3MO
END:DAYLIGHT
BEGIN:STANDARD
TZNAME:CET
TZOFFSETFROM:+0200
TZOFFSETTO:+0100
DTSTART:19170917T030000
RRULE:FREQ=YEARLY;UNTIL=19180916T010000Z;BYMONTH=9;BYDAY=3MO
END:STANDARD
BEGIN:DAYLIGHT
TZNAME:CEST
TZOFFSETFROM:+0100
TZOFFSETTO:+0200
DTSTART:19440403T020000
RRULE:FREQ=YEARLY;UNTIL=19450402T010000Z;BYMONTH=4;BYDAY=1MO
END:DAYLIGHT
BEGIN:DAYLIGHT
TZNAME:CEMT
TZOFFSETFROM:+0200
TZOFFSETTO:+0300
DTSTART:19450524T020000
RDATE:19470511T030000
END:DAYLIGHT
BEGIN:DAYLIGHT
TZNAME:CEST
TZOFFSETFROM:+0300
TZOFFSETTO:+0200
DTSTART:19450924T030000
RDATE:19470629T030000
END:DAYLIGHT
BEGIN:STANDARD
TZNAME:CET
TZOFFSETFROM:+0100
TZOFFSETTO:+0100
DTSTART:19460101T000000
RDATE:19800101T000000
END:STANDARD
BEGIN:STANDARD
TZNAME:CET
TZOFFSETFROM:+0200
TZOFFSETTO:+0100
DTSTART:19471005T030000
RRULE:FREQ=YEARLY;UNTIL=19491002T010000Z;BYMONTH=10;BYDAY=1SU
END:STANDARD
BEGIN:STANDARD
TZNAME:CET
TZOFFSETFROM:+0200
TZOFFSETTO:+0100
DTSTART:19800928T030000
RRULE:FREQ=YEARLY;UNTIL=19950924T010000Z;BYMONTH=9;BYDAY=-1SU
END:STANDARD
BEGIN:DAYLIGHT
TZNAME:CEST
TZOFFSETFROM:+0100
TZOFFSETTO:+0200
DTSTART:19810329T020000
RRULE:FREQ=YEARLY;BYMONTH=3;BYDAY=-1SU
END:DAYLIGHT
BEGIN:STANDARD
TZNAME:CET
TZOFFSETFROM:+0200
TZOFFSETTO:+0100
DTSTART:19961027T030000
RRULE:FREQ=YEARLY;BYMONTH=10;BYDAY=-1SU
END:STANDARD
END:VTIMEZONE
BEGIN:VEVENT
DTSTAMP:20260425T012932Z
DTSTART;TZID=Europe/Berlin:20260308T120000
DTEND;TZID=Europe/Berlin:20260308T130000
SUMMARY:ROL gJE Ost Roßweiner SV vs TSV Penig (512086)
UID:74c457f1-6297-464e-8887-d6aa33c04439
STATUS:CONFIRMED
DESCRIPTION:Regionsoberliga gem. E-Jugend\nBegegnungs-Nr: 512086\nHeim: Roßweiner SV\nGast: TSV Penig\nHalle: Stadt-SH Roßwein (31203)\nAdresse: Grafestraße 1\, 04741 Roßwein\n
LOCATION:Stadt-SH Roßwein (31203): Grafestraße 1\, 04741 Roßwein
CATEGORIES:Saison 2025/26
END:VEVENT
BEGIN:VEVENT
DTSTAMP:20260425T012932Z
DTSTART;TZID=Europe/Berlin:20260308T100000
DTEND;TZID=Europe/Berlin:20260308T110000
SUMMARY:ROL gJE Ost Roßweiner SV vs Geringswalder HV (512084)
UID:9a138b93-1e52-4296-86bf-afc8a89ada25
STATUS:CONFIRMED
DESCRIPTION:Regionsoberliga gem. E-Jugend\nBegegnungs-Nr: 512084\nHeim: Roßweiner SV\nGast: Geringswalder HV\nHalle: Stadt-SH Roßwein (31203)\nAdresse: Grafestraße 1\, 04741 Roßwein\n
LOCATION:Stadt-SH Roßwein (31203): Grafestraße 1\, 04741 Roßwein
CATEGORIES:Saison 2025/26
END:VEVENT
BEGIN:VEVENT
DTSTAMP:20260425T012932Z
DTSTART;TZID=Europe/Berlin:20260412T130000
DTEND;TZID=Europe/Berlin:20260412T140000
SUMMARY:ROL gJE Ost Roßweiner SV vs TSV Einheit Claußnitz (512058)
UID:e3d0a801-c544-4488-9956-1b47f55c0fdd
STATUS:CONFIRMED
LAST-MODIFIED:20260219T212642Z
DESCRIPTION:Regionsoberliga gem. E-Jugend\nBegegnungs-Nr: 512058\nHeim: Roßweiner SV\nGast: TSV Einheit Claußnitz\nHalle: Sachsenhalle Chemnitz (32101)\nAdresse: Straße Usti nad Labem 275\, 09119 Chemnitz\n
LOCATION:Sachsenhalle Chemnitz (32101): Straße Usti nad Labem 275\, 09119 Chemnitz
CATEGORIES:Saison 2025/26
END:VEVENT
BEGIN:VEVENT
DTSTAMP:20260425T012932Z
DTSTART;TZID=Europe/Berlin:20251207T120000
DTEND;TZID=Europe/Berlin:20251207T130000
SUMMARY:ROL gJE Ost Roßweiner SV vs Rotation Weißenborn (512050)
UID:c638edfe-2b84-405d-93a4-974e1bbff4fd
STATUS:CONFIRMED
DESCRIPTION:Regionsoberliga gem. E-Jugend\nBegegnungs-Nr: 512050\nHeim: Roßweiner SV\nGast: Rotation Weißenborn\nHalle: Stadt-SH Roßwein (31203)\nAdresse: Grafestraße 1\, 04741 Roßwein\n
LOCATION:Stadt-SH Roßwein (31203): Grafestraße 1\, 04741 Roßwein
CATEGORIES:Saison 2025/26
END:VEVENT
BEGIN:VEVENT
DTSTAMP:20260425T012932Z
DTSTART;TZID=Europe/Berlin:20251207T100000
DTEND;TZID=Europe/Berlin:20251207T110000
SUMMARY:ROL gJE Ost Roßweiner SV vs TSV Einheit Claußnitz II (512048)
UID:fb73ba40-8bc0-4e39-b1b5-27ac247d6f93
STATUS:CONFIRMED
DESCRIPTION:Regionsoberliga gem. E-Jugend\nBegegnungs-Nr: 512048\nHeim: Roßweiner SV\nGast: TSV Einheit Claußnitz II\nHalle: Stadt-SH Roßwein (31203)\nAdresse: Grafestraße 1\, 04741 Roßwein\n
LOCATION:Stadt-SH Roßwein (31203): Grafestraße 1\, 04741 Roßwein
CATEGORIES:Saison 2025/26
END:VEVENT
BEGIN:VEVENT
DTSTAMP:20260425T012932Z
DTSTART;TZID=Europe/Berlin:20251115T140000
DTEND;TZID=Europe/Berlin:20251115T150000
SUMMARY:ROL gJE Ost Roßweiner SV vs VfL Waldheim 54 (512034)
UID:395ecf16-1a78-4acf-8d53-8ff96535315f
STATUS:CONFIRMED
DESCRIPTION:Regionsoberliga gem. E-Jugend\nBegegnungs-Nr: 512034\nHeim: Roßweiner SV\nGast: VfL Waldheim 54\nHalle: Stadt-SH Roßwein (31203)\nAdresse: Grafestraße 1\, 04741 Roßwein\n
LOCATION:Stadt-SH Roßwein (31203): Grafestraße 1\, 04741 Roßwein
CATEGORIES:Saison 2025/26
END:VEVENT
BEGIN:VEVENT
DTSTAMP:20260425T012932Z
DTSTART;TZID=Europe/Berlin:20251102T120000
DTEND;TZID=Europe/Berlin:20251102T130000
SUMMARY:ROL gJE Ost Roßweiner SV vs VfB Blau-Gelb 21 Flöha (512026)
UID:7a9844ce-36f9-4032-9c06-90ff3525ad2e
STATUS:CONFIRMED
DESCRIPTION:Regionsoberliga gem. E-Jugend\nBegegnungs-Nr: 512026\nHeim: Roßweiner SV\nGast: VfB Blau-Gelb 21 Flöha\nHalle: Sportarena \"Arche\" Hausdorf (31207)\nAdresse: Hauptstr. 34 c\, 04680 Hausdorf\n
LOCATION:Sportarena \"Arche\" Hausdorf (31207): Hauptstr. 34 c\, 04680 Hausdorf
CATEGORIES:Saison 2025/26
END:VEVENT
BEGIN:VEVENT
DTSTAMP:20260425T012932Z
DTSTART;TZID=Europe/Berlin:20251026T120000
DTEND;TZID=Europe/Berlin:20251026T130000
SUMMARY:ROL gJE Ost Roßweiner SV vs Fortschritt Mittweida (512024)
UID:85ecb2b9-00cf-4157-b023-9eb4c617b579
STATUS:CONFIRMED
DESCRIPTION:Regionsoberliga gem. E-Jugend\nBegegnungs-Nr: 512024\nHeim: Roßweiner SV\nGast: Fortschritt Mittweida\nHalle: Stadt-SH Roßwein (31203)\nAdresse: Grafestraße 1\, 04741 Roßwein\n
LOCATION:Stadt-SH Roßwein (31203): Grafestraße 1\, 04741 Roßwein
CATEGORIES:Saison 2025/26
END:VEVENT
BEGIN:VEVENT
DTSTAMP:20260425T012932Z
DTSTART;TZID=Europe/Berlin:20251026T100000
DTEND;TZID=Europe/Berlin:20251026T110000
SUMMARY:ROL gJE Ost Roßweiner SV vs Burgstädter HC (512022)
UID:5b58df81-1a17-41b1-88ce-cfaa2d097854
STATUS:CONFIRMED
DESCRIPTION:Regionsoberliga gem. E-Jugend\nBegegnungs-Nr: 512022\nHeim: Roßweiner SV\nGast: Burgstädter HC\nHalle: Stadt-SH Roßwein (31203)\nAdresse: Grafestraße 1\, 04741 Roßwein\n
LOCATION:Stadt-SH Roßwein (31203): Grafestraße 1\, 04741 Roßwein
CATEGORIES:Saison 2025/26
END:VEVENT
BEGIN:VEVENT
DTSTAMP:20260425T012932Z
DTSTART;TZID=Europe/Berlin:20250907T110000
DTEND;TZID=Europe/Berlin:20250907T120000
SUMMARY:ROL gJE Ost Roßweiner SV vs Union Chemnitz II (512008)
UID:e653a732-b8b9-4e6e-aae7-8b5617fc0442
STATUS:CONFIRMED
LAST-MODIFIED:20251108T075320Z
DESCRIPTION:Regionsoberliga gem. E-Jugend\nBegegnungs-Nr: 512008\nHeim: Roßweiner SV\nGast: Union Chemnitz II\nHalle: Zweifeldhalle Claußnitz (32218)\nAdresse: Daniel-Gottlob-Türk-Str. 3\, 09236 Claußnitz\n
LOCATION:Zweifeldhalle Claußnitz (32218): Daniel-Gottlob-Türk-Str. 3\, 09236 Claußnitz
CATEGORIES:Saison 2025/26
END:VEVENT
BEGIN:VEVENT
DTSTAMP:20260425T012932Z
DTSTART;TZID=Europe/Berlin:20260322T110000
DTEND;TZID=Europe/Berlin:20260322T120000
SUMMARY:ROL gJE Ost TSV Penig vs Roßweiner SV (512088)
UID:4771c42e-8ea0-4e4c-89b9-1ed86a98c5a2
STATUS:CONFIRMED
DESCRIPTION:Regionsoberliga gem. E-Jugend\nBegegnungs-Nr: 512088\nHeim: TSV Penig\nGast: Roßweiner SV\nHalle: SH \"Am Schwanenteich\" Mittweida (32207)\nAdresse: Leipziger Straße 15\, 09648 Mittweida\n
LOCATION:SH \"Am Schwanenteich\" Mittweida (32207): Leipziger Straße 15\, 09648 Mittweida
CATEGORIES:Saison 2025/26
END:VEVENT
BEGIN:VEVENT
DTSTAMP:20260425T012932Z
DTSTART;TZID=Europe/Berlin:20260322T100000
DTEND;TZID=Europe/Berlin:20260322T110000
SUMMARY:ROL gJE Ost Fortschritt Mittweida vs Roßweiner SV (512087)
UID:77c0cf7b-726f-4d52-8ac9-c46549a14932
STATUS:CONFIRMED
DESCRIPTION:Regionsoberliga gem. E-Jugend\nBegegnungs-Nr: 512087\nHeim: Fortschritt Mittweida\nGast: Roßweiner SV\nHalle: SH \"Am Schwanenteich\" Mittweida (32207)\nAdresse: Leipziger Straße 15\, 09648 Mittweida\n
LOCATION:SH \"Am Schwanenteich\" Mittweida (32207): Leipziger Straße 15\, 09648 Mittweida
CATEGORIES:Saison 2025/26
END:VEVENT
BEGIN:VEVENT
DTSTAMP:20260425T012932Z
DTSTART;TZID=Europe/Berlin:20260228T120000
DTEND;TZID=Europe/Berlin:20260228T130000
SUMMARY:ROL gJE Ost VfB Blau-Gelb 21 Flöha vs Roßweiner SV (512077)
UID:6773c133-b4f9-4ad3-b618-187718c404f3
STATUS:CONFIRMED
DESCRIPTION:Regionsoberliga gem. E-Jugend\nBegegnungs-Nr: 512077\nHeim: VfB Blau-Gelb 21 Flöha\nGast: Roßweiner SV\nHalle: SH S.-v.-Pufendorf-Gymnasium Flöha (32404)\nAdresse: Turnerstr. 16\, 09557 Flöha\n
LOCATION:SH S.-v.-Pufendorf-Gymnasium Flöha (32404): Turnerstr. 16\, 09557 Flöha
CATEGORIES:Saison 2025/26
END:VEVENT
BEGIN:VEVENT
DTSTAMP:20260425T012932Z
DTSTART;TZID=Europe/Berlin:20260228T110000
DTEND;TZID=Europe/Berlin:20260228T120000
SUMMARY:ROL gJE Ost TSV Einheit Claußnitz vs Roßweiner SV (512076)
UID:d15d0677-db62-4b9a-9ccb-4c3937547a00
STATUS:CONFIRMED
DESCRIPTION:Regionsoberliga gem. E-Jugend\nBegegnungs-Nr: 512076\nHeim: TSV Einheit Claußnitz\nGast: Roßweiner SV\nHalle: SH S.-v.-Pufendorf-Gymnasium Flöha (32404)\nAdresse: Turnerstr. 16\, 09557 Flöha\n
LOCATION:SH S.-v.-Pufendorf-Gymnasium Flöha (32404): Turnerstr. 16\, 09557 Flöha
CATEGORIES:Saison 2025/26
END:VEVENT
BEGIN:VEVENT
DTSTAMP:20260425T012932Z
DTSTART;TZID=Europe/Berlin:20260412T140000
DTEND;TZID=Europe/Berlin:20260412T150000
SUMMARY:ROL gJE Ost Union Chemnitz II vs Roßweiner SV (512059)
UID:9a49e05b-a9f6-4563-bfe6-69b056fda889
STATUS:CONFIRMED
LAST-MODIFIED:20260219T212743Z
DESCRIPTION:Regionsoberliga gem. E-Jugend\nBegegnungs-Nr: 512059\nHeim: Union Chemnitz II\nGast: Roßweiner SV\nHalle: Sachsenhalle Chemnitz (32101)\nAdresse: Straße Usti nad Labem 275\, 09119 Chemnitz\n
LOCATION:Sachsenhalle Chemnitz (32101): Straße Usti nad Labem 275\, 09119 Chemnitz
CATEGORIES:Saison 2025/26
END:VEVENT
BEGIN:VEVENT
DTSTAMP:20260425T012932Z
DTSTART;TZID=Europe/Berlin:20251115T150000
DTEND;TZID=Europe/Berlin:20251115T160000
SUMMARY:ROL gJE Ost VfL Waldheim 54 vs Roßweiner SV (512035)
UID:0522ff5e-86a2-4025-8dba-70d60e97d58b
STATUS:CONFIRMED
DESCRIPTION:Regionsoberliga gem. E-Jugend\nBegegnungs-Nr: 512035\nHeim: VfL Waldheim 54\nGast: Roßweiner SV\nHalle: Stadt-SH Roßwein (31203)\nAdresse: Grafestraße 1\, 04741 Roßwein\n
LOCATION:Stadt-SH Roßwein (31203): Grafestraße 1\, 04741 Roßwein
CATEGORIES:Saison 2025/26
END:VEVENT
BEGIN:VEVENT
DTSTAMP:20260425T012932Z
DTSTART;TZID=Europe/Berlin:20251102T110000
DTEND;TZID=Europe/Berlin:20251102T120000
SUMMARY:ROL gJE Ost Geringswalder HV vs Roßweiner SV (512025)
UID:4b02fac5-4c40-4c8e-aabd-7f40a7608dc0
STATUS:CONFIRMED
DESCRIPTION:Regionsoberliga gem. E-Jugend\nBegegnungs-Nr: 512025\nHeim: Geringswalder HV\nGast: Roßweiner SV\nHalle: Sportarena \"Arche\" Hausdorf (31207)\nAdresse: Hauptstr. 34 c\, 04680 Hausdorf\n
LOCATION:Sportarena \"Arche\" Hausdorf (31207): Hauptstr. 34 c\, 04680 Hausdorf
CATEGORIES:Saison 2025/26
END:VEVENT
BEGIN:VEVENT
DTSTAMP:20260425T012932Z
DTSTART;TZID=Europe/Berlin:20250907T100000
DTEND;TZID=Europe/Berlin:20250907T110000
SUMMARY:ROL gJE Ost TSV Einheit Claußnitz II vs Roßweiner SV (512007)
UID:49fe8d6f-8585-448b-950b-db65a57cfe0c
STATUS:CONFIRMED
LAST-MODIFIED:20251108T074955Z
DESCRIPTION:Regionsoberliga gem. E-Jugend\nBegegnungs-Nr: 512007\nHeim: TSV Einheit Claußnitz II\nGast: Roßweiner SV\nHalle: Zweifeldhalle Claußnitz (32218)\nAdresse: Daniel-Gottlob-Türk-Str. 3\, 09236 Claußnitz\n
LOCATION:Zweifeldhalle Claußnitz (32218): Daniel-Gottlob-Türk-Str. 3\, 09236 Claußnitz
CATEGORIES:Saison 2025/26
END:VEVENT
END:VCALENDAR
