BEGIN:VCALENDAR
PRODID:-//nuDatenautomaten//framework iCal4j //DE
VERSION:2.0
CALSCALE:GREGORIAN
BEGIN:VTIMEZONE
TZID:Europe/Berlin
LAST-MODIFIED:20260306T231828Z
TZURL:https://www.tzurl.org/zoneinfo/Europe/Berlin
X-LIC-LOCATION:Europe/Berlin
X-PROLEPTIC-TZNAME:LMT
BEGIN:STANDARD
TZNAME:CET
TZOFFSETFROM:+005328
TZOFFSETTO:+0100
DTSTART:18930401T000000
END:STANDARD
BEGIN:DAYLIGHT
TZNAME:CEST
TZOFFSETFROM:+0100
TZOFFSETTO:+0200
DTSTART:19160430T230000
RDATE:19400401T020000
RDATE:19430329T020000
RDATE:19460414T020000
RDATE:19470406T030000
RDATE:19480418T020000
RDATE:19490410T020000
RDATE:19800406T020000
END:DAYLIGHT
BEGIN:STANDARD
TZNAME:CET
TZOFFSETFROM:+0200
TZOFFSETTO:+0100
DTSTART:19161001T010000
RDATE:19421102T030000
RDATE:19431004T030000
RDATE:19441002T030000
RDATE:19451118T030000
RDATE:19461007T030000
END:STANDARD
BEGIN:DAYLIGHT
TZNAME:CEST
TZOFFSETFROM:+0100
TZOFFSETTO:+0200
DTSTART:19170416T020000
RRULE:FREQ=YEARLY;UNTIL=19180415T010000Z;BYMONTH=4;BYDAY=3MO
END:DAYLIGHT
BEGIN:STANDARD
TZNAME:CET
TZOFFSETFROM:+0200
TZOFFSETTO:+0100
DTSTART:19170917T030000
RRULE:FREQ=YEARLY;UNTIL=19180916T010000Z;BYMONTH=9;BYDAY=3MO
END:STANDARD
BEGIN:DAYLIGHT
TZNAME:CEST
TZOFFSETFROM:+0100
TZOFFSETTO:+0200
DTSTART:19440403T020000
RRULE:FREQ=YEARLY;UNTIL=19450402T010000Z;BYMONTH=4;BYDAY=1MO
END:DAYLIGHT
BEGIN:DAYLIGHT
TZNAME:CEMT
TZOFFSETFROM:+0200
TZOFFSETTO:+0300
DTSTART:19450524T020000
RDATE:19470511T030000
END:DAYLIGHT
BEGIN:DAYLIGHT
TZNAME:CEST
TZOFFSETFROM:+0300
TZOFFSETTO:+0200
DTSTART:19450924T030000
RDATE:19470629T030000
END:DAYLIGHT
BEGIN:STANDARD
TZNAME:CET
TZOFFSETFROM:+0100
TZOFFSETTO:+0100
DTSTART:19460101T000000
RDATE:19800101T000000
END:STANDARD
BEGIN:STANDARD
TZNAME:CET
TZOFFSETFROM:+0200
TZOFFSETTO:+0100
DTSTART:19471005T030000
RRULE:FREQ=YEARLY;UNTIL=19491002T010000Z;BYMONTH=10;BYDAY=1SU
END:STANDARD
BEGIN:STANDARD
TZNAME:CET
TZOFFSETFROM:+0200
TZOFFSETTO:+0100
DTSTART:19800928T030000
RRULE:FREQ=YEARLY;UNTIL=19950924T010000Z;BYMONTH=9;BYDAY=-1SU
END:STANDARD
BEGIN:DAYLIGHT
TZNAME:CEST
TZOFFSETFROM:+0100
TZOFFSETTO:+0200
DTSTART:19810329T020000
RRULE:FREQ=YEARLY;BYMONTH=3;BYDAY=-1SU
END:DAYLIGHT
BEGIN:STANDARD
TZNAME:CET
TZOFFSETFROM:+0200
TZOFFSETTO:+0100
DTSTART:19961027T030000
RRULE:FREQ=YEARLY;BYMONTH=10;BYDAY=-1SU
END:STANDARD
END:VTIMEZONE
BEGIN:VEVENT
DTSTAMP:20260424T140620Z
DTSTART;TZID=Europe/Berlin:20260329T130000
DTEND;TZID=Europe/Berlin:20260329T140000
SUMMARY:Regionsoberliga mCJ OHC Bernstadt vs SG Cunewalde/Sohland (8118)
UID:4247800d-8e66-492e-8f0f-da21a0ebce03
STATUS:CONFIRMED
LAST-MODIFIED:20260331T195122Z
DESCRIPTION:Regionsoberliga  mCJ\nBegegnungs-Nr: 8118\nHeim: OHC Bernstadt\nGast: SG Cunewalde/Sohland\nHalle: Sporthalle \"Pließnitztal\" Bernstadt (34108)\nAdresse: Am Pließnitztal 3\, 02748 Bernstadt a.d. Eigen OT Kunnersdorf\n
LOCATION:Sporthalle \"Pließnitztal\" Bernstadt (34108): Am Pließnitztal 3\, 02748 Bernstadt a.d. Eigen OT Kunnersdorf
CATEGORIES:Saison 2025/26
END:VEVENT
BEGIN:VEVENT
DTSTAMP:20260424T140620Z
DTSTART;TZID=Europe/Berlin:20250921T140000
DTEND;TZID=Europe/Berlin:20250921T150000
SUMMARY:Regionsoberliga mCJ OHC Bernstadt vs Stahl Rietschen (8023)
UID:4a66e3f6-2ac4-47f0-b3d5-8bdf6b095fc0
STATUS:CONFIRMED
LAST-MODIFIED:20250924T195218Z
DESCRIPTION:Regionsoberliga  mCJ\nBegegnungs-Nr: 8023\nHeim: OHC Bernstadt\nGast: Stahl Rietschen\nHalle: Sporthalle \"Pließnitztal\" Bernstadt (34108)\nAdresse: Am Pließnitztal 3\, 02748 Bernstadt a.d. Eigen OT Kunnersdorf\n
LOCATION:Sporthalle \"Pließnitztal\" Bernstadt (34108): Am Pließnitztal 3\, 02748 Bernstadt a.d. Eigen OT Kunnersdorf
CATEGORIES:Saison 2025/26
END:VEVENT
BEGIN:VEVENT
DTSTAMP:20260424T140620Z
DTSTART;TZID=Europe/Berlin:20251026T090000
DTEND;TZID=Europe/Berlin:20251026T100000
SUMMARY:Regionsoberliga mCJ OHC Bernstadt vs HSV 1923 Pulsnitz (8031)
UID:46955613-eef5-437c-b805-81e85aebf6f3
STATUS:CONFIRMED
LAST-MODIFIED:20251103T043524Z
DESCRIPTION:Regionsoberliga  mCJ\nBegegnungs-Nr: 8031\nHeim: OHC Bernstadt\nGast: HSV 1923 Pulsnitz\nHalle: Sporthalle \"Pließnitztal\" Bernstadt (34108)\nAdresse: Am Pließnitztal 3\, 02748 Bernstadt a.d. Eigen OT Kunnersdorf\n
LOCATION:Sporthalle \"Pließnitztal\" Bernstadt (34108): Am Pließnitztal 3\, 02748 Bernstadt a.d. Eigen OT Kunnersdorf
CATEGORIES:Saison 2025/26
END:VEVENT
BEGIN:VEVENT
DTSTAMP:20260424T140620Z
DTSTART;TZID=Europe/Berlin:20251108T130000
DTEND;TZID=Europe/Berlin:20251108T140000
SUMMARY:Regionsoberliga mCJ OHC Bernstadt vs HVH Kamenz (8045)
UID:e1bfe456-f5d6-4714-aa9c-01927db40b20
STATUS:CONFIRMED
LAST-MODIFIED:20251111T161058Z
DESCRIPTION:Regionsoberliga  mCJ\nBegegnungs-Nr: 8045\nHeim: OHC Bernstadt\nGast: HVH Kamenz\nHalle: Sporthalle \"Pließnitztal\" Bernstadt (34108)\nAdresse: Am Pließnitztal 3\, 02748 Bernstadt a.d. Eigen OT Kunnersdorf\n
LOCATION:Sporthalle \"Pließnitztal\" Bernstadt (34108): Am Pließnitztal 3\, 02748 Bernstadt a.d. Eigen OT Kunnersdorf
CATEGORIES:Saison 2025/26
END:VEVENT
BEGIN:VEVENT
DTSTAMP:20260424T140620Z
DTSTART;TZID=Europe/Berlin:20251130T110000
DTEND;TZID=Europe/Berlin:20251130T120000
SUMMARY:Regionsoberliga mCJ OHC Bernstadt vs Radeberger SV II (8059)
UID:5622a8d9-892e-44dd-944f-16a289876133
STATUS:CONFIRMED
LAST-MODIFIED:20251201T063908Z
DESCRIPTION:Regionsoberliga  mCJ\nBegegnungs-Nr: 8059\nHeim: OHC Bernstadt\nGast: Radeberger SV II\nHalle: Sporthalle \"Pließnitztal\" Bernstadt (34108)\nAdresse: Am Pließnitztal 3\, 02748 Bernstadt a.d. Eigen OT Kunnersdorf\n
LOCATION:Sporthalle \"Pließnitztal\" Bernstadt (34108): Am Pließnitztal 3\, 02748 Bernstadt a.d. Eigen OT Kunnersdorf
CATEGORIES:Saison 2025/26
END:VEVENT
BEGIN:VEVENT
DTSTAMP:20260424T140620Z
DTSTART;TZID=Europe/Berlin:20260125T130000
DTEND;TZID=Europe/Berlin:20260125T140000
SUMMARY:Regionsoberliga mCJ OHC Bernstadt vs TBSV Neugersdorf (8083)
UID:9bb3bf30-6fc3-4360-a954-78dd47d09c9a
STATUS:CONFIRMED
LAST-MODIFIED:20260301T100244Z
DESCRIPTION:Regionsoberliga  mCJ\nBegegnungs-Nr: 8083\nHeim: OHC Bernstadt\nGast: TBSV Neugersdorf\nHalle: Sporthalle \"Pließnitztal\" Bernstadt (34108)\nAdresse: Am Pließnitztal 3\, 02748 Bernstadt a.d. Eigen OT Kunnersdorf\n
LOCATION:Sporthalle \"Pließnitztal\" Bernstadt (34108): Am Pließnitztal 3\, 02748 Bernstadt a.d. Eigen OT Kunnersdorf
CATEGORIES:Saison 2025/26
END:VEVENT
BEGIN:VEVENT
DTSTAMP:20260424T140620Z
DTSTART;TZID=Europe/Berlin:20260228T131500
DTEND;TZID=Europe/Berlin:20260228T141500
SUMMARY:Regionsoberliga mCJ HSV 1923 Pulsnitz vs OHC Bernstadt (8097)
UID:e496c220-a636-4869-a193-359711b6bd98
STATUS:CONFIRMED
LAST-MODIFIED:20260301T100607Z
DESCRIPTION:Regionsoberliga  mCJ\nBegegnungs-Nr: 8097\nHeim: HSV 1923 Pulsnitz\nGast: OHC Bernstadt\nHalle: Sportkomplex Pulsnitz (34208)\nAdresse: Hempelstr. 8\, 01896 Pulsnitz\n
LOCATION:Sportkomplex Pulsnitz (34208): Hempelstr. 8\, 01896 Pulsnitz
CATEGORIES:Saison 2025/26
END:VEVENT
BEGIN:VEVENT
DTSTAMP:20260424T140620Z
DTSTART;TZID=Europe/Berlin:20260321T160000
DTEND;TZID=Europe/Berlin:20260321T170000
SUMMARY:Regionsoberliga mCJ HVH Kamenz vs OHC Bernstadt (8111)
UID:715b1872-c00c-4c21-a460-d277f62eea80
STATUS:CONFIRMED
LAST-MODIFIED:20260326T134409Z
DESCRIPTION:Regionsoberliga  mCJ\nBegegnungs-Nr: 8111\nHeim: HVH Kamenz\nGast: OHC Bernstadt\nHalle: SH Albert-Schweitzer-Gymnasium Kamenz (34204)\nAdresse: Am Flugplatz\, 01917 Kamenz\, Parkplatz - Macherstraße 142\n
LOCATION:SH Albert-Schweitzer-Gymnasium Kamenz (34204): Am Flugplatz\, 01917 Kamenz\, Parkplatz - Macherstraße 142
CATEGORIES:Saison 2025/26
END:VEVENT
BEGIN:VEVENT
DTSTAMP:20260424T140620Z
DTSTART;TZID=Europe/Berlin:20260422T182000
DTEND;TZID=Europe/Berlin:20260422T192000
SUMMARY:Regionsoberliga mCJ Radeberger SV II vs OHC Bernstadt (8125)
UID:5da5b93d-e566-4e21-93f8-a205307800c2
STATUS:CONFIRMED
LAST-MODIFIED:20260316T134225Z
DESCRIPTION:Regionsoberliga  mCJ\nBegegnungs-Nr: 8125\nHeim: Radeberger SV II\nGast: OHC Bernstadt\nHalle: 3-Feld-Halle-GY Radeberg (34217)\nAdresse: Dr. Albert-Dietze Strasse\, 01454 Radeberg\n
LOCATION:3-Feld-Halle-GY Radeberg (34217): Dr. Albert-Dietze Strasse\, 01454 Radeberg
CATEGORIES:Saison 2025/26
END:VEVENT
BEGIN:VEVENT
DTSTAMP:20260424T140620Z
DTSTART;TZID=Europe/Berlin:20260326T180000
DTEND;TZID=Europe/Berlin:20260326T190000
SUMMARY:Regionsoberliga mCJ Stahl Rietschen vs OHC Bernstadt (8089)
UID:736f85f7-bb5d-4f03-b791-5d257df96546
STATUS:CONFIRMED
LAST-MODIFIED:20260331T195015Z
DESCRIPTION:Regionsoberliga  mCJ\nBegegnungs-Nr: 8089\nHeim: Stahl Rietschen\nGast: OHC Bernstadt\nHalle: Oberlausitz-SH Rietschen (34403)\nAdresse: Am Festplatz 1\, 02956 Rietschen\n
LOCATION:Oberlausitz-SH Rietschen (34403): Am Festplatz 1\, 02956 Rietschen
CATEGORIES:Saison 2025/26
END:VEVENT
BEGIN:VEVENT
DTSTAMP:20260424T140620Z
DTSTART;TZID=Europe/Berlin:20251213T122000
DTEND;TZID=Europe/Berlin:20251213T132000
SUMMARY:Regionsoberliga mCJ TBSV Neugersdorf vs OHC Bernstadt (8017)
UID:3cf2dfd7-f860-4eed-9203-45532cc60cc5
STATUS:CONFIRMED
LAST-MODIFIED:20251230T205659Z
DESCRIPTION:Regionsoberliga  mCJ\nBegegnungs-Nr: 8017\nHeim: TBSV Neugersdorf\nGast: OHC Bernstadt\nHalle: FSZ Oberland \"Albert Schweitzer\" (34112)\nAdresse: Friedrich-Ebert-Str.27\, 02730 Ebersbach-Neugersdorf\n
LOCATION:FSZ Oberland \"Albert Schweitzer\" (34112): Friedrich-Ebert-Str.27\, 02730 Ebersbach-Neugersdorf
CATEGORIES:Saison 2025/26
END:VEVENT
BEGIN:VEVENT
DTSTAMP:20260424T140620Z
DTSTART;TZID=Europe/Berlin:20251221T113000
DTEND;TZID=Europe/Berlin:20251221T123000
SUMMARY:Regionsoberliga mCJ SG Cunewalde/Sohland vs OHC Bernstadt (8052)
UID:65f08b93-267b-4689-8401-489627df1cf3
STATUS:CONFIRMED
LAST-MODIFIED:20251230T205915Z
DESCRIPTION:Regionsoberliga  mCJ\nBegegnungs-Nr: 8052\nHeim: SG Cunewalde/Sohland\nGast: OHC Bernstadt\nHalle: \"Oberland-Sporthalle\" Sohland (34501)\nAdresse: G. - Hauptmann - Str. 4 A\, 02689 Sohland\n
LOCATION:\"Oberland-Sporthalle\" Sohland (34501): G. - Hauptmann - Str. 4 A\, 02689 Sohland
CATEGORIES:Saison 2025/26
END:VEVENT
END:VCALENDAR
