BEGIN:VCALENDAR
PRODID:-//nuDatenautomaten//framework iCal4j //DE
VERSION:2.0
CALSCALE:GREGORIAN
BEGIN:VTIMEZONE
TZID:Europe/Berlin
LAST-MODIFIED:20260306T231828Z
TZURL:https://www.tzurl.org/zoneinfo/Europe/Berlin
X-LIC-LOCATION:Europe/Berlin
X-PROLEPTIC-TZNAME:LMT
BEGIN:STANDARD
TZNAME:CET
TZOFFSETFROM:+005328
TZOFFSETTO:+0100
DTSTART:18930401T000000
END:STANDARD
BEGIN:DAYLIGHT
TZNAME:CEST
TZOFFSETFROM:+0100
TZOFFSETTO:+0200
DTSTART:19160430T230000
RDATE:19400401T020000
RDATE:19430329T020000
RDATE:19460414T020000
RDATE:19470406T030000
RDATE:19480418T020000
RDATE:19490410T020000
RDATE:19800406T020000
END:DAYLIGHT
BEGIN:STANDARD
TZNAME:CET
TZOFFSETFROM:+0200
TZOFFSETTO:+0100
DTSTART:19161001T010000
RDATE:19421102T030000
RDATE:19431004T030000
RDATE:19441002T030000
RDATE:19451118T030000
RDATE:19461007T030000
END:STANDARD
BEGIN:DAYLIGHT
TZNAME:CEST
TZOFFSETFROM:+0100
TZOFFSETTO:+0200
DTSTART:19170416T020000
RRULE:FREQ=YEARLY;UNTIL=19180415T010000Z;BYMONTH=4;BYDAY=3MO
END:DAYLIGHT
BEGIN:STANDARD
TZNAME:CET
TZOFFSETFROM:+0200
TZOFFSETTO:+0100
DTSTART:19170917T030000
RRULE:FREQ=YEARLY;UNTIL=19180916T010000Z;BYMONTH=9;BYDAY=3MO
END:STANDARD
BEGIN:DAYLIGHT
TZNAME:CEST
TZOFFSETFROM:+0100
TZOFFSETTO:+0200
DTSTART:19440403T020000
RRULE:FREQ=YEARLY;UNTIL=19450402T010000Z;BYMONTH=4;BYDAY=1MO
END:DAYLIGHT
BEGIN:DAYLIGHT
TZNAME:CEMT
TZOFFSETFROM:+0200
TZOFFSETTO:+0300
DTSTART:19450524T020000
RDATE:19470511T030000
END:DAYLIGHT
BEGIN:DAYLIGHT
TZNAME:CEST
TZOFFSETFROM:+0300
TZOFFSETTO:+0200
DTSTART:19450924T030000
RDATE:19470629T030000
END:DAYLIGHT
BEGIN:STANDARD
TZNAME:CET
TZOFFSETFROM:+0100
TZOFFSETTO:+0100
DTSTART:19460101T000000
RDATE:19800101T000000
END:STANDARD
BEGIN:STANDARD
TZNAME:CET
TZOFFSETFROM:+0200
TZOFFSETTO:+0100
DTSTART:19471005T030000
RRULE:FREQ=YEARLY;UNTIL=19491002T010000Z;BYMONTH=10;BYDAY=1SU
END:STANDARD
BEGIN:STANDARD
TZNAME:CET
TZOFFSETFROM:+0200
TZOFFSETTO:+0100
DTSTART:19800928T030000
RRULE:FREQ=YEARLY;UNTIL=19950924T010000Z;BYMONTH=9;BYDAY=-1SU
END:STANDARD
BEGIN:DAYLIGHT
TZNAME:CEST
TZOFFSETFROM:+0100
TZOFFSETTO:+0200
DTSTART:19810329T020000
RRULE:FREQ=YEARLY;BYMONTH=3;BYDAY=-1SU
END:DAYLIGHT
BEGIN:STANDARD
TZNAME:CET
TZOFFSETFROM:+0200
TZOFFSETTO:+0100
DTSTART:19961027T030000
RRULE:FREQ=YEARLY;BYMONTH=10;BYDAY=-1SU
END:STANDARD
END:VTIMEZONE
BEGIN:VEVENT
DTSTAMP:20260426T031303Z
DTSTART;TZID=Europe/Berlin:20260313T200000
DTEND;TZID=Europe/Berlin:20260313T213000
SUMMARY:Regionalliga Sachsen mAJ HC Elbflorenz 2006 II vs NSG SV04/HCE (16065)
UID:1e11fe0e-e371-46e4-bfca-5a4247e32d39
STATUS:CONFIRMED
LAST-MODIFIED:20260315T132041Z
DESCRIPTION:Regionalliga Sachsen männl. A-Jugend\nBegegnungs-Nr: 16065\nHeim: HC Elbflorenz 2006 II\nGast: NSG SV04/HCE\nHalle: SH Kurt-Helbig Plauen (32701)\nAdresse: Comeniusstr. 15\, 08523 Plauen\n
LOCATION:SH Kurt-Helbig Plauen (32701): Comeniusstr. 15\, 08523 Plauen
CATEGORIES:Saison 2025/26
END:VEVENT
BEGIN:VEVENT
DTSTAMP:20260426T031303Z
DTSTART;TZID=Europe/Berlin:20260410T183000
DTEND;TZID=Europe/Berlin:20260410T200000
SUMMARY:Regionalliga Sachsen mAJ HC Elbflorenz 2006 II vs SG MoGoNo Leipzig (16058)
UID:9ccd9757-3910-4bc4-850b-0cc40a4a2ead
STATUS:CONFIRMED
LAST-MODIFIED:20260305T163930Z
DESCRIPTION:Regionalliga Sachsen männl. A-Jugend\nBegegnungs-Nr: 16058\nHeim: HC Elbflorenz 2006 II\nGast: SG MoGoNo Leipzig\nHalle: BallsportARENA Dresden - 2.Spielfeld (33137)\nAdresse: Weißeritzstraße 4\, 01067 Dresden\n
LOCATION:BallsportARENA Dresden - 2.Spielfeld (33137): Weißeritzstraße 4\, 01067 Dresden
CATEGORIES:Saison 2025/26
END:VEVENT
BEGIN:VEVENT
DTSTAMP:20260426T031303Z
DTSTART;TZID=Europe/Berlin:20260416T193000
DTEND;TZID=Europe/Berlin:20260416T210000
SUMMARY:Regionalliga Sachsen mAJ HC Elbflorenz 2006 II vs Radebeuler HV (16054)
UID:a028c668-fa45-4eea-a44f-2e51e9b74579
STATUS:CONFIRMED
LAST-MODIFIED:20260204T094033Z
DESCRIPTION:Regionalliga Sachsen männl. A-Jugend\nBegegnungs-Nr: 16054\nHeim: HC Elbflorenz 2006 II\nGast: Radebeuler HV\nHalle: BallsportARENA Dresden (33133)\nAdresse: Weißeritzstraße 4\, 01067 Dresden\n
LOCATION:BallsportARENA Dresden (33133): Weißeritzstraße 4\, 01067 Dresden
CATEGORIES:Saison 2025/26
END:VEVENT
BEGIN:VEVENT
DTSTAMP:20260426T031303Z
DTSTART;TZID=Europe/Berlin:20260111T130000
DTEND;TZID=Europe/Berlin:20260111T143000
SUMMARY:Regionalliga Sachsen mAJ HC Elbflorenz 2006 II vs HVH Kamenz (16040)
UID:44344e87-e393-4807-b4c9-9b429a1b0645
STATUS:CONFIRMED
LAST-MODIFIED:20260206T164302Z
DESCRIPTION:Regionalliga Sachsen männl. A-Jugend\nBegegnungs-Nr: 16040\nHeim: HC Elbflorenz 2006 II\nGast: HVH Kamenz\nHalle: BallsportARENA Dresden (33133)\nAdresse: Weißeritzstraße 4\, 01067 Dresden\n
LOCATION:BallsportARENA Dresden (33133): Weißeritzstraße 4\, 01067 Dresden
CATEGORIES:Saison 2025/26
END:VEVENT
BEGIN:VEVENT
DTSTAMP:20260426T031303Z
DTSTART;TZID=Europe/Berlin:20251206T100000
DTEND;TZID=Europe/Berlin:20251206T113000
SUMMARY:Regionalliga Sachsen mAJ HC Elbflorenz 2006 II vs SG LVB (16033)
UID:cea7d840-e708-4c79-a60a-fba34f22bc21
STATUS:CONFIRMED
LAST-MODIFIED:20251230T084824Z
DESCRIPTION:Regionalliga Sachsen männl. A-Jugend\nBegegnungs-Nr: 16033\nHeim: HC Elbflorenz 2006 II\nGast: SG LVB\nHalle: BallsportARENA Dresden (33133)\nAdresse: Weißeritzstraße 4\, 01067 Dresden\n
LOCATION:BallsportARENA Dresden (33133): Weißeritzstraße 4\, 01067 Dresden
CATEGORIES:Saison 2025/26
END:VEVENT
BEGIN:VEVENT
DTSTAMP:20260426T031303Z
DTSTART;TZID=Europe/Berlin:20251114T181500
DTEND;TZID=Europe/Berlin:20251114T194500
SUMMARY:Regionalliga Sachsen mAJ HC Elbflorenz 2006 II vs HSV Dresden (16025)
UID:ea2c913a-e140-4ac8-ac67-fb700a31fa1b
STATUS:CONFIRMED
LAST-MODIFIED:20251122T153359Z
DESCRIPTION:Regionalliga Sachsen männl. A-Jugend\nBegegnungs-Nr: 16025\nHeim: HC Elbflorenz 2006 II\nGast: HSV Dresden\nHalle: BallsportARENA Dresden (33133)\nAdresse: Weißeritzstraße 4\, 01067 Dresden\n
LOCATION:BallsportARENA Dresden (33133): Weißeritzstraße 4\, 01067 Dresden
CATEGORIES:Saison 2025/26
END:VEVENT
BEGIN:VEVENT
DTSTAMP:20260426T031303Z
DTSTART;TZID=Europe/Berlin:20251025T100000
DTEND;TZID=Europe/Berlin:20251025T113000
SUMMARY:Regionalliga Sachsen mAJ HC Elbflorenz 2006 II vs HSV Weinböhla (16019)
UID:dd128f67-e1dd-4556-b317-320ee338504a
STATUS:CONFIRMED
LAST-MODIFIED:20251029T211321Z
DESCRIPTION:Regionalliga Sachsen männl. A-Jugend\nBegegnungs-Nr: 16019\nHeim: HC Elbflorenz 2006 II\nGast: HSV Weinböhla\nHalle: JOYNEXT Arena Dresden (Spielfeld 3) (33112c)\nAdresse: Magdeburger Straße 10\, 01067 Dresden\n
LOCATION:JOYNEXT Arena Dresden (Spielfeld 3) (33112c): Magdeburger Straße 10\, 01067 Dresden
CATEGORIES:Saison 2025/26
END:VEVENT
BEGIN:VEVENT
DTSTAMP:20260426T031303Z
DTSTART;TZID=Europe/Berlin:20250920T160000
DTEND;TZID=Europe/Berlin:20250920T173000
SUMMARY:Regionalliga Sachsen mAJ HC Elbflorenz 2006 II vs HSG Freiberg (16015)
UID:85afa842-1fb7-48d0-a654-69d7562f57f1
STATUS:CONFIRMED
LAST-MODIFIED:20251023T091105Z
DESCRIPTION:Regionalliga Sachsen männl. A-Jugend\nBegegnungs-Nr: 16015\nHeim: HC Elbflorenz 2006 II\nGast: HSG Freiberg\nHalle: BallsportARENA Dresden (33133)\nAdresse: Weißeritzstraße 4\, 01067 Dresden\n
LOCATION:BallsportARENA Dresden (33133): Weißeritzstraße 4\, 01067 Dresden
CATEGORIES:Saison 2025/26
END:VEVENT
BEGIN:VEVENT
DTSTAMP:20260426T031303Z
DTSTART;TZID=Europe/Berlin:20260321T120000
DTEND;TZID=Europe/Berlin:20260321T133000
SUMMARY:Regionalliga Sachsen mAJ HSV Dresden vs HC Elbflorenz 2006 II (16061)
UID:1768a71f-1757-4590-9da1-dc2bbb5dc8c0
STATUS:CONFIRMED
LAST-MODIFIED:20260406T063152Z
DESCRIPTION:Regionalliga Sachsen männl. A-Jugend\nBegegnungs-Nr: 16061\nHeim: HSV Dresden\nGast: HC Elbflorenz 2006 II\nHalle: SH 121. Oberschule Dresden (33102)\nAdresse: Gamigstraße 28/30\, 01239 Dresden\n
LOCATION:SH 121. Oberschule Dresden (33102): Gamigstraße 28/30\, 01239 Dresden
CATEGORIES:Saison 2025/26
END:VEVENT
BEGIN:VEVENT
DTSTAMP:20260426T031303Z
DTSTART;TZID=Europe/Berlin:20260301T143000
DTEND;TZID=Europe/Berlin:20260301T160000
SUMMARY:Regionalliga Sachsen mAJ HSV Weinböhla vs HC Elbflorenz 2006 II (16055)
UID:e9a41f5b-30dc-4702-bff3-2b067b9ce055
STATUS:CONFIRMED
LAST-MODIFIED:20260315T131527Z
DESCRIPTION:Regionalliga Sachsen männl. A-Jugend\nBegegnungs-Nr: 16055\nHeim: HSV Weinböhla\nGast: HC Elbflorenz 2006 II\nHalle: Nassau-SH Weinböhla (33224)\nAdresse: Meißner Str. 1\, 01689 Weinböhla\n
LOCATION:Nassau-SH Weinböhla (33224): Meißner Str. 1\, 01689 Weinböhla
CATEGORIES:Saison 2025/26
END:VEVENT
BEGIN:VEVENT
DTSTAMP:20260426T031303Z
DTSTART;TZID=Europe/Berlin:20260131T000000
DTEND;TZID=Europe/Berlin:20260131T013000
SUMMARY:Regionalliga Sachsen mAJ spielfrei vs HC Elbflorenz 2006 II (16051)
UID:5b92b832-03ce-49b0-8210-9d394155b79c
STATUS:CONFIRMED
LAST-MODIFIED:20251023T091105Z
DESCRIPTION:Regionalliga Sachsen männl. A-Jugend\nBegegnungs-Nr: 16051\nHeim: spielfrei\nGast: HC Elbflorenz 2006 II\nHalle: Ernst-Grube-Halle Freiberg (32401)\nAdresse: Tschaikowskistr. 2\, 09599 Freiberg\n
LOCATION:Ernst-Grube-Halle Freiberg (32401): Tschaikowskistr. 2\, 09599 Freiberg
CATEGORIES:Saison 2025/26
END:VEVENT
BEGIN:VEVENT
DTSTAMP:20260426T031303Z
DTSTART;TZID=Europe/Berlin:20251123T130000
DTEND;TZID=Europe/Berlin:20251123T143000
SUMMARY:Regionalliga Sachsen mAJ NSG SV04/HCE vs HC Elbflorenz 2006 II (16029)
UID:b02b7072-bf66-4f5b-84cd-909aeb55c6ef
STATUS:CONFIRMED
LAST-MODIFIED:20251125T192615Z
DESCRIPTION:Regionalliga Sachsen männl. A-Jugend\nBegegnungs-Nr: 16029\nHeim: NSG SV04/HCE\nGast: HC Elbflorenz 2006 II\nHalle: SH Kurt-Helbig Plauen (32701)\nAdresse: Comeniusstr. 15\, 08523 Plauen\n
LOCATION:SH Kurt-Helbig Plauen (32701): Comeniusstr. 15\, 08523 Plauen
CATEGORIES:Saison 2025/26
END:VEVENT
BEGIN:VEVENT
DTSTAMP:20260426T031303Z
DTSTART;TZID=Europe/Berlin:20251121T184500
DTEND;TZID=Europe/Berlin:20251121T201500
SUMMARY:Regionalliga Sachsen mAJ SG MoGoNo Leipzig vs HC Elbflorenz 2006 II (16022)
UID:bdfefb24-0ee2-4874-82be-aca486beba76
STATUS:CONFIRMED
LAST-MODIFIED:20251205T104848Z
DESCRIPTION:Regionalliga Sachsen männl. A-Jugend\nBegegnungs-Nr: 16022\nHeim: SG MoGoNo Leipzig\nGast: HC Elbflorenz 2006 II\nHalle: SH Wilhelm-Hauff-Grundschule Leipzig-Möckern (31102)\nAdresse: Slevogtstr. \, 04159 Leipzig\n
LOCATION:SH Wilhelm-Hauff-Grundschule Leipzig-Möckern (31102): Slevogtstr. \, 04159 Leipzig
CATEGORIES:Saison 2025/26
END:VEVENT
BEGIN:VEVENT
DTSTAMP:20260426T031303Z
DTSTART;TZID=Europe/Berlin:20250927T140000
DTEND;TZID=Europe/Berlin:20250927T153000
SUMMARY:Regionalliga Sachsen mAJ Radebeuler HV vs HC Elbflorenz 2006 II (16018)
UID:b54670a0-368d-41ca-a989-c8d4c2f1f298
STATUS:CONFIRMED
LAST-MODIFIED:20251003T123214Z
DESCRIPTION:Regionalliga Sachsen männl. A-Jugend\nBegegnungs-Nr: 16018\nHeim: Radebeuler HV\nGast: HC Elbflorenz 2006 II\nHalle: Lößnitz-SH Radebeul (33204)\nAdresse: Steinbachstr. 13\, 01445 Radebeul\n
LOCATION:Lößnitz-SH Radebeul (33204): Steinbachstr. 13\, 01445 Radebeul
CATEGORIES:Saison 2025/26
END:VEVENT
BEGIN:VEVENT
DTSTAMP:20260426T031303Z
DTSTART;TZID=Europe/Berlin:20250912T190000
DTEND;TZID=Europe/Berlin:20250912T203000
SUMMARY:Regionalliga Sachsen mAJ HVH Kamenz vs HC Elbflorenz 2006 II (16004)
UID:3e6c0b61-1985-462e-9dbc-1ae35ca425be
STATUS:CONFIRMED
LAST-MODIFIED:20250924T094753Z
DESCRIPTION:Regionalliga Sachsen männl. A-Jugend\nBegegnungs-Nr: 16004\nHeim: HVH Kamenz\nGast: HC Elbflorenz 2006 II\nHalle: SH Albert-Schweitzer-Gymnasium Kamenz (34204)\nAdresse: Am Flugplatz\, 01917 Kamenz\, Parkplatz - Macherstraße 142\n
LOCATION:SH Albert-Schweitzer-Gymnasium Kamenz (34204): Am Flugplatz\, 01917 Kamenz\, Parkplatz - Macherstraße 142
CATEGORIES:Saison 2025/26
END:VEVENT
BEGIN:VEVENT
DTSTAMP:20260426T031303Z
DTSTART;TZID=Europe/Berlin:20260419T160000
DTEND;TZID=Europe/Berlin:20260419T173000
SUMMARY:Regionalliga Sachsen mAJ SG LVB vs HC Elbflorenz 2006 II (16069)
UID:007943be-98c5-4014-85c8-4dc41a206a56
STATUS:CONFIRMED
DESCRIPTION:Regionalliga Sachsen männl. A-Jugend\nBegegnungs-Nr: 16069\nHeim: SG LVB\nGast: HC Elbflorenz 2006 II\nHalle: SH Sportoberschule (31132)\nAdresse: Max -Planck-Str. 53-55\, 04105 Leipzig\n
LOCATION:SH Sportoberschule (31132): Max -Planck-Str. 53-55\, 04105 Leipzig
CATEGORIES:Saison 2025/26
END:VEVENT
END:VCALENDAR
