BEGIN:VCALENDAR
PRODID:-//nuDatenautomaten//framework iCal4j //DE
VERSION:2.0
CALSCALE:GREGORIAN
BEGIN:VTIMEZONE
TZID:Europe/Berlin
LAST-MODIFIED:20260306T231828Z
TZURL:https://www.tzurl.org/zoneinfo/Europe/Berlin
X-LIC-LOCATION:Europe/Berlin
X-PROLEPTIC-TZNAME:LMT
BEGIN:STANDARD
TZNAME:CET
TZOFFSETFROM:+005328
TZOFFSETTO:+0100
DTSTART:18930401T000000
END:STANDARD
BEGIN:DAYLIGHT
TZNAME:CEST
TZOFFSETFROM:+0100
TZOFFSETTO:+0200
DTSTART:19160430T230000
RDATE:19400401T020000
RDATE:19430329T020000
RDATE:19460414T020000
RDATE:19470406T030000
RDATE:19480418T020000
RDATE:19490410T020000
RDATE:19800406T020000
END:DAYLIGHT
BEGIN:STANDARD
TZNAME:CET
TZOFFSETFROM:+0200
TZOFFSETTO:+0100
DTSTART:19161001T010000
RDATE:19421102T030000
RDATE:19431004T030000
RDATE:19441002T030000
RDATE:19451118T030000
RDATE:19461007T030000
END:STANDARD
BEGIN:DAYLIGHT
TZNAME:CEST
TZOFFSETFROM:+0100
TZOFFSETTO:+0200
DTSTART:19170416T020000
RRULE:FREQ=YEARLY;UNTIL=19180415T010000Z;BYMONTH=4;BYDAY=3MO
END:DAYLIGHT
BEGIN:STANDARD
TZNAME:CET
TZOFFSETFROM:+0200
TZOFFSETTO:+0100
DTSTART:19170917T030000
RRULE:FREQ=YEARLY;UNTIL=19180916T010000Z;BYMONTH=9;BYDAY=3MO
END:STANDARD
BEGIN:DAYLIGHT
TZNAME:CEST
TZOFFSETFROM:+0100
TZOFFSETTO:+0200
DTSTART:19440403T020000
RRULE:FREQ=YEARLY;UNTIL=19450402T010000Z;BYMONTH=4;BYDAY=1MO
END:DAYLIGHT
BEGIN:DAYLIGHT
TZNAME:CEMT
TZOFFSETFROM:+0200
TZOFFSETTO:+0300
DTSTART:19450524T020000
RDATE:19470511T030000
END:DAYLIGHT
BEGIN:DAYLIGHT
TZNAME:CEST
TZOFFSETFROM:+0300
TZOFFSETTO:+0200
DTSTART:19450924T030000
RDATE:19470629T030000
END:DAYLIGHT
BEGIN:STANDARD
TZNAME:CET
TZOFFSETFROM:+0100
TZOFFSETTO:+0100
DTSTART:19460101T000000
RDATE:19800101T000000
END:STANDARD
BEGIN:STANDARD
TZNAME:CET
TZOFFSETFROM:+0200
TZOFFSETTO:+0100
DTSTART:19471005T030000
RRULE:FREQ=YEARLY;UNTIL=19491002T010000Z;BYMONTH=10;BYDAY=1SU
END:STANDARD
BEGIN:STANDARD
TZNAME:CET
TZOFFSETFROM:+0200
TZOFFSETTO:+0100
DTSTART:19800928T030000
RRULE:FREQ=YEARLY;UNTIL=19950924T010000Z;BYMONTH=9;BYDAY=-1SU
END:STANDARD
BEGIN:DAYLIGHT
TZNAME:CEST
TZOFFSETFROM:+0100
TZOFFSETTO:+0200
DTSTART:19810329T020000
RRULE:FREQ=YEARLY;BYMONTH=3;BYDAY=-1SU
END:DAYLIGHT
BEGIN:STANDARD
TZNAME:CET
TZOFFSETFROM:+0200
TZOFFSETTO:+0100
DTSTART:19961027T030000
RRULE:FREQ=YEARLY;BYMONTH=10;BYDAY=-1SU
END:STANDARD
END:VTIMEZONE
BEGIN:VEVENT
DTSTAMP:20260425T224225Z
DTSTART;TZID=Europe/Berlin:20251101T120000
DTEND;TZID=Europe/Berlin:20251101T130000
SUMMARY:Regionalliga Sachsen West BSV Limbach-O. vs SG Zschorlau/Schneeberg (23028)
UID:1da4921f-f336-4e68-92ff-5eed25860018
STATUS:CONFIRMED
LAST-MODIFIED:20251101T193235Z
DESCRIPTION:Regionalliga Sachsen weibliche D-Jugend West (VR)\nBegegnungs-Nr: 23028\nHeim: BSV Limbach-O.\nGast: SG Zschorlau/Schneeberg\nHalle: GSH Limbach-Oberfrohna (32201)\nAdresse: Anna-Esche-Gäßchen 1\, 09212 Limbach-Oberfrohna\n
LOCATION:GSH Limbach-Oberfrohna (32201): Anna-Esche-Gäßchen 1\, 09212 Limbach-Oberfrohna
CATEGORIES:Saison 2025/26
END:VEVENT
BEGIN:VEVENT
DTSTAMP:20260425T224225Z
DTSTART;TZID=Europe/Berlin:20250921T103000
DTEND;TZID=Europe/Berlin:20250921T113000
SUMMARY:Regionalliga Sachsen West BSV Limbach-O. vs HC Leipzig (23014)
UID:d7e74157-79e6-4d1b-9ccb-0d4a91b42ce6
STATUS:CONFIRMED
LAST-MODIFIED:20250922T073818Z
DESCRIPTION:Regionalliga Sachsen weibliche D-Jugend West (VR)\nBegegnungs-Nr: 23014\nHeim: BSV Limbach-O.\nGast: HC Leipzig\nHalle: GSH Limbach-Oberfrohna (32201)\nAdresse: Anna-Esche-Gäßchen 1\, 09212 Limbach-Oberfrohna\n
LOCATION:GSH Limbach-Oberfrohna (32201): Anna-Esche-Gäßchen 1\, 09212 Limbach-Oberfrohna
CATEGORIES:Saison 2025/26
END:VEVENT
BEGIN:VEVENT
DTSTAMP:20260425T224225Z
DTSTART;TZID=Europe/Berlin:20250906T143000
DTEND;TZID=Europe/Berlin:20250906T153000
SUMMARY:Regionalliga Sachsen West BSV Limbach-O. vs BSV Sa. Zwickau II (23007)
UID:e7ab4c15-de3a-45ba-bf43-639f2c3ea99d
STATUS:CONFIRMED
LAST-MODIFIED:20250907T100559Z
DESCRIPTION:Regionalliga Sachsen weibliche D-Jugend West (VR)\nBegegnungs-Nr: 23007\nHeim: BSV Limbach-O.\nGast: BSV Sa. Zwickau II\nHalle: GSH Limbach-Oberfrohna (32201)\nAdresse: Anna-Esche-Gäßchen 1\, 09212 Limbach-Oberfrohna\n
LOCATION:GSH Limbach-Oberfrohna (32201): Anna-Esche-Gäßchen 1\, 09212 Limbach-Oberfrohna
CATEGORIES:Saison 2025/26
END:VEVENT
BEGIN:VEVENT
DTSTAMP:20260425T224225Z
DTSTART;TZID=Europe/Berlin:20251207T160000
DTEND;TZID=Europe/Berlin:20251207T170000
SUMMARY:Regionalliga Sachsen Meister BSV Limbach-O. vs HC Leipzig (23067)
UID:f523dd29-a4c4-48f3-98b2-fc56807fcb44
STATUS:CONFIRMED
LAST-MODIFIED:20251208T194134Z
DESCRIPTION:Regionalliga Sachsen weibliche D-Jugend Meisterschaft\nBegegnungs-Nr: 23067\nHeim: BSV Limbach-O.\nGast: HC Leipzig\nHalle: GSH Limbach-Oberfrohna (32201)\nAdresse: Anna-Esche-Gäßchen 1\, 09212 Limbach-Oberfrohna\n
LOCATION:GSH Limbach-Oberfrohna (32201): Anna-Esche-Gäßchen 1\, 09212 Limbach-Oberfrohna
CATEGORIES:Saison 2025/26
END:VEVENT
BEGIN:VEVENT
DTSTAMP:20260425T224225Z
DTSTART;TZID=Europe/Berlin:20260125T103000
DTEND;TZID=Europe/Berlin:20260125T113000
SUMMARY:Regionalliga Sachsen Meister BSV Limbach-O. vs HC Rödertal  (23082)
UID:4fa70e15-7594-4a07-9098-9eacee96d0d2
STATUS:CONFIRMED
LAST-MODIFIED:20260126T192131Z
DESCRIPTION:Regionalliga Sachsen weibliche D-Jugend Meisterschaft\nBegegnungs-Nr: 23082\nHeim: BSV Limbach-O.\nGast: HC Rödertal \nHalle: GSH Limbach-Oberfrohna (32201)\nAdresse: Anna-Esche-Gäßchen 1\, 09212 Limbach-Oberfrohna\n
LOCATION:GSH Limbach-Oberfrohna (32201): Anna-Esche-Gäßchen 1\, 09212 Limbach-Oberfrohna
CATEGORIES:Saison 2025/26
END:VEVENT
BEGIN:VEVENT
DTSTAMP:20260425T224225Z
DTSTART;TZID=Europe/Berlin:20260301T150000
DTEND;TZID=Europe/Berlin:20260301T160000
SUMMARY:Regionalliga Sachsen Meister BSV Limbach-O. vs SC Hoyerswerda  (23091)
UID:46bf541a-7904-4b84-9e36-0c4687749eed
STATUS:CONFIRMED
LAST-MODIFIED:20260309T081218Z
DESCRIPTION:Regionalliga Sachsen weibliche D-Jugend Meisterschaft\nBegegnungs-Nr: 23091\nHeim: BSV Limbach-O.\nGast: SC Hoyerswerda \nHalle: GSH Limbach-Oberfrohna (32201)\nAdresse: Anna-Esche-Gäßchen 1\, 09212 Limbach-Oberfrohna\n
LOCATION:GSH Limbach-Oberfrohna (32201): Anna-Esche-Gäßchen 1\, 09212 Limbach-Oberfrohna
CATEGORIES:Saison 2025/26
END:VEVENT
BEGIN:VEVENT
DTSTAMP:20260425T224225Z
DTSTART;TZID=Europe/Berlin:20260314T103000
DTEND;TZID=Europe/Berlin:20260314T113000
SUMMARY:Regionalliga Sachsen Meister BSV Limbach-O. vs SC Markranstädt (23100)
UID:57abcc18-c5c1-4c30-ac81-a24da9d8a67b
STATUS:CONFIRMED
LAST-MODIFIED:20260315T212657Z
DESCRIPTION:Regionalliga Sachsen weibliche D-Jugend Meisterschaft\nBegegnungs-Nr: 23100\nHeim: BSV Limbach-O.\nGast: SC Markranstädt\nHalle: GSH Limbach-Oberfrohna (32201)\nAdresse: Anna-Esche-Gäßchen 1\, 09212 Limbach-Oberfrohna\n
LOCATION:GSH Limbach-Oberfrohna (32201): Anna-Esche-Gäßchen 1\, 09212 Limbach-Oberfrohna
CATEGORIES:Saison 2025/26
END:VEVENT
BEGIN:VEVENT
DTSTAMP:20260425T224225Z
DTSTART;TZID=Europe/Berlin:20260321T103000
DTEND;TZID=Europe/Berlin:20260321T113000
SUMMARY:Regionalliga Sachsen Meister BSV Limbach-O. vs VfL Meißen (23104)
UID:e8a7563b-21e3-4828-ad13-1023e458fa1b
STATUS:CONFIRMED
LAST-MODIFIED:20260323T085530Z
DESCRIPTION:Regionalliga Sachsen weibliche D-Jugend Meisterschaft\nBegegnungs-Nr: 23104\nHeim: BSV Limbach-O.\nGast: VfL Meißen\nHalle: GSH Limbach-Oberfrohna (32201)\nAdresse: Anna-Esche-Gäßchen 1\, 09212 Limbach-Oberfrohna\n
LOCATION:GSH Limbach-Oberfrohna (32201): Anna-Esche-Gäßchen 1\, 09212 Limbach-Oberfrohna
CATEGORIES:Saison 2025/26
END:VEVENT
BEGIN:VEVENT
DTSTAMP:20260425T224225Z
DTSTART;TZID=Europe/Berlin:20260329T103000
DTEND;TZID=Europe/Berlin:20260329T113000
SUMMARY:Regionalliga Sachsen Meister BSV Limbach-O. vs BSV Sa. Zwickau (23105)
UID:60d7e99f-5ceb-4d41-b01e-fd6b365abe70
STATUS:CONFIRMED
LAST-MODIFIED:20260330T102115Z
DESCRIPTION:Regionalliga Sachsen weibliche D-Jugend Meisterschaft\nBegegnungs-Nr: 23105\nHeim: BSV Limbach-O.\nGast: BSV Sa. Zwickau\nHalle: GSH Limbach-Oberfrohna (32201)\nAdresse: Anna-Esche-Gäßchen 1\, 09212 Limbach-Oberfrohna\n
LOCATION:GSH Limbach-Oberfrohna (32201): Anna-Esche-Gäßchen 1\, 09212 Limbach-Oberfrohna
CATEGORIES:Saison 2025/26
END:VEVENT
BEGIN:VEVENT
DTSTAMP:20260425T224225Z
DTSTART;TZID=Europe/Berlin:20251122T103000
DTEND;TZID=Europe/Berlin:20251122T113000
SUMMARY:Regionalliga Sachsen Meister BSV Limbach-O. vs Görlitzer HC (23058)
UID:9c6331f3-65b5-4ce5-8b4a-f8c404ab1ecd
STATUS:CONFIRMED
LAST-MODIFIED:20251122T200240Z
DESCRIPTION:Regionalliga Sachsen weibliche D-Jugend Meisterschaft\nBegegnungs-Nr: 23058\nHeim: BSV Limbach-O.\nGast: Görlitzer HC\nHalle: GSH Limbach-Oberfrohna (32201)\nAdresse: Anna-Esche-Gäßchen 1\, 09212 Limbach-Oberfrohna\n
LOCATION:GSH Limbach-Oberfrohna (32201): Anna-Esche-Gäßchen 1\, 09212 Limbach-Oberfrohna
CATEGORIES:Saison 2025/26
END:VEVENT
BEGIN:VEVENT
DTSTAMP:20260425T224225Z
DTSTART;TZID=Europe/Berlin:20251025T131500
DTEND;TZID=Europe/Berlin:20251025T141500
SUMMARY:Regionalliga Sachsen West HC Leipzig II vs BSV Limbach-O. (23024)
UID:38fe99eb-9e0c-4819-94aa-cd65db2c0b39
STATUS:CONFIRMED
LAST-MODIFIED:20251026T191839Z
DESCRIPTION:Regionalliga Sachsen weibliche D-Jugend West (VR)\nBegegnungs-Nr: 23024\nHeim: HC Leipzig II\nGast: BSV Limbach-O.\nHalle: SH Sportoberschule (31132)\nAdresse: Max -Planck-Str. 53-55\, 04105 Leipzig\n
LOCATION:SH Sportoberschule (31132): Max -Planck-Str. 53-55\, 04105 Leipzig
CATEGORIES:Saison 2025/26
END:VEVENT
BEGIN:VEVENT
DTSTAMP:20260425T224225Z
DTSTART;TZID=Europe/Berlin:20250927T103000
DTEND;TZID=Europe/Berlin:20250927T113000
SUMMARY:Regionalliga Sachsen West BSV Sa. Zwickau vs BSV Limbach-O. (23019)
UID:d6f4906f-da6c-437d-8d58-c5bb003bfa0c
STATUS:CONFIRMED
LAST-MODIFIED:20251026T113026Z
DESCRIPTION:Regionalliga Sachsen weibliche D-Jugend West (VR)\nBegegnungs-Nr: 23019\nHeim: BSV Sa. Zwickau\nGast: BSV Limbach-O.\nHalle: SH Zwickau-Neuplanitz (32501)\nAdresse: Dortmunder Str. 7a\, 08062 Zwickau\n
LOCATION:SH Zwickau-Neuplanitz (32501): Dortmunder Str. 7a\, 08062 Zwickau
CATEGORIES:Saison 2025/26
END:VEVENT
BEGIN:VEVENT
DTSTAMP:20260425T224225Z
DTSTART;TZID=Europe/Berlin:20250913T130000
DTEND;TZID=Europe/Berlin:20250913T140000
SUMMARY:Regionalliga Sachsen West SC Markranstädt vs BSV Limbach-O. (23009)
UID:72ac7994-7740-4e0f-9a27-9653d304d10f
STATUS:CONFIRMED
LAST-MODIFIED:20250914T183637Z
DESCRIPTION:Regionalliga Sachsen weibliche D-Jugend West (VR)\nBegegnungs-Nr: 23009\nHeim: SC Markranstädt\nGast: BSV Limbach-O.\nHalle: Sportcenter Markranstädt (31127)\nAdresse: Leipziger Str. 47\, 04420 Markranstädt\n
LOCATION:Sportcenter Markranstädt (31127): Leipziger Str. 47\, 04420 Markranstädt
CATEGORIES:Saison 2025/26
END:VEVENT
BEGIN:VEVENT
DTSTAMP:20260425T224225Z
DTSTART;TZID=Europe/Berlin:20250831T110000
DTEND;TZID=Europe/Berlin:20250831T120000
SUMMARY:Regionalliga Sachsen West HSV Marienberg vs BSV Limbach-O. (23003)
UID:24638b18-a8fe-485d-902e-724c79b42964
STATUS:CONFIRMED
LAST-MODIFIED:20250831T181913Z
DESCRIPTION:Regionalliga Sachsen weibliche D-Jugend West (VR)\nBegegnungs-Nr: 23003\nHeim: HSV Marienberg\nGast: BSV Limbach-O.\nHalle: SH am Goldkindstein Marienberg (32416)\nAdresse: Dr.-Wilhelm-Külz-Allee 23\, 09496 Marienberg\n
LOCATION:SH am Goldkindstein Marienberg (32416): Dr.-Wilhelm-Külz-Allee 23\, 09496 Marienberg
CATEGORIES:Saison 2025/26
END:VEVENT
BEGIN:VEVENT
DTSTAMP:20260425T224225Z
DTSTART;TZID=Europe/Berlin:20251116T130000
DTEND;TZID=Europe/Berlin:20251116T140000
SUMMARY:Regionalliga Sachsen Meister SC Markranstädt vs BSV Limbach-O. (23072)
UID:e1ad822c-face-48d9-9500-4f800bc0c337
STATUS:CONFIRMED
LAST-MODIFIED:20251122T200116Z
DESCRIPTION:Regionalliga Sachsen weibliche D-Jugend Meisterschaft\nBegegnungs-Nr: 23072\nHeim: SC Markranstädt\nGast: BSV Limbach-O.\nHalle: Sportcenter Markranstädt (31127)\nAdresse: Leipziger Str. 47\, 04420 Markranstädt\n
LOCATION:Sportcenter Markranstädt (31127): Leipziger Str. 47\, 04420 Markranstädt
CATEGORIES:Saison 2025/26
END:VEVENT
BEGIN:VEVENT
DTSTAMP:20260425T224225Z
DTSTART;TZID=Europe/Berlin:20260111T130000
DTEND;TZID=Europe/Berlin:20260111T140000
SUMMARY:Regionalliga Sachsen Meister VfL Meißen vs BSV Limbach-O. (23076)
UID:176ad71e-1a43-4e8a-9fa4-3e540882115f
STATUS:CONFIRMED
LAST-MODIFIED:20260112T082214Z
DESCRIPTION:Regionalliga Sachsen weibliche D-Jugend Meisterschaft\nBegegnungs-Nr: 23076\nHeim: VfL Meißen\nGast: BSV Limbach-O.\nHalle: SH \"Heiliger Grund\" Meißen (33212)\nAdresse: Goethestraße 27\, 01662 Meißen\n
LOCATION:SH \"Heiliger Grund\" Meißen (33212): Goethestraße 27\, 01662 Meißen
CATEGORIES:Saison 2025/26
END:VEVENT
BEGIN:VEVENT
DTSTAMP:20260425T224225Z
DTSTART;TZID=Europe/Berlin:20260118T120000
DTEND;TZID=Europe/Berlin:20260118T130000
SUMMARY:Regionalliga Sachsen Meister BSV Sa. Zwickau vs BSV Limbach-O. (23077)
UID:43205c2e-54dc-4e53-972f-381baaa85d84
STATUS:CONFIRMED
LAST-MODIFIED:20260119T104403Z
DESCRIPTION:Regionalliga Sachsen weibliche D-Jugend Meisterschaft\nBegegnungs-Nr: 23077\nHeim: BSV Sa. Zwickau\nGast: BSV Limbach-O.\nHalle: SH Zwickau-Neuplanitz (32501)\nAdresse: Dortmunder Str. 7a\, 08062 Zwickau\n
LOCATION:SH Zwickau-Neuplanitz (32501): Dortmunder Str. 7a\, 08062 Zwickau
CATEGORIES:Saison 2025/26
END:VEVENT
BEGIN:VEVENT
DTSTAMP:20260425T224225Z
DTSTART;TZID=Europe/Berlin:20260201T130000
DTEND;TZID=Europe/Berlin:20260201T140000
SUMMARY:Regionalliga Sachsen Meister Görlitzer HC vs BSV Limbach-O. (23086)
UID:8cc8ef4f-0165-48d2-8453-4e5fa7249941
STATUS:CONFIRMED
LAST-MODIFIED:20260214T135726Z
DESCRIPTION:Regionalliga Sachsen weibliche D-Jugend Meisterschaft\nBegegnungs-Nr: 23086\nHeim: Görlitzer HC\nGast: BSV Limbach-O.\nHalle: Emil-von-Schenckendorff-SH (34308)\nAdresse: Hugo-Keller-Straße 15\, 02826 Görlitz\n
LOCATION:Emil-von-Schenckendorff-SH (34308): Hugo-Keller-Straße 15\, 02826 Görlitz
CATEGORIES:Saison 2025/26
END:VEVENT
BEGIN:VEVENT
DTSTAMP:20260425T224225Z
DTSTART;TZID=Europe/Berlin:20260308T141500
DTEND;TZID=Europe/Berlin:20260308T151500
SUMMARY:Regionalliga Sachsen Meister HC Leipzig vs BSV Limbach-O. (23095)
UID:441061e0-1008-40c5-8220-46c81c0ac0f2
STATUS:CONFIRMED
LAST-MODIFIED:20260309T081905Z
DESCRIPTION:Regionalliga Sachsen weibliche D-Jugend Meisterschaft\nBegegnungs-Nr: 23095\nHeim: HC Leipzig\nGast: BSV Limbach-O.\nHalle: SH Sportoberschule (31132)\nAdresse: Max -Planck-Str. 53-55\, 04105 Leipzig\n
LOCATION:SH Sportoberschule (31132): Max -Planck-Str. 53-55\, 04105 Leipzig
CATEGORIES:Saison 2025/26
END:VEVENT
BEGIN:VEVENT
DTSTAMP:20260425T224225Z
DTSTART;TZID=Europe/Berlin:20260418T143000
DTEND;TZID=Europe/Berlin:20260418T153000
SUMMARY:Regionalliga Sachsen Meister HC Rödertal  vs BSV Limbach-O. (23110)
UID:6e643b67-679e-46f3-83ab-9cb905b01ca3
STATUS:CONFIRMED
LAST-MODIFIED:20260420T174747Z
DESCRIPTION:Regionalliga Sachsen weibliche D-Jugend Meisterschaft\nBegegnungs-Nr: 23110\nHeim: HC Rödertal \nGast: BSV Limbach-O.\nHalle: 3-Feld-Halle-GY Großröhrsdorf (34514)\nAdresse: Melanchthonstraße 21\, 01900  Großröhrsdorf\n
LOCATION:3-Feld-Halle-GY Großröhrsdorf (34514): Melanchthonstraße 21\, 01900  Großröhrsdorf
CATEGORIES:Saison 2025/26
END:VEVENT
BEGIN:VEVENT
DTSTAMP:20260425T224225Z
DTSTART;TZID=Europe/Berlin:20251129T110000
DTEND;TZID=Europe/Berlin:20251129T120000
SUMMARY:Regionalliga Sachsen Meister SC Hoyerswerda  vs BSV Limbach-O. (23063)
UID:a0cd8eba-00b5-4dd5-ae5d-bcd494c1c0ab
STATUS:CONFIRMED
LAST-MODIFIED:20251130T125226Z
DESCRIPTION:Regionalliga Sachsen weibliche D-Jugend Meisterschaft\nBegegnungs-Nr: 23063\nHeim: SC Hoyerswerda \nGast: BSV Limbach-O.\nHalle: Sporthalle \"Neue Oberschule\" (34519)\nAdresse: Claus-von-Stauffenberg-Straße 40a\, 02977 Hoyerswerda\n
LOCATION:Sporthalle \"Neue Oberschule\" (34519): Claus-von-Stauffenberg-Straße 40a\, 02977 Hoyerswerda
CATEGORIES:Saison 2025/26
END:VEVENT
END:VCALENDAR
