BEGIN:VCALENDAR
PRODID:-//nuDatenautomaten//framework iCal4j //DE
VERSION:2.0
CALSCALE:GREGORIAN
BEGIN:VTIMEZONE
TZID:Europe/Berlin
LAST-MODIFIED:20260306T231828Z
TZURL:https://www.tzurl.org/zoneinfo/Europe/Berlin
X-LIC-LOCATION:Europe/Berlin
X-PROLEPTIC-TZNAME:LMT
BEGIN:STANDARD
TZNAME:CET
TZOFFSETFROM:+005328
TZOFFSETTO:+0100
DTSTART:18930401T000000
END:STANDARD
BEGIN:DAYLIGHT
TZNAME:CEST
TZOFFSETFROM:+0100
TZOFFSETTO:+0200
DTSTART:19160430T230000
RDATE:19400401T020000
RDATE:19430329T020000
RDATE:19460414T020000
RDATE:19470406T030000
RDATE:19480418T020000
RDATE:19490410T020000
RDATE:19800406T020000
END:DAYLIGHT
BEGIN:STANDARD
TZNAME:CET
TZOFFSETFROM:+0200
TZOFFSETTO:+0100
DTSTART:19161001T010000
RDATE:19421102T030000
RDATE:19431004T030000
RDATE:19441002T030000
RDATE:19451118T030000
RDATE:19461007T030000
END:STANDARD
BEGIN:DAYLIGHT
TZNAME:CEST
TZOFFSETFROM:+0100
TZOFFSETTO:+0200
DTSTART:19170416T020000
RRULE:FREQ=YEARLY;UNTIL=19180415T010000Z;BYMONTH=4;BYDAY=3MO
END:DAYLIGHT
BEGIN:STANDARD
TZNAME:CET
TZOFFSETFROM:+0200
TZOFFSETTO:+0100
DTSTART:19170917T030000
RRULE:FREQ=YEARLY;UNTIL=19180916T010000Z;BYMONTH=9;BYDAY=3MO
END:STANDARD
BEGIN:DAYLIGHT
TZNAME:CEST
TZOFFSETFROM:+0100
TZOFFSETTO:+0200
DTSTART:19440403T020000
RRULE:FREQ=YEARLY;UNTIL=19450402T010000Z;BYMONTH=4;BYDAY=1MO
END:DAYLIGHT
BEGIN:DAYLIGHT
TZNAME:CEMT
TZOFFSETFROM:+0200
TZOFFSETTO:+0300
DTSTART:19450524T020000
RDATE:19470511T030000
END:DAYLIGHT
BEGIN:DAYLIGHT
TZNAME:CEST
TZOFFSETFROM:+0300
TZOFFSETTO:+0200
DTSTART:19450924T030000
RDATE:19470629T030000
END:DAYLIGHT
BEGIN:STANDARD
TZNAME:CET
TZOFFSETFROM:+0100
TZOFFSETTO:+0100
DTSTART:19460101T000000
RDATE:19800101T000000
END:STANDARD
BEGIN:STANDARD
TZNAME:CET
TZOFFSETFROM:+0200
TZOFFSETTO:+0100
DTSTART:19471005T030000
RRULE:FREQ=YEARLY;UNTIL=19491002T010000Z;BYMONTH=10;BYDAY=1SU
END:STANDARD
BEGIN:STANDARD
TZNAME:CET
TZOFFSETFROM:+0200
TZOFFSETTO:+0100
DTSTART:19800928T030000
RRULE:FREQ=YEARLY;UNTIL=19950924T010000Z;BYMONTH=9;BYDAY=-1SU
END:STANDARD
BEGIN:DAYLIGHT
TZNAME:CEST
TZOFFSETFROM:+0100
TZOFFSETTO:+0200
DTSTART:19810329T020000
RRULE:FREQ=YEARLY;BYMONTH=3;BYDAY=-1SU
END:DAYLIGHT
BEGIN:STANDARD
TZNAME:CET
TZOFFSETFROM:+0200
TZOFFSETTO:+0100
DTSTART:19961027T030000
RRULE:FREQ=YEARLY;BYMONTH=10;BYDAY=-1SU
END:STANDARD
END:VTIMEZONE
BEGIN:VEVENT
DTSTAMP:20260425T114342Z
DTSTART;TZID=Europe/Berlin:20251207T124500
DTEND;TZID=Europe/Berlin:20251207T134500
SUMMARY:Regionsoberliga S-M wJB HSV Weinböhla vs SG Klotzsche (32034)
UID:dae14bb3-e24e-47bb-b32a-79f40989501a
STATUS:CONFIRMED
LAST-MODIFIED:20251207T174720Z
DESCRIPTION:Regionsoberliga S-M wJB\nBegegnungs-Nr: 32034\nHeim: HSV Weinböhla\nGast: SG Klotzsche\nHalle: Nassau-SH Weinböhla (33224)\nAdresse: Meißner Str. 1\, 01689 Weinböhla\n
LOCATION:Nassau-SH Weinböhla (33224): Meißner Str. 1\, 01689 Weinböhla
CATEGORIES:Saison 2025/26
END:VEVENT
BEGIN:VEVENT
DTSTAMP:20260425T114342Z
DTSTART;TZID=Europe/Berlin:20260419T124500
DTEND;TZID=Europe/Berlin:20260419T134500
SUMMARY:Regionsoberliga S-M wJB HSV Weinböhla vs Radebeuler HV (32067)
UID:06191bc6-b4b6-48f3-af84-6b6ddb40723c
STATUS:CONFIRMED
LAST-MODIFIED:20260420T185237Z
DESCRIPTION:Regionsoberliga S-M wJB\nBegegnungs-Nr: 32067\nHeim: HSV Weinböhla\nGast: Radebeuler HV\nHalle: Nassau-SH Weinböhla (33224)\nAdresse: Meißner Str. 1\, 01689 Weinböhla\n
LOCATION:Nassau-SH Weinböhla (33224): Meißner Str. 1\, 01689 Weinböhla
CATEGORIES:Saison 2025/26
END:VEVENT
BEGIN:VEVENT
DTSTAMP:20260425T114342Z
DTSTART;TZID=Europe/Berlin:20260118T110000
DTEND;TZID=Europe/Berlin:20260118T120000
SUMMARY:Regionsoberliga S-M wJB HSV Weinböhla vs Medizin Bad Gottleuba (32041)
UID:703417b2-0888-4f86-b38c-cfb8411be0b2
STATUS:CONFIRMED
LAST-MODIFIED:20260119T094722Z
DESCRIPTION:Regionsoberliga S-M wJB\nBegegnungs-Nr: 32041\nHeim: HSV Weinböhla\nGast: Medizin Bad Gottleuba\nHalle: Nassau-SH Weinböhla (33224)\nAdresse: Meißner Str. 1\, 01689 Weinböhla\n
LOCATION:Nassau-SH Weinböhla (33224): Meißner Str. 1\, 01689 Weinböhla
CATEGORIES:Saison 2025/26
END:VEVENT
BEGIN:VEVENT
DTSTAMP:20260425T114342Z
DTSTART;TZID=Europe/Berlin:20251102T124500
DTEND;TZID=Europe/Berlin:20251102T134500
SUMMARY:Regionsoberliga S-M wJB HSV Weinböhla vs HC Großenhain  (32021)
UID:922068de-77cb-426a-b869-ee0624033c68
STATUS:CONFIRMED
LAST-MODIFIED:20251103T123858Z
DESCRIPTION:Regionsoberliga S-M wJB\nBegegnungs-Nr: 32021\nHeim: HSV Weinböhla\nGast: HC Großenhain \nHalle: Nassau-SH Weinböhla (33224)\nAdresse: Meißner Str. 1\, 01689 Weinböhla\n
LOCATION:Nassau-SH Weinböhla (33224): Meißner Str. 1\, 01689 Weinböhla
CATEGORIES:Saison 2025/26
END:VEVENT
BEGIN:VEVENT
DTSTAMP:20260425T114342Z
DTSTART;TZID=Europe/Berlin:20251123T110000
DTEND;TZID=Europe/Berlin:20251123T120000
SUMMARY:Regionsoberliga S-M wJB HSV Weinböhla vs SF 01 Dresden (32027)
UID:b1b5e9de-e91d-4277-9576-a24298b6f406
STATUS:CONFIRMED
LAST-MODIFIED:20251124T074531Z
DESCRIPTION:Regionsoberliga S-M wJB\nBegegnungs-Nr: 32027\nHeim: HSV Weinböhla\nGast: SF 01 Dresden\nHalle: Nassau-SH Weinböhla (33224)\nAdresse: Meißner Str. 1\, 01689 Weinböhla\n
LOCATION:Nassau-SH Weinböhla (33224): Meißner Str. 1\, 01689 Weinböhla
CATEGORIES:Saison 2025/26
END:VEVENT
BEGIN:VEVENT
DTSTAMP:20260425T114342Z
DTSTART;TZID=Europe/Berlin:20260315T140000
DTEND;TZID=Europe/Berlin:20260315T150000
SUMMARY:Regionsoberliga S-M wJB HSV Weinböhla vs HSG Weißeritztal (32014)
UID:68f375b0-5e08-4828-987e-dbb1c48233bd
STATUS:CONFIRMED
LAST-MODIFIED:20260316T085604Z
DESCRIPTION:Regionsoberliga S-M wJB\nBegegnungs-Nr: 32014\nHeim: HSV Weinböhla\nGast: HSG Weißeritztal\nHalle: Nassau-SH Weinböhla (33224)\nAdresse: Meißner Str. 1\, 01689 Weinböhla\n
LOCATION:Nassau-SH Weinböhla (33224): Meißner Str. 1\, 01689 Weinböhla
CATEGORIES:Saison 2025/26
END:VEVENT
BEGIN:VEVENT
DTSTAMP:20260425T114342Z
DTSTART;TZID=Europe/Berlin:20260228T130000
DTEND;TZID=Europe/Berlin:20260228T140000
SUMMARY:Regionsoberliga S-M wJB HSV Weinböhla vs TSV Dresden-Bühlau (32054)
UID:05bb2fe0-5b13-4f44-a713-eb56a7bb6214
STATUS:CONFIRMED
LAST-MODIFIED:20260302T112754Z
DESCRIPTION:Regionsoberliga S-M wJB\nBegegnungs-Nr: 32054\nHeim: HSV Weinböhla\nGast: TSV Dresden-Bühlau\nHalle: Nassau-SH Weinböhla (33224)\nAdresse: Meißner Str. 1\, 01689 Weinböhla\n
LOCATION:Nassau-SH Weinböhla (33224): Meißner Str. 1\, 01689 Weinböhla
CATEGORIES:Saison 2025/26
END:VEVENT
BEGIN:VEVENT
DTSTAMP:20260425T114342Z
DTSTART;TZID=Europe/Berlin:20250914T143000
DTEND;TZID=Europe/Berlin:20250914T153000
SUMMARY:Regionsoberliga S-M wJB HSV Weinböhla vs SHV Oschatz (32008)
UID:3b5eebf3-0b68-490c-a21e-770a69d8c5dd
STATUS:CONFIRMED
LAST-MODIFIED:20250923T172254Z
DESCRIPTION:Regionsoberliga S-M wJB\nBegegnungs-Nr: 32008\nHeim: HSV Weinböhla\nGast: SHV Oschatz\nHalle: Nassau-SH Weinböhla (33224)\nAdresse: Meißner Str. 1\, 01689 Weinböhla\n
LOCATION:Nassau-SH Weinböhla (33224): Meißner Str. 1\, 01689 Weinböhla
CATEGORIES:Saison 2025/26
END:VEVENT
BEGIN:VEVENT
DTSTAMP:20260425T114342Z
DTSTART;TZID=Europe/Berlin:20250907T123000
DTEND;TZID=Europe/Berlin:20250907T133000
SUMMARY:Regionsoberliga S-M wJB Medizin Bad Gottleuba vs HSV Weinböhla (32005)
UID:91bdfc6c-ce5f-4164-a98a-4af54af7e1b2
STATUS:CONFIRMED
LAST-MODIFIED:20250913T060805Z
DESCRIPTION:Regionsoberliga S-M wJB\nBegegnungs-Nr: 32005\nHeim: Medizin Bad Gottleuba\nGast: HSV Weinböhla\nHalle: SH Geising (33201)\nAdresse: Lange Str. 25\, 01778 Altenberg ST Geising\n
LOCATION:SH Geising (33201): Lange Str. 25\, 01778 Altenberg ST Geising
CATEGORIES:Saison 2025/26
END:VEVENT
BEGIN:VEVENT
DTSTAMP:20260425T114342Z
DTSTART;TZID=Europe/Berlin:20260426T100000
DTEND;TZID=Europe/Berlin:20260426T110000
SUMMARY:Regionsoberliga S-M wJB SG Klotzsche vs HSV Weinböhla (32070)
UID:4ed3e077-b0da-4533-abca-2909a97da09b
STATUS:CONFIRMED
DESCRIPTION:Regionsoberliga S-M wJB\nBegegnungs-Nr: 32070\nHeim: SG Klotzsche\nGast: HSV Weinböhla\nHalle: SH Gymnasium Klotzsche (33126)\nAdresse: Karl-Marx-Straße 44\, 01109 Dresden\n
LOCATION:SH Gymnasium Klotzsche (33126): Karl-Marx-Straße 44\, 01109 Dresden
CATEGORIES:Saison 2025/26
END:VEVENT
BEGIN:VEVENT
DTSTAMP:20260425T114342Z
DTSTART;TZID=Europe/Berlin:20260329T120000
DTEND;TZID=Europe/Berlin:20260329T130000
SUMMARY:Regionsoberliga S-M wJB SF 01 Dresden vs HSV Weinböhla (32063)
UID:e6cf3d7e-4608-4a60-807f-28e3a6905647
STATUS:CONFIRMED
LAST-MODIFIED:20260413T121045Z
DESCRIPTION:Regionsoberliga S-M wJB\nBegegnungs-Nr: 32063\nHeim: SF 01 Dresden\nGast: HSV Weinböhla\nHalle: SH 151. Gesamtschule Dresden (33142)\nAdresse: Stauffenbergallee 8\, 01099 Dresden\n
LOCATION:SH 151. Gesamtschule Dresden (33142): Stauffenbergallee 8\, 01099 Dresden
CATEGORIES:Saison 2025/26
END:VEVENT
BEGIN:VEVENT
DTSTAMP:20260425T114342Z
DTSTART;TZID=Europe/Berlin:20260308T160000
DTEND;TZID=Europe/Berlin:20260308T170000
SUMMARY:Regionsoberliga S-M wJB HC Großenhain  vs HSV Weinböhla (32057)
UID:dd65b89e-3807-4997-9203-4d6b68016b3b
STATUS:CONFIRMED
LAST-MODIFIED:20260314T151156Z
DESCRIPTION:Regionsoberliga S-M wJB\nBegegnungs-Nr: 32057\nHeim: HC Großenhain \nGast: HSV Weinböhla\nHalle: Rödertal-SH (33205)\nAdresse: Am Marstall 4\, 01558 Großenhain\n
LOCATION:Rödertal-SH (33205): Am Marstall 4\, 01558 Großenhain
CATEGORIES:Saison 2025/26
END:VEVENT
BEGIN:VEVENT
DTSTAMP:20260425T114342Z
DTSTART;TZID=Europe/Berlin:20260125T140000
DTEND;TZID=Europe/Berlin:20260125T150000
SUMMARY:Regionsoberliga S-M wJB SHV Oschatz vs HSV Weinböhla (32044)
UID:8879c62a-4c82-4aee-8b51-5a184ab74ee2
STATUS:CONFIRMED
LAST-MODIFIED:20260128T133050Z
DESCRIPTION:Regionsoberliga S-M wJB\nBegegnungs-Nr: 32044\nHeim: SHV Oschatz\nGast: HSV Weinböhla\nHalle: Rosental-SH Oschatz (31604)\nAdresse: Berufsschulstraße 8\, 04758 Oschatz\n
LOCATION:Rosental-SH Oschatz (31604): Berufsschulstraße 8\, 04758 Oschatz
CATEGORIES:Saison 2025/26
END:VEVENT
BEGIN:VEVENT
DTSTAMP:20260425T114342Z
DTSTART;TZID=Europe/Berlin:20251025T100000
DTEND;TZID=Europe/Berlin:20251025T110000
SUMMARY:Regionsoberliga S-M wJB TSV Dresden-Bühlau vs HSV Weinböhla (32018)
UID:9dfa32aa-9e2f-4b85-be9f-ffea012d4271
STATUS:CONFIRMED
LAST-MODIFIED:20251101T075502Z
DESCRIPTION:Regionsoberliga S-M wJB\nBegegnungs-Nr: 32018\nHeim: TSV Dresden-Bühlau\nGast: HSV Weinböhla\nHalle: SH Gymnasium Dresden-Bühlau (33118)\nAdresse: Quohrener Str. 12\, 01324 Dresden\n
LOCATION:SH Gymnasium Dresden-Bühlau (33118): Quohrener Str. 12\, 01324 Dresden
CATEGORIES:Saison 2025/26
END:VEVENT
BEGIN:VEVENT
DTSTAMP:20260425T114342Z
DTSTART;TZID=Europe/Berlin:20251130T140000
DTEND;TZID=Europe/Berlin:20251130T150000
SUMMARY:Regionsoberliga S-M wJB Radebeuler HV vs HSV Weinböhla (32031)
UID:a2d1f350-e257-4ce8-ac1c-b5f498b8c359
STATUS:CONFIRMED
LAST-MODIFIED:20251201T160617Z
DESCRIPTION:Regionsoberliga S-M wJB\nBegegnungs-Nr: 32031\nHeim: Radebeuler HV\nGast: HSV Weinböhla\nHalle: Elb-SH Radebeul West (33203)\nAdresse: An der Festwiese 1\, 01445 Radebeul\n
LOCATION:Elb-SH Radebeul West (33203): An der Festwiese 1\, 01445 Radebeul
CATEGORIES:Saison 2025/26
END:VEVENT
BEGIN:VEVENT
DTSTAMP:20260425T114342Z
DTSTART;TZID=Europe/Berlin:20260207T133000
DTEND;TZID=Europe/Berlin:20260207T143000
SUMMARY:Regionsoberliga S-M wJB HSG Weißeritztal vs HSV Weinböhla (32050)
UID:b4485608-61fc-4dc7-870e-2f737e3ecea8
STATUS:CONFIRMED
LAST-MODIFIED:20260211T162157Z
DESCRIPTION:Regionsoberliga S-M wJB\nBegegnungs-Nr: 32050\nHeim: HSG Weißeritztal\nGast: HSV Weinböhla\nHalle: Saubach-SH Wilsdruff (33208)\nAdresse: Nossener Str. 21b\, 01723 Wilsdruff\n
LOCATION:Saubach-SH Wilsdruff (33208): Nossener Str. 21b\, 01723 Wilsdruff
CATEGORIES:Saison 2025/26
END:VEVENT
END:VCALENDAR
