BEGIN:VCALENDAR
PRODID:-//nuDatenautomaten//framework iCal4j //DE
VERSION:2.0
CALSCALE:GREGORIAN
BEGIN:VTIMEZONE
TZID:Europe/Berlin
LAST-MODIFIED:20260306T231828Z
TZURL:https://www.tzurl.org/zoneinfo/Europe/Berlin
X-LIC-LOCATION:Europe/Berlin
X-PROLEPTIC-TZNAME:LMT
BEGIN:STANDARD
TZNAME:CET
TZOFFSETFROM:+005328
TZOFFSETTO:+0100
DTSTART:18930401T000000
END:STANDARD
BEGIN:DAYLIGHT
TZNAME:CEST
TZOFFSETFROM:+0100
TZOFFSETTO:+0200
DTSTART:19160430T230000
RDATE:19400401T020000
RDATE:19430329T020000
RDATE:19460414T020000
RDATE:19470406T030000
RDATE:19480418T020000
RDATE:19490410T020000
RDATE:19800406T020000
END:DAYLIGHT
BEGIN:STANDARD
TZNAME:CET
TZOFFSETFROM:+0200
TZOFFSETTO:+0100
DTSTART:19161001T010000
RDATE:19421102T030000
RDATE:19431004T030000
RDATE:19441002T030000
RDATE:19451118T030000
RDATE:19461007T030000
END:STANDARD
BEGIN:DAYLIGHT
TZNAME:CEST
TZOFFSETFROM:+0100
TZOFFSETTO:+0200
DTSTART:19170416T020000
RRULE:FREQ=YEARLY;UNTIL=19180415T010000Z;BYMONTH=4;BYDAY=3MO
END:DAYLIGHT
BEGIN:STANDARD
TZNAME:CET
TZOFFSETFROM:+0200
TZOFFSETTO:+0100
DTSTART:19170917T030000
RRULE:FREQ=YEARLY;UNTIL=19180916T010000Z;BYMONTH=9;BYDAY=3MO
END:STANDARD
BEGIN:DAYLIGHT
TZNAME:CEST
TZOFFSETFROM:+0100
TZOFFSETTO:+0200
DTSTART:19440403T020000
RRULE:FREQ=YEARLY;UNTIL=19450402T010000Z;BYMONTH=4;BYDAY=1MO
END:DAYLIGHT
BEGIN:DAYLIGHT
TZNAME:CEMT
TZOFFSETFROM:+0200
TZOFFSETTO:+0300
DTSTART:19450524T020000
RDATE:19470511T030000
END:DAYLIGHT
BEGIN:DAYLIGHT
TZNAME:CEST
TZOFFSETFROM:+0300
TZOFFSETTO:+0200
DTSTART:19450924T030000
RDATE:19470629T030000
END:DAYLIGHT
BEGIN:STANDARD
TZNAME:CET
TZOFFSETFROM:+0100
TZOFFSETTO:+0100
DTSTART:19460101T000000
RDATE:19800101T000000
END:STANDARD
BEGIN:STANDARD
TZNAME:CET
TZOFFSETFROM:+0200
TZOFFSETTO:+0100
DTSTART:19471005T030000
RRULE:FREQ=YEARLY;UNTIL=19491002T010000Z;BYMONTH=10;BYDAY=1SU
END:STANDARD
BEGIN:STANDARD
TZNAME:CET
TZOFFSETFROM:+0200
TZOFFSETTO:+0100
DTSTART:19800928T030000
RRULE:FREQ=YEARLY;UNTIL=19950924T010000Z;BYMONTH=9;BYDAY=-1SU
END:STANDARD
BEGIN:DAYLIGHT
TZNAME:CEST
TZOFFSETFROM:+0100
TZOFFSETTO:+0200
DTSTART:19810329T020000
RRULE:FREQ=YEARLY;BYMONTH=3;BYDAY=-1SU
END:DAYLIGHT
BEGIN:STANDARD
TZNAME:CET
TZOFFSETFROM:+0200
TZOFFSETTO:+0100
DTSTART:19961027T030000
RRULE:FREQ=YEARLY;BYMONTH=10;BYDAY=-1SU
END:STANDARD
END:VTIMEZONE
BEGIN:VEVENT
DTSTAMP:20260420T041645Z
DTSTART;TZID=Europe/Berlin:20260307T150000
DTEND;TZID=Europe/Berlin:20260307T160000
SUMMARY:Regionsoberliga S-M wJB HSG Weißeritztal vs Medizin Bad Gottleuba (32058)
UID:5e94bb37-de00-4479-b0ed-52593a68681f
STATUS:CONFIRMED
LAST-MODIFIED:20260314T151106Z
DESCRIPTION:Regionsoberliga S-M wJB\nBegegnungs-Nr: 32058\nHeim: HSG Weißeritztal\nGast: Medizin Bad Gottleuba\nHalle: Saubach-SH Wilsdruff (33208)\nAdresse: Nossener Str. 21b\, 01723 Wilsdruff\n
LOCATION:Saubach-SH Wilsdruff (33208): Nossener Str. 21b\, 01723 Wilsdruff
CATEGORIES:Saison 2025/26
END:VEVENT
BEGIN:VEVENT
DTSTAMP:20260420T041645Z
DTSTART;TZID=Europe/Berlin:20251206T160000
DTEND;TZID=Europe/Berlin:20251206T170000
SUMMARY:Regionsoberliga S-M wJB HSG Weißeritztal vs TSV Dresden-Bühlau (32036)
UID:e2c6e42c-92e6-447e-986e-9d607f20e19d
STATUS:CONFIRMED
LAST-MODIFIED:20251207T082823Z
DESCRIPTION:Regionsoberliga S-M wJB\nBegegnungs-Nr: 32036\nHeim: HSG Weißeritztal\nGast: TSV Dresden-Bühlau\nHalle: Saubach-SH Wilsdruff (33208)\nAdresse: Nossener Str. 21b\, 01723 Wilsdruff\n
LOCATION:Saubach-SH Wilsdruff (33208): Nossener Str. 21b\, 01723 Wilsdruff
CATEGORIES:Saison 2025/26
END:VEVENT
BEGIN:VEVENT
DTSTAMP:20260420T041645Z
DTSTART;TZID=Europe/Berlin:20260418T143000
DTEND;TZID=Europe/Berlin:20260418T153000
SUMMARY:Regionsoberliga S-M wJB HSG Weißeritztal vs SG Klotzsche (32069)
UID:ea980206-a1e7-49e7-91a0-bd645872ff7e
STATUS:CONFIRMED
DESCRIPTION:Regionsoberliga S-M wJB\nBegegnungs-Nr: 32069\nHeim: HSG Weißeritztal\nGast: SG Klotzsche\nHalle: Saubach-SH Wilsdruff (33208)\nAdresse: Nossener Str. 21b\, 01723 Wilsdruff\n
LOCATION:Saubach-SH Wilsdruff (33208): Nossener Str. 21b\, 01723 Wilsdruff
CATEGORIES:Saison 2025/26
END:VEVENT
BEGIN:VEVENT
DTSTAMP:20260420T041645Z
DTSTART;TZID=Europe/Berlin:20260124T140000
DTEND;TZID=Europe/Berlin:20260124T150000
SUMMARY:Regionsoberliga S-M wJB HSG Weißeritztal vs SF 01 Dresden (32045)
UID:b1e53b0a-f543-4c83-a466-d1c95b9e684d
STATUS:CONFIRMED
LAST-MODIFIED:20260128T133003Z
DESCRIPTION:Regionsoberliga S-M wJB\nBegegnungs-Nr: 32045\nHeim: HSG Weißeritztal\nGast: SF 01 Dresden\nHalle: Saubach-SH Wilsdruff (33208)\nAdresse: Nossener Str. 21b\, 01723 Wilsdruff\n
LOCATION:Saubach-SH Wilsdruff (33208): Nossener Str. 21b\, 01723 Wilsdruff
CATEGORIES:Saison 2025/26
END:VEVENT
BEGIN:VEVENT
DTSTAMP:20260420T041645Z
DTSTART;TZID=Europe/Berlin:20260222T120000
DTEND;TZID=Europe/Berlin:20260222T130000
SUMMARY:Regionsoberliga S-M wJB HSG Weißeritztal vs HC Großenhain  (32039)
UID:3b4430e4-0e92-4507-a7c1-d559ec3d5f71
STATUS:CONFIRMED
LAST-MODIFIED:20260225T161452Z
DESCRIPTION:Regionsoberliga S-M wJB\nBegegnungs-Nr: 32039\nHeim: HSG Weißeritztal\nGast: HC Großenhain \nHalle: Saubach-SH Wilsdruff (33208)\nAdresse: Nossener Str. 21b\, 01723 Wilsdruff\n
LOCATION:Saubach-SH Wilsdruff (33208): Nossener Str. 21b\, 01723 Wilsdruff
CATEGORIES:Saison 2025/26
END:VEVENT
BEGIN:VEVENT
DTSTAMP:20260420T041645Z
DTSTART;TZID=Europe/Berlin:20260207T133000
DTEND;TZID=Europe/Berlin:20260207T143000
SUMMARY:Regionsoberliga S-M wJB HSG Weißeritztal vs HSV Weinböhla (32050)
UID:b4485608-61fc-4dc7-870e-2f737e3ecea8
STATUS:CONFIRMED
LAST-MODIFIED:20260211T162157Z
DESCRIPTION:Regionsoberliga S-M wJB\nBegegnungs-Nr: 32050\nHeim: HSG Weißeritztal\nGast: HSV Weinböhla\nHalle: Saubach-SH Wilsdruff (33208)\nAdresse: Nossener Str. 21b\, 01723 Wilsdruff\n
LOCATION:Saubach-SH Wilsdruff (33208): Nossener Str. 21b\, 01723 Wilsdruff
CATEGORIES:Saison 2025/26
END:VEVENT
BEGIN:VEVENT
DTSTAMP:20260420T041645Z
DTSTART;TZID=Europe/Berlin:20251115T130000
DTEND;TZID=Europe/Berlin:20251115T140000
SUMMARY:Regionsoberliga S-M wJB HSG Weißeritztal vs Radebeuler HV (32012)
UID:b6003a11-2f4f-44af-99da-7025cbfeaa46
STATUS:CONFIRMED
LAST-MODIFIED:20251115T201747Z
DESCRIPTION:Regionsoberliga S-M wJB\nBegegnungs-Nr: 32012\nHeim: HSG Weißeritztal\nGast: Radebeuler HV\nHalle: Saubach-SH Wilsdruff (33208)\nAdresse: Nossener Str. 21b\, 01723 Wilsdruff\n
LOCATION:Saubach-SH Wilsdruff (33208): Nossener Str. 21b\, 01723 Wilsdruff
CATEGORIES:Saison 2025/26
END:VEVENT
BEGIN:VEVENT
DTSTAMP:20260420T041645Z
DTSTART;TZID=Europe/Berlin:20260321T150000
DTEND;TZID=Europe/Berlin:20260321T160000
SUMMARY:Regionsoberliga S-M wJB HSG Weißeritztal vs SHV Oschatz (32061)
UID:cf8512df-08c9-48ed-b9f1-795ac032b531
STATUS:CONFIRMED
LAST-MODIFIED:20260323T153905Z
DESCRIPTION:Regionsoberliga S-M wJB\nBegegnungs-Nr: 32061\nHeim: HSG Weißeritztal\nGast: SHV Oschatz\nHalle: Saubach-SH Wilsdruff (33208)\nAdresse: Nossener Str. 21b\, 01723 Wilsdruff\n
LOCATION:Saubach-SH Wilsdruff (33208): Nossener Str. 21b\, 01723 Wilsdruff
CATEGORIES:Saison 2025/26
END:VEVENT
BEGIN:VEVENT
DTSTAMP:20260420T041645Z
DTSTART;TZID=Europe/Berlin:20250830T090000
DTEND;TZID=Europe/Berlin:20250830T100000
SUMMARY:Regionsoberliga S-M wJB HC Großenhain  vs HSG Weißeritztal (32003)
UID:7efbba9c-9a9c-44b2-a5b1-6529f45ab6f0
STATUS:CONFIRMED
LAST-MODIFIED:20250830T185237Z
DESCRIPTION:Regionsoberliga S-M wJB\nBegegnungs-Nr: 32003\nHeim: HC Großenhain \nGast: HSG Weißeritztal\nHalle: Rödertal-SH (33205)\nAdresse: Am Marstall 4\, 01558 Großenhain\n
LOCATION:Rödertal-SH (33205): Am Marstall 4\, 01558 Großenhain
CATEGORIES:Saison 2025/26
END:VEVENT
BEGIN:VEVENT
DTSTAMP:20260420T041645Z
DTSTART;TZID=Europe/Berlin:20260118T150000
DTEND;TZID=Europe/Berlin:20260118T160000
SUMMARY:Regionsoberliga S-M wJB SG Klotzsche vs HSG Weißeritztal (32033)
UID:111b8d0e-193a-4223-a8eb-fd8d574976c7
STATUS:CONFIRMED
LAST-MODIFIED:20260119T094912Z
DESCRIPTION:Regionsoberliga S-M wJB\nBegegnungs-Nr: 32033\nHeim: SG Klotzsche\nGast: HSG Weißeritztal\nHalle: SH Gymnasium Dresden-Bühlau (33118)\nAdresse: Quohrener Str. 12\, 01324 Dresden\n
LOCATION:SH Gymnasium Dresden-Bühlau (33118): Quohrener Str. 12\, 01324 Dresden
CATEGORIES:Saison 2025/26
END:VEVENT
BEGIN:VEVENT
DTSTAMP:20260420T041645Z
DTSTART;TZID=Europe/Berlin:20260426T123000
DTEND;TZID=Europe/Berlin:20260426T133000
SUMMARY:Regionsoberliga S-M wJB TSV Dresden-Bühlau vs HSG Weißeritztal (32072)
UID:31420a1b-c249-451c-a12f-e599b41f21a2
STATUS:CONFIRMED
LAST-MODIFIED:20250702T070551Z
DESCRIPTION:Regionsoberliga S-M wJB\nBegegnungs-Nr: 32072\nHeim: TSV Dresden-Bühlau\nGast: HSG Weißeritztal\nHalle: SH Gymnasium Dresden-Bühlau (33118)\nAdresse: Quohrener Str. 12\, 01324 Dresden\n
LOCATION:SH Gymnasium Dresden-Bühlau (33118): Quohrener Str. 12\, 01324 Dresden
CATEGORIES:Saison 2025/26
END:VEVENT
BEGIN:VEVENT
DTSTAMP:20260420T041645Z
DTSTART;TZID=Europe/Berlin:20251101T163000
DTEND;TZID=Europe/Berlin:20251101T173000
SUMMARY:Regionsoberliga S-M wJB Medizin Bad Gottleuba vs HSG Weißeritztal (32022)
UID:4c3b1580-13ab-4318-96fa-6234aee0a524
STATUS:CONFIRMED
LAST-MODIFIED:20251103T123132Z
DESCRIPTION:Regionsoberliga S-M wJB\nBegegnungs-Nr: 32022\nHeim: Medizin Bad Gottleuba\nGast: HSG Weißeritztal\nHalle: SH Geising (33201)\nAdresse: Lange Str. 25\, 01778 Altenberg ST Geising\n
LOCATION:SH Geising (33201): Lange Str. 25\, 01778 Altenberg ST Geising
CATEGORIES:Saison 2025/26
END:VEVENT
BEGIN:VEVENT
DTSTAMP:20260420T041645Z
DTSTART;TZID=Europe/Berlin:20260315T140000
DTEND;TZID=Europe/Berlin:20260315T150000
SUMMARY:Regionsoberliga S-M wJB HSV Weinböhla vs HSG Weißeritztal (32014)
UID:68f375b0-5e08-4828-987e-dbb1c48233bd
STATUS:CONFIRMED
LAST-MODIFIED:20260316T085604Z
DESCRIPTION:Regionsoberliga S-M wJB\nBegegnungs-Nr: 32014\nHeim: HSV Weinböhla\nGast: HSG Weißeritztal\nHalle: Nassau-SH Weinböhla (33224)\nAdresse: Meißner Str. 1\, 01689 Weinböhla\n
LOCATION:Nassau-SH Weinböhla (33224): Meißner Str. 1\, 01689 Weinböhla
CATEGORIES:Saison 2025/26
END:VEVENT
BEGIN:VEVENT
DTSTAMP:20260420T041645Z
DTSTART;TZID=Europe/Berlin:20260201T120000
DTEND;TZID=Europe/Berlin:20260201T130000
SUMMARY:Regionsoberliga S-M wJB Radebeuler HV vs HSG Weißeritztal (32048)
UID:cf15e760-2313-4f11-a7f9-663396c35795
STATUS:CONFIRMED
LAST-MODIFIED:20260211T161745Z
DESCRIPTION:Regionsoberliga S-M wJB\nBegegnungs-Nr: 32048\nHeim: Radebeuler HV\nGast: HSG Weißeritztal\nHalle: Elb-SH Radebeul West (33203)\nAdresse: An der Festwiese 1\, 01445 Radebeul\n
LOCATION:Elb-SH Radebeul West (33203): An der Festwiese 1\, 01445 Radebeul
CATEGORIES:Saison 2025/26
END:VEVENT
BEGIN:VEVENT
DTSTAMP:20260420T041645Z
DTSTART;TZID=Europe/Berlin:20250914T160000
DTEND;TZID=Europe/Berlin:20250914T170000
SUMMARY:Regionsoberliga S-M wJB SF 01 Dresden vs HSG Weißeritztal (32009)
UID:8953fece-14f6-4941-92e1-55d5058b7b6a
STATUS:CONFIRMED
LAST-MODIFIED:20250923T064115Z
DESCRIPTION:Regionsoberliga S-M wJB\nBegegnungs-Nr: 32009\nHeim: SF 01 Dresden\nGast: HSG Weißeritztal\nHalle: SH 151. Gesamtschule Dresden (33142)\nAdresse: Stauffenbergallee 8\, 01099 Dresden\n
LOCATION:SH 151. Gesamtschule Dresden (33142): Stauffenbergallee 8\, 01099 Dresden
CATEGORIES:Saison 2025/26
END:VEVENT
BEGIN:VEVENT
DTSTAMP:20260420T041645Z
DTSTART;TZID=Europe/Berlin:20251109T130000
DTEND;TZID=Europe/Berlin:20251109T140000
SUMMARY:Regionsoberliga S-M wJB SHV Oschatz vs HSG Weißeritztal (32025)
UID:e6bcc941-2e33-4c03-89c2-81600f6afb12
STATUS:CONFIRMED
LAST-MODIFIED:20251110T163636Z
DESCRIPTION:Regionsoberliga S-M wJB\nBegegnungs-Nr: 32025\nHeim: SHV Oschatz\nGast: HSG Weißeritztal\nHalle: Rosental-SH Oschatz (31604)\nAdresse: Berufsschulstraße 8\, 04758 Oschatz\n
LOCATION:Rosental-SH Oschatz (31604): Berufsschulstraße 8\, 04758 Oschatz
CATEGORIES:Saison 2025/26
END:VEVENT
END:VCALENDAR
