BEGIN:VCALENDAR
PRODID:-//nuDatenautomaten//framework iCal4j //DE
VERSION:2.0
CALSCALE:GREGORIAN
BEGIN:VTIMEZONE
TZID:Europe/Berlin
LAST-MODIFIED:20260306T231828Z
TZURL:https://www.tzurl.org/zoneinfo/Europe/Berlin
X-LIC-LOCATION:Europe/Berlin
X-PROLEPTIC-TZNAME:LMT
BEGIN:STANDARD
TZNAME:CET
TZOFFSETFROM:+005328
TZOFFSETTO:+0100
DTSTART:18930401T000000
END:STANDARD
BEGIN:DAYLIGHT
TZNAME:CEST
TZOFFSETFROM:+0100
TZOFFSETTO:+0200
DTSTART:19160430T230000
RDATE:19400401T020000
RDATE:19430329T020000
RDATE:19460414T020000
RDATE:19470406T030000
RDATE:19480418T020000
RDATE:19490410T020000
RDATE:19800406T020000
END:DAYLIGHT
BEGIN:STANDARD
TZNAME:CET
TZOFFSETFROM:+0200
TZOFFSETTO:+0100
DTSTART:19161001T010000
RDATE:19421102T030000
RDATE:19431004T030000
RDATE:19441002T030000
RDATE:19451118T030000
RDATE:19461007T030000
END:STANDARD
BEGIN:DAYLIGHT
TZNAME:CEST
TZOFFSETFROM:+0100
TZOFFSETTO:+0200
DTSTART:19170416T020000
RRULE:FREQ=YEARLY;UNTIL=19180415T010000Z;BYMONTH=4;BYDAY=3MO
END:DAYLIGHT
BEGIN:STANDARD
TZNAME:CET
TZOFFSETFROM:+0200
TZOFFSETTO:+0100
DTSTART:19170917T030000
RRULE:FREQ=YEARLY;UNTIL=19180916T010000Z;BYMONTH=9;BYDAY=3MO
END:STANDARD
BEGIN:DAYLIGHT
TZNAME:CEST
TZOFFSETFROM:+0100
TZOFFSETTO:+0200
DTSTART:19440403T020000
RRULE:FREQ=YEARLY;UNTIL=19450402T010000Z;BYMONTH=4;BYDAY=1MO
END:DAYLIGHT
BEGIN:DAYLIGHT
TZNAME:CEMT
TZOFFSETFROM:+0200
TZOFFSETTO:+0300
DTSTART:19450524T020000
RDATE:19470511T030000
END:DAYLIGHT
BEGIN:DAYLIGHT
TZNAME:CEST
TZOFFSETFROM:+0300
TZOFFSETTO:+0200
DTSTART:19450924T030000
RDATE:19470629T030000
END:DAYLIGHT
BEGIN:STANDARD
TZNAME:CET
TZOFFSETFROM:+0100
TZOFFSETTO:+0100
DTSTART:19460101T000000
RDATE:19800101T000000
END:STANDARD
BEGIN:STANDARD
TZNAME:CET
TZOFFSETFROM:+0200
TZOFFSETTO:+0100
DTSTART:19471005T030000
RRULE:FREQ=YEARLY;UNTIL=19491002T010000Z;BYMONTH=10;BYDAY=1SU
END:STANDARD
BEGIN:STANDARD
TZNAME:CET
TZOFFSETFROM:+0200
TZOFFSETTO:+0100
DTSTART:19800928T030000
RRULE:FREQ=YEARLY;UNTIL=19950924T010000Z;BYMONTH=9;BYDAY=-1SU
END:STANDARD
BEGIN:DAYLIGHT
TZNAME:CEST
TZOFFSETFROM:+0100
TZOFFSETTO:+0200
DTSTART:19810329T020000
RRULE:FREQ=YEARLY;BYMONTH=3;BYDAY=-1SU
END:DAYLIGHT
BEGIN:STANDARD
TZNAME:CET
TZOFFSETFROM:+0200
TZOFFSETTO:+0100
DTSTART:19961027T030000
RRULE:FREQ=YEARLY;BYMONTH=10;BYDAY=-1SU
END:STANDARD
END:VTIMEZONE
BEGIN:VEVENT
DTSTAMP:20260421T185853Z
DTSTART;TZID=Europe/Berlin:20250517T100000
DTEND;TZID=Europe/Berlin:20250517T110000
SUMMARY:2.Quali OLS mDJ St.2 HC Großenhain  vs NSG SV04/HCE (22907)
UID:cc7a5752-256d-4dd5-bf27-45045369bfd5
STATUS:CONFIRMED
LAST-MODIFIED:20250518T122356Z
DESCRIPTION:2. Quali männliche D-Jugend St. 2\nBegegnungs-Nr: 22907\nHeim: HC Großenhain \nGast: NSG SV04/HCE\n
LOCATION:
CATEGORIES:Saison 2025/26
END:VEVENT
BEGIN:VEVENT
DTSTAMP:20260421T185853Z
DTSTART;TZID=Europe/Berlin:20250615T121500
DTEND;TZID=Europe/Berlin:20250615T131500
SUMMARY:2.Quali OLS mDJ St.2 HC Großenhain  vs SV Niederau (22928)
UID:b132f01c-e7a2-42ce-bc07-b53092dc130b
STATUS:CONFIRMED
LAST-MODIFIED:20250615T130139Z
DESCRIPTION:2. Quali männliche D-Jugend St. 2\nBegegnungs-Nr: 22928\nHeim: HC Großenhain \nGast: SV Niederau\nHalle: Stadt-SH Döbeln (31202)\nAdresse: Str. des Friedens 9\, 04720 Döbeln\n
LOCATION:Stadt-SH Döbeln (31202): Str. des Friedens 9\, 04720 Döbeln
CATEGORIES:Saison 2025/26
END:VEVENT
BEGIN:VEVENT
DTSTAMP:20260421T185853Z
DTSTART;TZID=Europe/Berlin:20260314T150000
DTEND;TZID=Europe/Berlin:20260314T160000
SUMMARY:Regionsoberliga S-M mJD HC Großenhain  vs HC Elbflorenz 2006 III (60095)
UID:13c4250d-1205-4ac5-8421-304bcf149e6a
STATUS:CONFIRMED
LAST-MODIFIED:20260320T150922Z
DESCRIPTION:Regionsoberliga S-M mJD\nBegegnungs-Nr: 60095\nHeim: HC Großenhain \nGast: HC Elbflorenz 2006 III\nHalle: Rödertal-SH (33205)\nAdresse: Am Marstall 4\, 01558 Großenhain\n
LOCATION:Rödertal-SH (33205): Am Marstall 4\, 01558 Großenhain
CATEGORIES:Saison 2025/26
END:VEVENT
BEGIN:VEVENT
DTSTAMP:20260421T185853Z
DTSTART;TZID=Europe/Berlin:20260307T100000
DTEND;TZID=Europe/Berlin:20260307T110000
SUMMARY:Regionsoberliga S-M mJD HC Großenhain  vs HSV Weinböhla (60103)
UID:f708be28-b911-40b1-ad8b-db3730241bc8
STATUS:CONFIRMED
LAST-MODIFIED:20260309T115849Z
DESCRIPTION:Regionsoberliga S-M mJD\nBegegnungs-Nr: 60103\nHeim: HC Großenhain \nGast: HSV Weinböhla\nHalle: Rödertal-SH (33205)\nAdresse: Am Marstall 4\, 01558 Großenhain\n
LOCATION:Rödertal-SH (33205): Am Marstall 4\, 01558 Großenhain
CATEGORIES:Saison 2025/26
END:VEVENT
BEGIN:VEVENT
DTSTAMP:20260421T185853Z
DTSTART;TZID=Europe/Berlin:20250921T120000
DTEND;TZID=Europe/Berlin:20250921T130000
SUMMARY:Regionsoberliga S-M mJD HC Großenhain  vs ESV Dresden (60024)
UID:7eb440a3-1953-48da-a5a6-a5154bd1ba33
STATUS:CONFIRMED
LAST-MODIFIED:20250922T063132Z
DESCRIPTION:Regionsoberliga S-M mJD\nBegegnungs-Nr: 60024\nHeim: HC Großenhain \nGast: ESV Dresden\nHalle: Rödertal-SH (33205)\nAdresse: Am Marstall 4\, 01558 Großenhain\n
LOCATION:Rödertal-SH (33205): Am Marstall 4\, 01558 Großenhain
CATEGORIES:Saison 2025/26
END:VEVENT
BEGIN:VEVENT
DTSTAMP:20260421T185853Z
DTSTART;TZID=Europe/Berlin:20260329T090000
DTEND;TZID=Europe/Berlin:20260329T100000
SUMMARY:Regionsoberliga S-M mJD HC Großenhain  vs HSV Dresden II (60117)
UID:24699e8e-d12c-4f93-8b8a-e415f0cb2c72
STATUS:CONFIRMED
LAST-MODIFIED:20260401T071223Z
DESCRIPTION:Regionsoberliga S-M mJD\nBegegnungs-Nr: 60117\nHeim: HC Großenhain \nGast: HSV Dresden II\nHalle: Rödertal-SH (33205)\nAdresse: Am Marstall 4\, 01558 Großenhain\n
LOCATION:Rödertal-SH (33205): Am Marstall 4\, 01558 Großenhain
CATEGORIES:Saison 2025/26
END:VEVENT
BEGIN:VEVENT
DTSTAMP:20260421T185853Z
DTSTART;TZID=Europe/Berlin:20251025T103000
DTEND;TZID=Europe/Berlin:20251025T113000
SUMMARY:Regionsoberliga S-M mJD HC Großenhain  vs Radebeuler HV (60035)
UID:5571c6fc-1d9a-4796-bf69-472174fdac75
STATUS:CONFIRMED
LAST-MODIFIED:20251026T090442Z
DESCRIPTION:Regionsoberliga S-M mJD\nBegegnungs-Nr: 60035\nHeim: HC Großenhain \nGast: Radebeuler HV\nHalle: Rödertal-SH (33205)\nAdresse: Am Marstall 4\, 01558 Großenhain\n
LOCATION:Rödertal-SH (33205): Am Marstall 4\, 01558 Großenhain
CATEGORIES:Saison 2025/26
END:VEVENT
BEGIN:VEVENT
DTSTAMP:20260421T185853Z
DTSTART;TZID=Europe/Berlin:20251109T090000
DTEND;TZID=Europe/Berlin:20251109T100000
SUMMARY:Regionsoberliga S-M mJD HC Großenhain  vs USV TU Dresden (60044)
UID:b5aceb1d-2944-4acc-8b0b-2c8f96105ef4
STATUS:CONFIRMED
LAST-MODIFIED:20251110T070459Z
DESCRIPTION:Regionsoberliga S-M mJD\nBegegnungs-Nr: 60044\nHeim: HC Großenhain \nGast: USV TU Dresden\nHalle: Rödertal-SH (33205)\nAdresse: Am Marstall 4\, 01558 Großenhain\n
LOCATION:Rödertal-SH (33205): Am Marstall 4\, 01558 Großenhain
CATEGORIES:Saison 2025/26
END:VEVENT
BEGIN:VEVENT
DTSTAMP:20260421T185853Z
DTSTART;TZID=Europe/Berlin:20250831T133000
DTEND;TZID=Europe/Berlin:20250831T143000
SUMMARY:Regionsoberliga S-M mJD HC Großenhain  vs SV Niederau (60005)
UID:ab287a93-1151-4841-a804-ec0a06c73ea6
STATUS:CONFIRMED
LAST-MODIFIED:20250908T062434Z
DESCRIPTION:Regionsoberliga S-M mJD\nBegegnungs-Nr: 60005\nHeim: HC Großenhain \nGast: SV Niederau\nHalle: Rödertal-SH (33205)\nAdresse: Am Marstall 4\, 01558 Großenhain\n
LOCATION:Rödertal-SH (33205): Am Marstall 4\, 01558 Großenhain
CATEGORIES:Saison 2025/26
END:VEVENT
BEGIN:VEVENT
DTSTAMP:20260421T185853Z
DTSTART;TZID=Europe/Berlin:20251130T090000
DTEND;TZID=Europe/Berlin:20251130T100000
SUMMARY:Regionsoberliga S-M mJD HC Großenhain  vs SC Riesa (60058)
UID:b980170e-150d-4475-af5b-da151ca07851
STATUS:CONFIRMED
LAST-MODIFIED:20251203T125839Z
DESCRIPTION:Regionsoberliga S-M mJD\nBegegnungs-Nr: 60058\nHeim: HC Großenhain \nGast: SC Riesa\nHalle: Rödertal-SH (33205)\nAdresse: Am Marstall 4\, 01558 Großenhain\n
LOCATION:Rödertal-SH (33205): Am Marstall 4\, 01558 Großenhain
CATEGORIES:Saison 2025/26
END:VEVENT
BEGIN:VEVENT
DTSTAMP:20260421T185853Z
DTSTART;TZID=Europe/Berlin:20260425T120000
DTEND;TZID=Europe/Berlin:20260425T130000
SUMMARY:Regionsoberliga S-M mJD HC Großenhain  vs Motor Wilsdruff  (60131)
UID:afe17ed8-f437-40cf-a62c-164d476741f2
STATUS:CONFIRMED
DESCRIPTION:Regionsoberliga S-M mJD\nBegegnungs-Nr: 60131\nHeim: HC Großenhain \nGast: Motor Wilsdruff \nHalle: Rödertal-SH (33205)\nAdresse: Am Marstall 4\, 01558 Großenhain\n
LOCATION:Rödertal-SH (33205): Am Marstall 4\, 01558 Großenhain
CATEGORIES:Saison 2025/26
END:VEVENT
BEGIN:VEVENT
DTSTAMP:20260421T185853Z
DTSTART;TZID=Europe/Berlin:20260117T090000
DTEND;TZID=Europe/Berlin:20260117T100000
SUMMARY:Regionsoberliga S-M mJD HC Großenhain  vs TSV Dresden-Bühlau (60078)
UID:df2f947e-e85d-481e-aa68-fc6eb98432d3
STATUS:CONFIRMED
LAST-MODIFIED:20260118T203522Z
DESCRIPTION:Regionsoberliga S-M mJD\nBegegnungs-Nr: 60078\nHeim: HC Großenhain \nGast: TSV Dresden-Bühlau\nHalle: Rödertal-SH (33205)\nAdresse: Am Marstall 4\, 01558 Großenhain\n
LOCATION:Rödertal-SH (33205): Am Marstall 4\, 01558 Großenhain
CATEGORIES:Saison 2025/26
END:VEVENT
BEGIN:VEVENT
DTSTAMP:20260421T185853Z
DTSTART;TZID=Europe/Berlin:20260124T090000
DTEND;TZID=Europe/Berlin:20260124T100000
SUMMARY:Regionsoberliga S-M mJD HC Großenhain  vs Coswiger HSG (60084)
UID:4f82fb17-475c-492e-af9b-dcd1c44ce0f9
STATUS:CONFIRMED
LAST-MODIFIED:20260126T053413Z
DESCRIPTION:Regionsoberliga S-M mJD\nBegegnungs-Nr: 60084\nHeim: HC Großenhain \nGast: Coswiger HSG\nHalle: Rödertal-SH (33205)\nAdresse: Am Marstall 4\, 01558 Großenhain\n
LOCATION:Rödertal-SH (33205): Am Marstall 4\, 01558 Großenhain
CATEGORIES:Saison 2025/26
END:VEVENT
BEGIN:VEVENT
DTSTAMP:20260421T185853Z
DTSTART;TZID=Europe/Berlin:20250517T100000
DTEND;TZID=Europe/Berlin:20250517T110000
SUMMARY:Quali RLS mDJ II HC Großenhain  vs NSG SV04/HCE (22907)
UID:ec3eaad3-c897-4131-8b3e-d458b0cf0734
STATUS:CONFIRMED
LAST-MODIFIED:20250518T122356Z
DESCRIPTION:Quali männliche D-Jugend Gr.2\nBegegnungs-Nr: 22907\nHeim: HC Großenhain \nGast: NSG SV04/HCE\nHalle: Rödertal-SH (33205)\nAdresse: Am Marstall 4\, 01558 Großenhain\n
LOCATION:Rödertal-SH (33205): Am Marstall 4\, 01558 Großenhain
CATEGORIES:Saison 2025/26
END:VEVENT
BEGIN:VEVENT
DTSTAMP:20260421T185853Z
DTSTART;TZID=Europe/Berlin:20250517T121500
DTEND;TZID=Europe/Berlin:20250517T131500
SUMMARY:Quali RLS mDJ II HC Großenhain  vs HC Elbflorenz 2006 II (22910)
UID:e04b8d56-4fbc-4422-a057-ee257c2d499d
STATUS:CONFIRMED
LAST-MODIFIED:20250518T123631Z
DESCRIPTION:Quali männliche D-Jugend Gr.2\nBegegnungs-Nr: 22910\nHeim: HC Großenhain \nGast: HC Elbflorenz 2006 II\nHalle: Rödertal-SH (33205)\nAdresse: Am Marstall 4\, 01558 Großenhain\n
LOCATION:Rödertal-SH (33205): Am Marstall 4\, 01558 Großenhain
CATEGORIES:Saison 2025/26
END:VEVENT
BEGIN:VEVENT
DTSTAMP:20260421T185853Z
DTSTART;TZID=Europe/Berlin:20250615T160000
DTEND;TZID=Europe/Berlin:20250615T170000
SUMMARY:Quali 3.St.1-3.St.2 HSG Rückmarsdorf vs HC Großenhain  (22933)
UID:8f012a4e-cb40-4548-a011-e56353a02eab
STATUS:CONFIRMED
LAST-MODIFIED:20250615T180559Z
DESCRIPTION:Qualifikationsspiel 3. St.1 vs. 3. St.2\nBegegnungs-Nr: 22933\nHeim: HSG Rückmarsdorf\nGast: HC Großenhain \nHalle: Stadt-SH Döbeln (31202)\nAdresse: Str. des Friedens 9\, 04720 Döbeln\n
LOCATION:Stadt-SH Döbeln (31202): Str. des Friedens 9\, 04720 Döbeln
CATEGORIES:Saison 2025/26
END:VEVENT
BEGIN:VEVENT
DTSTAMP:20260421T185853Z
DTSTART;TZID=Europe/Berlin:20250615T151500
DTEND;TZID=Europe/Berlin:20250615T161500
SUMMARY:2.Quali OLS mDJ St.2 Buteo Youngsters Chemnitz II vs HC Großenhain  (22932)
UID:081487a2-4a5f-41de-93c2-5fad81f85683
STATUS:CONFIRMED
LAST-MODIFIED:20250615T180442Z
DESCRIPTION:2. Quali männliche D-Jugend St. 2\nBegegnungs-Nr: 22932\nHeim: Buteo Youngsters Chemnitz II\nGast: HC Großenhain \nHalle: Stadt-SH Döbeln (31202)\nAdresse: Str. des Friedens 9\, 04720 Döbeln\n
LOCATION:Stadt-SH Döbeln (31202): Str. des Friedens 9\, 04720 Döbeln
CATEGORIES:Saison 2025/26
END:VEVENT
BEGIN:VEVENT
DTSTAMP:20260421T185853Z
DTSTART;TZID=Europe/Berlin:20260418T130000
DTEND;TZID=Europe/Berlin:20260418T140000
SUMMARY:Regionsoberliga S-M mJD SC Riesa vs HC Großenhain  (60124)
UID:a7391546-637f-40db-ba83-acfb7ddba651
STATUS:CONFIRMED
LAST-MODIFIED:20260420T060325Z
DESCRIPTION:Regionsoberliga S-M mJD\nBegegnungs-Nr: 60124\nHeim: SC Riesa\nGast: HC Großenhain \nHalle: WM-Sporthalle Riesa (33213)\nAdresse: Am Sportzentrum 1\, 01587 Riesa\n
LOCATION:WM-Sporthalle Riesa (33213): Am Sportzentrum 1\, 01587 Riesa
CATEGORIES:Saison 2025/26
END:VEVENT
BEGIN:VEVENT
DTSTAMP:20260421T185853Z
DTSTART;TZID=Europe/Berlin:20260228T120000
DTEND;TZID=Europe/Berlin:20260228T130000
SUMMARY:Regionsoberliga S-M mJD Radebeuler HV vs HC Großenhain  (60101)
UID:f7383f4a-297c-481a-9494-5a1b09647299
STATUS:CONFIRMED
LAST-MODIFIED:20260302T060536Z
DESCRIPTION:Regionsoberliga S-M mJD\nBegegnungs-Nr: 60101\nHeim: Radebeuler HV\nGast: HC Großenhain \nHalle: Lößnitz-SH Radebeul (33204)\nAdresse: Steinbachstr. 13\, 01445 Radebeul\n
LOCATION:Lößnitz-SH Radebeul (33204): Steinbachstr. 13\, 01445 Radebeul
CATEGORIES:Saison 2025/26
END:VEVENT
BEGIN:VEVENT
DTSTAMP:20260421T185853Z
DTSTART;TZID=Europe/Berlin:20250913T100000
DTEND;TZID=Europe/Berlin:20250913T110000
SUMMARY:Regionsoberliga S-M mJD Coswiger HSG vs HC Großenhain  (60018)
UID:b0e8f271-f7a6-4961-8eee-fe94e9732e02
STATUS:CONFIRMED
LAST-MODIFIED:20250916T084632Z
DESCRIPTION:Regionsoberliga S-M mJD\nBegegnungs-Nr: 60018\nHeim: Coswiger HSG\nGast: HC Großenhain \nHalle: SH Gymnasium Coswig (33209)\nAdresse: Melanchthonstraße 8 - 10\, 01640 Coswig\n
LOCATION:SH Gymnasium Coswig (33209): Melanchthonstraße 8 - 10\, 01640 Coswig
CATEGORIES:Saison 2025/26
END:VEVENT
BEGIN:VEVENT
DTSTAMP:20260421T185853Z
DTSTART;TZID=Europe/Berlin:20260321T120000
DTEND;TZID=Europe/Berlin:20260321T130000
SUMMARY:Regionsoberliga S-M mJD USV TU Dresden vs HC Großenhain  (60110)
UID:1dfeb7e0-6dce-42bd-85ad-7e85a00918f9
STATUS:CONFIRMED
LAST-MODIFIED:20260323T111851Z
DESCRIPTION:Regionsoberliga S-M mJD\nBegegnungs-Nr: 60110\nHeim: USV TU Dresden\nGast: HC Großenhain \nHalle: JOYNEXT Arena Dresden (Spielfeld 2) (33112b)\nAdresse: Magdeburger Straße 10\, 01067 Dresden\n
LOCATION:JOYNEXT Arena Dresden (Spielfeld 2) (33112b): Magdeburger Straße 10\, 01067 Dresden
CATEGORIES:Saison 2025/26
END:VEVENT
BEGIN:VEVENT
DTSTAMP:20260421T185853Z
DTSTART;TZID=Europe/Berlin:20250927T143000
DTEND;TZID=Europe/Berlin:20250927T153000
SUMMARY:Regionsoberliga S-M mJD HC Elbflorenz 2006 III vs HC Großenhain  (60029)
UID:231589ca-8e56-4adc-ac68-b5a2b4503ed4
STATUS:CONFIRMED
LAST-MODIFIED:20251003T065548Z
DESCRIPTION:Regionsoberliga S-M mJD\nBegegnungs-Nr: 60029\nHeim: HC Elbflorenz 2006 III\nGast: HC Großenhain \nHalle: BallsportARENA Dresden (33133)\nAdresse: Weißeritzstraße 4\, 01067 Dresden\n
LOCATION:BallsportARENA Dresden (33133): Weißeritzstraße 4\, 01067 Dresden
CATEGORIES:Saison 2025/26
END:VEVENT
BEGIN:VEVENT
DTSTAMP:20260421T185853Z
DTSTART;TZID=Europe/Berlin:20251101T110000
DTEND;TZID=Europe/Berlin:20251101T120000
SUMMARY:Regionsoberliga S-M mJD HSV Weinböhla vs HC Großenhain  (60037)
UID:fca24825-b8ae-41ab-a300-b5aa37205142
STATUS:CONFIRMED
LAST-MODIFIED:20251110T075819Z
DESCRIPTION:Regionsoberliga S-M mJD\nBegegnungs-Nr: 60037\nHeim: HSV Weinböhla\nGast: HC Großenhain \nHalle: Nassau-SH Weinböhla (33224)\nAdresse: Meißner Str. 1\, 01689 Weinböhla\n
LOCATION:Nassau-SH Weinböhla (33224): Meißner Str. 1\, 01689 Weinböhla
CATEGORIES:Saison 2025/26
END:VEVENT
BEGIN:VEVENT
DTSTAMP:20260421T185853Z
DTSTART;TZID=Europe/Berlin:20251122T100000
DTEND;TZID=Europe/Berlin:20251122T110000
SUMMARY:Regionsoberliga S-M mJD HSV Dresden II vs HC Großenhain  (60051)
UID:5f1e4134-6163-476b-830f-f76bc35603f7
STATUS:CONFIRMED
LAST-MODIFIED:20251123T083725Z
DESCRIPTION:Regionsoberliga S-M mJD\nBegegnungs-Nr: 60051\nHeim: HSV Dresden II\nGast: HC Großenhain \nHalle: SH 121. Oberschule Dresden (33102)\nAdresse: Gamigstraße 28/30\, 01239 Dresden\n
LOCATION:SH 121. Oberschule Dresden (33102): Gamigstraße 28/30\, 01239 Dresden
CATEGORIES:Saison 2025/26
END:VEVENT
BEGIN:VEVENT
DTSTAMP:20260421T185853Z
DTSTART;TZID=Europe/Berlin:20250906T100000
DTEND;TZID=Europe/Berlin:20250906T110000
SUMMARY:Regionsoberliga S-M mJD TSV Dresden-Bühlau vs HC Großenhain  (60012)
UID:b6c03580-29f6-4568-997e-a448228ff848
STATUS:CONFIRMED
LAST-MODIFIED:20250908T062754Z
DESCRIPTION:Regionsoberliga S-M mJD\nBegegnungs-Nr: 60012\nHeim: TSV Dresden-Bühlau\nGast: HC Großenhain \nHalle: SH Gymnasium Dresden-Bühlau (33118)\nAdresse: Quohrener Str. 12\, 01324 Dresden\n
LOCATION:SH Gymnasium Dresden-Bühlau (33118): Quohrener Str. 12\, 01324 Dresden
CATEGORIES:Saison 2025/26
END:VEVENT
BEGIN:VEVENT
DTSTAMP:20260421T185853Z
DTSTART;TZID=Europe/Berlin:20260110T110000
DTEND;TZID=Europe/Berlin:20260110T120000
SUMMARY:Regionsoberliga S-M mJD SV Niederau vs HC Großenhain  (60071)
UID:36b612f0-80c0-4a48-a901-5eb129709a32
STATUS:CONFIRMED
LAST-MODIFIED:20260112T073538Z
DESCRIPTION:Regionsoberliga S-M mJD\nBegegnungs-Nr: 60071\nHeim: SV Niederau\nGast: HC Großenhain \nHalle: SH Priestewitz (33210)\nAdresse: Strießener Str. 3\, 01561 Priestewitz\n
LOCATION:SH Priestewitz (33210): Strießener Str. 3\, 01561 Priestewitz
CATEGORIES:Saison 2025/26
END:VEVENT
BEGIN:VEVENT
DTSTAMP:20260421T185853Z
DTSTART;TZID=Europe/Berlin:20260201T113000
DTEND;TZID=Europe/Berlin:20260201T123000
SUMMARY:Regionsoberliga S-M mJD ESV Dresden vs HC Großenhain  (60090)
UID:36e86ced-b61e-4408-b295-5728813a7f96
STATUS:CONFIRMED
LAST-MODIFIED:20260202T075533Z
DESCRIPTION:Regionsoberliga S-M mJD\nBegegnungs-Nr: 60090\nHeim: ESV Dresden\nGast: HC Großenhain \nHalle: Lok-SH Dresden (33106)\nAdresse: Emmerich-Ambros-Ufer 74\, 01159 Dresden\n
LOCATION:Lok-SH Dresden (33106): Emmerich-Ambros-Ufer 74\, 01159 Dresden
CATEGORIES:Saison 2025/26
END:VEVENT
BEGIN:VEVENT
DTSTAMP:20260421T185853Z
DTSTART;TZID=Europe/Berlin:20250517T113000
DTEND;TZID=Europe/Berlin:20250517T123000
SUMMARY:Quali RLS mDJ II SG MoGoNo Leipzig vs HC Großenhain  (22909)
UID:7d3c4471-9837-42e3-8944-b80a4a01ba83
STATUS:CONFIRMED
LAST-MODIFIED:20250518T123552Z
DESCRIPTION:Quali männliche D-Jugend Gr.2\nBegegnungs-Nr: 22909\nHeim: SG MoGoNo Leipzig\nGast: HC Großenhain \nHalle: Rödertal-SH (33205)\nAdresse: Am Marstall 4\, 01558 Großenhain\n
LOCATION:Rödertal-SH (33205): Am Marstall 4\, 01558 Großenhain
CATEGORIES:Saison 2025/26
END:VEVENT
END:VCALENDAR
