BEGIN:VCALENDAR
PRODID:-//nuDatenautomaten//framework iCal4j //DE
VERSION:2.0
CALSCALE:GREGORIAN
BEGIN:VTIMEZONE
TZID:Europe/Berlin
LAST-MODIFIED:20260306T231828Z
TZURL:https://www.tzurl.org/zoneinfo/Europe/Berlin
X-LIC-LOCATION:Europe/Berlin
X-PROLEPTIC-TZNAME:LMT
BEGIN:STANDARD
TZNAME:CET
TZOFFSETFROM:+005328
TZOFFSETTO:+0100
DTSTART:18930401T000000
END:STANDARD
BEGIN:DAYLIGHT
TZNAME:CEST
TZOFFSETFROM:+0100
TZOFFSETTO:+0200
DTSTART:19160430T230000
RDATE:19400401T020000
RDATE:19430329T020000
RDATE:19460414T020000
RDATE:19470406T030000
RDATE:19480418T020000
RDATE:19490410T020000
RDATE:19800406T020000
END:DAYLIGHT
BEGIN:STANDARD
TZNAME:CET
TZOFFSETFROM:+0200
TZOFFSETTO:+0100
DTSTART:19161001T010000
RDATE:19421102T030000
RDATE:19431004T030000
RDATE:19441002T030000
RDATE:19451118T030000
RDATE:19461007T030000
END:STANDARD
BEGIN:DAYLIGHT
TZNAME:CEST
TZOFFSETFROM:+0100
TZOFFSETTO:+0200
DTSTART:19170416T020000
RRULE:FREQ=YEARLY;UNTIL=19180415T010000Z;BYMONTH=4;BYDAY=3MO
END:DAYLIGHT
BEGIN:STANDARD
TZNAME:CET
TZOFFSETFROM:+0200
TZOFFSETTO:+0100
DTSTART:19170917T030000
RRULE:FREQ=YEARLY;UNTIL=19180916T010000Z;BYMONTH=9;BYDAY=3MO
END:STANDARD
BEGIN:DAYLIGHT
TZNAME:CEST
TZOFFSETFROM:+0100
TZOFFSETTO:+0200
DTSTART:19440403T020000
RRULE:FREQ=YEARLY;UNTIL=19450402T010000Z;BYMONTH=4;BYDAY=1MO
END:DAYLIGHT
BEGIN:DAYLIGHT
TZNAME:CEMT
TZOFFSETFROM:+0200
TZOFFSETTO:+0300
DTSTART:19450524T020000
RDATE:19470511T030000
END:DAYLIGHT
BEGIN:DAYLIGHT
TZNAME:CEST
TZOFFSETFROM:+0300
TZOFFSETTO:+0200
DTSTART:19450924T030000
RDATE:19470629T030000
END:DAYLIGHT
BEGIN:STANDARD
TZNAME:CET
TZOFFSETFROM:+0100
TZOFFSETTO:+0100
DTSTART:19460101T000000
RDATE:19800101T000000
END:STANDARD
BEGIN:STANDARD
TZNAME:CET
TZOFFSETFROM:+0200
TZOFFSETTO:+0100
DTSTART:19471005T030000
RRULE:FREQ=YEARLY;UNTIL=19491002T010000Z;BYMONTH=10;BYDAY=1SU
END:STANDARD
BEGIN:STANDARD
TZNAME:CET
TZOFFSETFROM:+0200
TZOFFSETTO:+0100
DTSTART:19800928T030000
RRULE:FREQ=YEARLY;UNTIL=19950924T010000Z;BYMONTH=9;BYDAY=-1SU
END:STANDARD
BEGIN:DAYLIGHT
TZNAME:CEST
TZOFFSETFROM:+0100
TZOFFSETTO:+0200
DTSTART:19810329T020000
RRULE:FREQ=YEARLY;BYMONTH=3;BYDAY=-1SU
END:DAYLIGHT
BEGIN:STANDARD
TZNAME:CET
TZOFFSETFROM:+0200
TZOFFSETTO:+0100
DTSTART:19961027T030000
RRULE:FREQ=YEARLY;BYMONTH=10;BYDAY=-1SU
END:STANDARD
END:VTIMEZONE
BEGIN:VEVENT
DTSTAMP:20260424T143655Z
DTSTART;TZID=Europe/Berlin:20250907T100000
DTEND;TZID=Europe/Berlin:20250907T110000
SUMMARY:Regionsliga S-M mJE S2 USV TU Dresden II vs HSV Weinböhla (64041)
UID:849bf8c4-eced-48d8-b01e-5f032e7ddd5c
STATUS:CONFIRMED
LAST-MODIFIED:20250929T172126Z
DESCRIPTION:Regionsliga S-M mJE Staffel 2\nBegegnungs-Nr: 64041\nHeim: USV TU Dresden II\nGast: HSV Weinböhla\nHalle: SH 46. OS Dresden (33143)\nAdresse: Andreas-Schubert-Straße 41\, 01069 Dresden\n
LOCATION:SH 46. OS Dresden (33143): Andreas-Schubert-Straße 41\, 01069 Dresden
CATEGORIES:Saison 2025/26
END:VEVENT
BEGIN:VEVENT
DTSTAMP:20260424T143655Z
DTSTART;TZID=Europe/Berlin:20250907T130000
DTEND;TZID=Europe/Berlin:20250907T140000
SUMMARY:Regionsliga S-M mJE S2 USV TU Dresden II vs SG Klotzsche (64044)
UID:fbad848f-11b7-47ad-954a-92ef55d42968
STATUS:CONFIRMED
LAST-MODIFIED:20250929T172402Z
DESCRIPTION:Regionsliga S-M mJE Staffel 2\nBegegnungs-Nr: 64044\nHeim: USV TU Dresden II\nGast: SG Klotzsche\nHalle: SH 46. OS Dresden (33143)\nAdresse: Andreas-Schubert-Straße 41\, 01069 Dresden\n
LOCATION:SH 46. OS Dresden (33143): Andreas-Schubert-Straße 41\, 01069 Dresden
CATEGORIES:Saison 2025/26
END:VEVENT
BEGIN:VEVENT
DTSTAMP:20260424T143655Z
DTSTART;TZID=Europe/Berlin:20250913T110000
DTEND;TZID=Europe/Berlin:20250913T120000
SUMMARY:Regionsliga S-M mJE S2 USV TU Dresden II vs Radebeuler HV II (64142)
UID:39f9af02-f2de-456d-b2ef-a54f003b0048
STATUS:CONFIRMED
LAST-MODIFIED:20250914T094710Z
DESCRIPTION:Regionsliga S-M mJE Staffel 2\nBegegnungs-Nr: 64142\nHeim: USV TU Dresden II\nGast: Radebeuler HV II\nHalle: Röder-Elster-Sporthalle Gröditz (33239)\nAdresse: Waldweg 3c\, 01609 Gröditz\n
LOCATION:Röder-Elster-Sporthalle Gröditz (33239): Waldweg 3c\, 01609 Gröditz
CATEGORIES:Saison 2025/26
END:VEVENT
BEGIN:VEVENT
DTSTAMP:20260424T143655Z
DTSTART;TZID=Europe/Berlin:20260118T090000
DTEND;TZID=Europe/Berlin:20260118T100000
SUMMARY:Regionsliga S-M mJE S2 USV TU Dresden II vs ESV Dresden gem. (64161)
UID:9cc23b1b-fe5e-4ccd-a665-26d29af97273
STATUS:CONFIRMED
LAST-MODIFIED:20260118T112155Z
DESCRIPTION:Regionsliga S-M mJE Staffel 2\nBegegnungs-Nr: 64161\nHeim: USV TU Dresden II\nGast: ESV Dresden gem.\nHalle: SH Gymnasium Dresden-Pieschen (33139)\nAdresse: Erfurter Straße 17\, 01127 Dresden\n
LOCATION:SH Gymnasium Dresden-Pieschen (33139): Erfurter Straße 17\, 01127 Dresden
CATEGORIES:Saison 2025/26
END:VEVENT
BEGIN:VEVENT
DTSTAMP:20260424T143655Z
DTSTART;TZID=Europe/Berlin:20250927T120000
DTEND;TZID=Europe/Berlin:20250927T130000
SUMMARY:Regionsliga S-M mJE S2 USV TU Dresden II vs SG Weixdorf (64083)
UID:03d72dfe-79f7-4b52-bad6-f3573ff56f72
STATUS:CONFIRMED
LAST-MODIFIED:20250929T173719Z
DESCRIPTION:Regionsliga S-M mJE Staffel 2\nBegegnungs-Nr: 64083\nHeim: USV TU Dresden II\nGast: SG Weixdorf\nHalle: Röder-Elster-Sporthalle Gröditz (33239)\nAdresse: Waldweg 3c\, 01609 Gröditz\n
LOCATION:Röder-Elster-Sporthalle Gröditz (33239): Waldweg 3c\, 01609 Gröditz
CATEGORIES:Saison 2025/26
END:VEVENT
BEGIN:VEVENT
DTSTAMP:20260424T143655Z
DTSTART;TZID=Europe/Berlin:20260301T100000
DTEND;TZID=Europe/Berlin:20260301T110000
SUMMARY:Regionsliga S-M mJE S2 USV TU Dresden II vs Blau-Weiß Gröditz gem. (64211)
UID:4e9db58d-2942-4a32-98e0-f69da02a7e14
STATUS:CONFIRMED
LAST-MODIFIED:20260307T112445Z
DESCRIPTION:Regionsliga S-M mJE Staffel 2\nBegegnungs-Nr: 64211\nHeim: USV TU Dresden II\nGast: Blau-Weiß Gröditz gem.\nHalle: SH 46. OS Dresden (33143)\nAdresse: Andreas-Schubert-Straße 41\, 01069 Dresden\n
LOCATION:SH 46. OS Dresden (33143): Andreas-Schubert-Straße 41\, 01069 Dresden
CATEGORIES:Saison 2025/26
END:VEVENT
BEGIN:VEVENT
DTSTAMP:20260424T143655Z
DTSTART;TZID=Europe/Berlin:20260301T120000
DTEND;TZID=Europe/Berlin:20260301T130000
SUMMARY:Regionsliga S-M mJE S2 USV TU Dresden II vs Motor Wilsdruff gem.  II (64213)
UID:e342ff08-520d-481f-8e64-e7cf0dda6944
STATUS:CONFIRMED
LAST-MODIFIED:20260307T113016Z
DESCRIPTION:Regionsliga S-M mJE Staffel 2\nBegegnungs-Nr: 64213\nHeim: USV TU Dresden II\nGast: Motor Wilsdruff gem.  II\nHalle: SH 46. OS Dresden (33143)\nAdresse: Andreas-Schubert-Straße 41\, 01069 Dresden\n
LOCATION:SH 46. OS Dresden (33143): Andreas-Schubert-Straße 41\, 01069 Dresden
CATEGORIES:Saison 2025/26
END:VEVENT
BEGIN:VEVENT
DTSTAMP:20260424T143655Z
DTSTART;TZID=Europe/Berlin:20260118T120000
DTEND;TZID=Europe/Berlin:20260118T130000
SUMMARY:Regionsliga S-M mJE S2 USV TU Dresden II vs SV Niederau II (64164)
UID:6169d3fe-9af0-45c3-bf2c-e4f08e9b55db
STATUS:CONFIRMED
LAST-MODIFIED:20260118T150325Z
DESCRIPTION:Regionsliga S-M mJE Staffel 2\nBegegnungs-Nr: 64164\nHeim: USV TU Dresden II\nGast: SV Niederau II\nHalle: SH Gymnasium Dresden-Pieschen (33139)\nAdresse: Erfurter Straße 17\, 01127 Dresden\n
LOCATION:SH Gymnasium Dresden-Pieschen (33139): Erfurter Straße 17\, 01127 Dresden
CATEGORIES:Saison 2025/26
END:VEVENT
BEGIN:VEVENT
DTSTAMP:20260424T143655Z
DTSTART;TZID=Europe/Berlin:20250927T110000
DTEND;TZID=Europe/Berlin:20250927T120000
SUMMARY:Regionsliga S-M mJE S2 USV TU Dresden II vs TSV 1862 Radeburg (64082)
UID:8721f5b4-4e98-4a61-9e9f-eca8a2a6e36f
STATUS:CONFIRMED
LAST-MODIFIED:20250929T173756Z
DESCRIPTION:Regionsliga S-M mJE Staffel 2\nBegegnungs-Nr: 64082\nHeim: USV TU Dresden II\nGast: TSV 1862 Radeburg\nHalle: Röder-Elster-Sporthalle Gröditz (33239)\nAdresse: Waldweg 3c\, 01609 Gröditz\n
LOCATION:Röder-Elster-Sporthalle Gröditz (33239): Waldweg 3c\, 01609 Gröditz
CATEGORIES:Saison 2025/26
END:VEVENT
BEGIN:VEVENT
DTSTAMP:20260424T143655Z
DTSTART;TZID=Europe/Berlin:20260321T100000
DTEND;TZID=Europe/Berlin:20260321T110000
SUMMARY:Regionsliga S-M mJE S2 Motor Wilsdruff gem.  II vs USV TU Dresden II (64121)
UID:6519cf2e-bc7e-4461-89aa-04c63e171bf6
STATUS:CONFIRMED
LAST-MODIFIED:20260321T151738Z
DESCRIPTION:Regionsliga S-M mJE Staffel 2\nBegegnungs-Nr: 64121\nHeim: Motor Wilsdruff gem.  II\nGast: USV TU Dresden II\nHalle: Saubach-SH Wilsdruff (33208)\nAdresse: Nossener Str. 21b\, 01723 Wilsdruff\n
LOCATION:Saubach-SH Wilsdruff (33208): Nossener Str. 21b\, 01723 Wilsdruff
CATEGORIES:Saison 2025/26
END:VEVENT
BEGIN:VEVENT
DTSTAMP:20260424T143655Z
DTSTART;TZID=Europe/Berlin:20260321T110000
DTEND;TZID=Europe/Berlin:20260321T120000
SUMMARY:Regionsliga S-M mJE S2 SG Weixdorf vs USV TU Dresden II (64123)
UID:b5fb3265-c81a-462f-b75c-ced7fb606450
STATUS:CONFIRMED
LAST-MODIFIED:20260321T151814Z
DESCRIPTION:Regionsliga S-M mJE Staffel 2\nBegegnungs-Nr: 64123\nHeim: SG Weixdorf\nGast: USV TU Dresden II\nHalle: Saubach-SH Wilsdruff (33208)\nAdresse: Nossener Str. 21b\, 01723 Wilsdruff\n
LOCATION:Saubach-SH Wilsdruff (33208): Nossener Str. 21b\, 01723 Wilsdruff
CATEGORIES:Saison 2025/26
END:VEVENT
BEGIN:VEVENT
DTSTAMP:20260424T143655Z
DTSTART;TZID=Europe/Berlin:20250913T100000
DTEND;TZID=Europe/Berlin:20250913T110000
SUMMARY:Regionsliga S-M mJE S2 Blau-Weiß Gröditz gem. vs USV TU Dresden II (64141)
UID:00b322a9-ecb3-4c10-9972-286fbd027d9f
STATUS:CONFIRMED
LAST-MODIFIED:20250913T095500Z
DESCRIPTION:Regionsliga S-M mJE Staffel 2\nBegegnungs-Nr: 64141\nHeim: Blau-Weiß Gröditz gem.\nGast: USV TU Dresden II\nHalle: Röder-Elster-Sporthalle Gröditz (33239)\nAdresse: Waldweg 3c\, 01609 Gröditz\n
LOCATION:Röder-Elster-Sporthalle Gröditz (33239): Waldweg 3c\, 01609 Gröditz
CATEGORIES:Saison 2025/26
END:VEVENT
BEGIN:VEVENT
DTSTAMP:20260424T143655Z
DTSTART;TZID=Europe/Berlin:20260308T133000
DTEND;TZID=Europe/Berlin:20260308T143000
SUMMARY:Regionsliga S-M mJE S2 Radebeuler HV II vs USV TU Dresden II (64241)
UID:bdc4f360-49e0-4627-bc65-9f5f76c627db
STATUS:CONFIRMED
LAST-MODIFIED:20260308T165352Z
DESCRIPTION:Regionsliga S-M mJE Staffel 2\nBegegnungs-Nr: 64241\nHeim: Radebeuler HV II\nGast: USV TU Dresden II\nHalle: Elb-SH Radebeul West (33203)\nAdresse: An der Festwiese 1\, 01445 Radebeul\n
LOCATION:Elb-SH Radebeul West (33203): An der Festwiese 1\, 01445 Radebeul
CATEGORIES:Saison 2025/26
END:VEVENT
BEGIN:VEVENT
DTSTAMP:20260424T143655Z
DTSTART;TZID=Europe/Berlin:20251101T090000
DTEND;TZID=Europe/Berlin:20251101T100000
SUMMARY:Regionsliga S-M mJE S2 TSV 1862 Radeburg vs USV TU Dresden II (64091)
UID:07042395-bb31-4e1d-b561-0e65d9a212f6
STATUS:CONFIRMED
LAST-MODIFIED:20251101T102229Z
DESCRIPTION:Regionsliga S-M mJE Staffel 2\nBegegnungs-Nr: 64091\nHeim: TSV 1862 Radeburg\nGast: USV TU Dresden II\nHalle: Paul-Tiedemann-SH Radeburg (33214)\nAdresse: Meißner Berg 83c\, 01471 Radeburg\n
LOCATION:Paul-Tiedemann-SH Radeburg (33214): Meißner Berg 83c\, 01471 Radeburg
CATEGORIES:Saison 2025/26
END:VEVENT
BEGIN:VEVENT
DTSTAMP:20260424T143655Z
DTSTART;TZID=Europe/Berlin:20251101T110000
DTEND;TZID=Europe/Berlin:20251101T120000
SUMMARY:Regionsliga S-M mJE S2 HSV Weinböhla vs USV TU Dresden II (64093)
UID:665bf7e8-2687-44db-8ff6-816d4c26435c
STATUS:CONFIRMED
LAST-MODIFIED:20251101T112734Z
DESCRIPTION:Regionsliga S-M mJE Staffel 2\nBegegnungs-Nr: 64093\nHeim: HSV Weinböhla\nGast: USV TU Dresden II\nHalle: Paul-Tiedemann-SH Radeburg (33214)\nAdresse: Meißner Berg 83c\, 01471 Radeburg\n
LOCATION:Paul-Tiedemann-SH Radeburg (33214): Meißner Berg 83c\, 01471 Radeburg
CATEGORIES:Saison 2025/26
END:VEVENT
BEGIN:VEVENT
DTSTAMP:20260424T143655Z
DTSTART;TZID=Europe/Berlin:20250831T103000
DTEND;TZID=Europe/Berlin:20250831T113000
SUMMARY:Regionsliga S-M mJE S2 SV Niederau II vs USV TU Dresden II (64012)
UID:32760939-86b3-4a90-a3b2-82e035736a46
STATUS:CONFIRMED
LAST-MODIFIED:20250906T111707Z
DESCRIPTION:Regionsliga S-M mJE Staffel 2\nBegegnungs-Nr: 64012\nHeim: SV Niederau II\nGast: USV TU Dresden II\nHalle: Lok-SH Dresden (33106)\nAdresse: Emmerich-Ambros-Ufer 74\, 01159 Dresden\n
LOCATION:Lok-SH Dresden (33106): Emmerich-Ambros-Ufer 74\, 01159 Dresden
CATEGORIES:Saison 2025/26
END:VEVENT
BEGIN:VEVENT
DTSTAMP:20260424T143655Z
DTSTART;TZID=Europe/Berlin:20250831T113000
DTEND;TZID=Europe/Berlin:20250831T123000
SUMMARY:Regionsliga S-M mJE S2 ESV Dresden gem. vs USV TU Dresden II (64013)
UID:70ee8e16-9218-4c69-b423-d761e10be023
STATUS:CONFIRMED
LAST-MODIFIED:20250901T080339Z
DESCRIPTION:Regionsliga S-M mJE Staffel 2\nBegegnungs-Nr: 64013\nHeim: ESV Dresden gem.\nGast: USV TU Dresden II\nHalle: Lok-SH Dresden (33106)\nAdresse: Emmerich-Ambros-Ufer 74\, 01159 Dresden\n
LOCATION:Lok-SH Dresden (33106): Emmerich-Ambros-Ufer 74\, 01159 Dresden
CATEGORIES:Saison 2025/26
END:VEVENT
BEGIN:VEVENT
DTSTAMP:20260424T143655Z
DTSTART;TZID=Europe/Berlin:20260308T153000
DTEND;TZID=Europe/Berlin:20260308T163000
SUMMARY:Regionsliga S-M mJE S2 SG Klotzsche vs USV TU Dresden II (64243)
UID:1d19a1c7-171b-483c-a450-ed695b34abaf
STATUS:CONFIRMED
LAST-MODIFIED:20260308T165519Z
DESCRIPTION:Regionsliga S-M mJE Staffel 2\nBegegnungs-Nr: 64243\nHeim: SG Klotzsche\nGast: USV TU Dresden II\nHalle: Elb-SH Radebeul West (33203)\nAdresse: An der Festwiese 1\, 01445 Radebeul\n
LOCATION:Elb-SH Radebeul West (33203): An der Festwiese 1\, 01445 Radebeul
CATEGORIES:Saison 2025/26
END:VEVENT
END:VCALENDAR
