BEGIN:VCALENDAR
PRODID:-//nuDatenautomaten//framework iCal4j //DE
VERSION:2.0
CALSCALE:GREGORIAN
BEGIN:VTIMEZONE
TZID:Europe/Berlin
LAST-MODIFIED:20260306T231828Z
TZURL:https://www.tzurl.org/zoneinfo/Europe/Berlin
X-LIC-LOCATION:Europe/Berlin
X-PROLEPTIC-TZNAME:LMT
BEGIN:STANDARD
TZNAME:CET
TZOFFSETFROM:+005328
TZOFFSETTO:+0100
DTSTART:18930401T000000
END:STANDARD
BEGIN:DAYLIGHT
TZNAME:CEST
TZOFFSETFROM:+0100
TZOFFSETTO:+0200
DTSTART:19160430T230000
RDATE:19400401T020000
RDATE:19430329T020000
RDATE:19460414T020000
RDATE:19470406T030000
RDATE:19480418T020000
RDATE:19490410T020000
RDATE:19800406T020000
END:DAYLIGHT
BEGIN:STANDARD
TZNAME:CET
TZOFFSETFROM:+0200
TZOFFSETTO:+0100
DTSTART:19161001T010000
RDATE:19421102T030000
RDATE:19431004T030000
RDATE:19441002T030000
RDATE:19451118T030000
RDATE:19461007T030000
END:STANDARD
BEGIN:DAYLIGHT
TZNAME:CEST
TZOFFSETFROM:+0100
TZOFFSETTO:+0200
DTSTART:19170416T020000
RRULE:FREQ=YEARLY;UNTIL=19180415T010000Z;BYMONTH=4;BYDAY=3MO
END:DAYLIGHT
BEGIN:STANDARD
TZNAME:CET
TZOFFSETFROM:+0200
TZOFFSETTO:+0100
DTSTART:19170917T030000
RRULE:FREQ=YEARLY;UNTIL=19180916T010000Z;BYMONTH=9;BYDAY=3MO
END:STANDARD
BEGIN:DAYLIGHT
TZNAME:CEST
TZOFFSETFROM:+0100
TZOFFSETTO:+0200
DTSTART:19440403T020000
RRULE:FREQ=YEARLY;UNTIL=19450402T010000Z;BYMONTH=4;BYDAY=1MO
END:DAYLIGHT
BEGIN:DAYLIGHT
TZNAME:CEMT
TZOFFSETFROM:+0200
TZOFFSETTO:+0300
DTSTART:19450524T020000
RDATE:19470511T030000
END:DAYLIGHT
BEGIN:DAYLIGHT
TZNAME:CEST
TZOFFSETFROM:+0300
TZOFFSETTO:+0200
DTSTART:19450924T030000
RDATE:19470629T030000
END:DAYLIGHT
BEGIN:STANDARD
TZNAME:CET
TZOFFSETFROM:+0100
TZOFFSETTO:+0100
DTSTART:19460101T000000
RDATE:19800101T000000
END:STANDARD
BEGIN:STANDARD
TZNAME:CET
TZOFFSETFROM:+0200
TZOFFSETTO:+0100
DTSTART:19471005T030000
RRULE:FREQ=YEARLY;UNTIL=19491002T010000Z;BYMONTH=10;BYDAY=1SU
END:STANDARD
BEGIN:STANDARD
TZNAME:CET
TZOFFSETFROM:+0200
TZOFFSETTO:+0100
DTSTART:19800928T030000
RRULE:FREQ=YEARLY;UNTIL=19950924T010000Z;BYMONTH=9;BYDAY=-1SU
END:STANDARD
BEGIN:DAYLIGHT
TZNAME:CEST
TZOFFSETFROM:+0100
TZOFFSETTO:+0200
DTSTART:19810329T020000
RRULE:FREQ=YEARLY;BYMONTH=3;BYDAY=-1SU
END:DAYLIGHT
BEGIN:STANDARD
TZNAME:CET
TZOFFSETFROM:+0200
TZOFFSETTO:+0100
DTSTART:19961027T030000
RRULE:FREQ=YEARLY;BYMONTH=10;BYDAY=-1SU
END:STANDARD
END:VTIMEZONE
BEGIN:VEVENT
DTSTAMP:20260424T000651Z
DTSTART;TZID=Europe/Berlin:20251116T000100
DTEND;TZID=Europe/Berlin:20251116T010100
SUMMARY:Regionsliga S-M mJE S1 USV TU Dresden vs SG Dippoldiswalde-Ruppendorf (63022)
UID:17aad695-4f8c-49ec-8850-1ad6112a2608
STATUS:CONFIRMED
LAST-MODIFIED:20260224T130032Z
DESCRIPTION:Regionsliga S-M mJE Staffel 1\nBegegnungs-Nr: 63022\nHeim: USV TU Dresden\nGast: SG Dippoldiswalde-Ruppendorf\nHalle: Sportforum Neustadt (33303)\nAdresse: Maxim-Gorki-Straße 10\, 01844  Neustadt\n
LOCATION:Sportforum Neustadt (33303): Maxim-Gorki-Straße 10\, 01844  Neustadt
CATEGORIES:Saison 2025/26
END:VEVENT
BEGIN:VEVENT
DTSTAMP:20260424T000651Z
DTSTART;TZID=Europe/Berlin:20251025T100000
DTEND;TZID=Europe/Berlin:20251025T110000
SUMMARY:Regionsliga S-M mJE S1 USV TU Dresden vs SF 01 Dresden (63091)
UID:fc77b9d8-1ffd-4c40-aa0e-81ef24e458c3
STATUS:CONFIRMED
LAST-MODIFIED:20251025T161856Z
DESCRIPTION:Regionsliga S-M mJE Staffel 1\nBegegnungs-Nr: 63091\nHeim: USV TU Dresden\nGast: SF 01 Dresden\nHalle: JOYNEXT Arena Dresden (Spielfeld 2) (33112b)\nAdresse: Magdeburger Straße 10\, 01067 Dresden\n
LOCATION:JOYNEXT Arena Dresden (Spielfeld 2) (33112b): Magdeburger Straße 10\, 01067 Dresden
CATEGORIES:Saison 2025/26
END:VEVENT
BEGIN:VEVENT
DTSTAMP:20260424T000651Z
DTSTART;TZID=Europe/Berlin:20251025T130000
DTEND;TZID=Europe/Berlin:20251025T140000
SUMMARY:Regionsliga S-M mJE S1 USV TU Dresden vs Medizin Bad Gottleuba II (63094)
UID:7d0ed753-5d2c-456b-8cff-207dcad5bff8
STATUS:CONFIRMED
LAST-MODIFIED:20251025T162057Z
DESCRIPTION:Regionsliga S-M mJE Staffel 1\nBegegnungs-Nr: 63094\nHeim: USV TU Dresden\nGast: Medizin Bad Gottleuba II\nHalle: JOYNEXT Arena Dresden (Spielfeld 2) (33112b)\nAdresse: Magdeburger Straße 10\, 01067 Dresden\n
LOCATION:JOYNEXT Arena Dresden (Spielfeld 2) (33112b): Magdeburger Straße 10\, 01067 Dresden
CATEGORIES:Saison 2025/26
END:VEVENT
BEGIN:VEVENT
DTSTAMP:20260424T000651Z
DTSTART;TZID=Europe/Berlin:20251108T110000
DTEND;TZID=Europe/Berlin:20251108T120000
SUMMARY:Regionsliga S-M mJE S1 USV TU Dresden vs SG Pirna/Heidenau II (63132)
UID:300ea69e-b61f-4d58-a85d-9c1e44cc5f56
STATUS:CONFIRMED
LAST-MODIFIED:20251111T110705Z
DESCRIPTION:Regionsliga S-M mJE Staffel 1\nBegegnungs-Nr: 63132\nHeim: USV TU Dresden\nGast: SG Pirna/Heidenau II\nHalle: SH Glashütte (33225)\nAdresse: Prießnitztal 32\, 01768 Glashütte\n
LOCATION:SH Glashütte (33225): Prießnitztal 32\, 01768 Glashütte
CATEGORIES:Saison 2025/26
END:VEVENT
BEGIN:VEVENT
DTSTAMP:20260424T000651Z
DTSTART;TZID=Europe/Berlin:20251108T120000
DTEND;TZID=Europe/Berlin:20251108T130000
SUMMARY:Regionsliga S-M mJE S1 USV TU Dresden vs KJS-Club Dresden gem. II (63133)
UID:a6cf851a-2c83-4e32-89b4-619eb4c3c87a
STATUS:CONFIRMED
LAST-MODIFIED:20251111T110741Z
DESCRIPTION:Regionsliga S-M mJE Staffel 1\nBegegnungs-Nr: 63133\nHeim: USV TU Dresden\nGast: KJS-Club Dresden gem. II\nHalle: SH Glashütte (33225)\nAdresse: Prießnitztal 32\, 01768 Glashütte\n
LOCATION:SH Glashütte (33225): Prießnitztal 32\, 01768 Glashütte
CATEGORIES:Saison 2025/26
END:VEVENT
BEGIN:VEVENT
DTSTAMP:20260424T000651Z
DTSTART;TZID=Europe/Berlin:20251123T110000
DTEND;TZID=Europe/Berlin:20251123T120000
SUMMARY:Regionsliga S-M mJE S1 USV TU Dresden vs HCS Neustadt-S. (63141)
UID:c6535612-b57b-47cb-afbc-ce0cf62024d2
STATUS:CONFIRMED
LAST-MODIFIED:20251123T150339Z
DESCRIPTION:Regionsliga S-M mJE Staffel 1\nBegegnungs-Nr: 63141\nHeim: USV TU Dresden\nGast: HCS Neustadt-S.\nHalle: JOYNEXT Arena Dresden (Spielfeld 2) (33112b)\nAdresse: Magdeburger Straße 10\, 01067 Dresden\n
LOCATION:JOYNEXT Arena Dresden (Spielfeld 2) (33112b): Magdeburger Straße 10\, 01067 Dresden
CATEGORIES:Saison 2025/26
END:VEVENT
BEGIN:VEVENT
DTSTAMP:20260424T000651Z
DTSTART;TZID=Europe/Berlin:20260322T130000
DTEND;TZID=Europe/Berlin:20260322T140000
SUMMARY:Regionsliga S-M mJE S1 USV TU Dresden vs SG Kurort Hartha (63304)
UID:401042c4-bab5-4c93-9bde-ce3d0adec2be
STATUS:CONFIRMED
LAST-MODIFIED:20250715T184520Z
DESCRIPTION:Regionsliga S-M mJE Staffel 1\nBegegnungs-Nr: 63304\nHeim: USV TU Dresden\nGast: SG Kurort Hartha\nHalle: JOYNEXT Arena Dresden (Spielfeld 2) (33112b)\nAdresse: Magdeburger Straße 10\, 01067 Dresden\n
LOCATION:JOYNEXT Arena Dresden (Spielfeld 2) (33112b): Magdeburger Straße 10\, 01067 Dresden
CATEGORIES:Saison 2025/26
END:VEVENT
BEGIN:VEVENT
DTSTAMP:20260424T000651Z
DTSTART;TZID=Europe/Berlin:20260315T103000
DTEND;TZID=Europe/Berlin:20260315T113000
SUMMARY:Regionsliga S-M mJE S1 USV TU Dresden vs TSV Dresden-Bühlau (63232)
UID:62d1e39c-f90c-415c-8f98-3795bc198788
STATUS:CONFIRMED
LAST-MODIFIED:20260315T103842Z
DESCRIPTION:Regionsliga S-M mJE Staffel 1\nBegegnungs-Nr: 63232\nHeim: USV TU Dresden\nGast: TSV Dresden-Bühlau\nHalle: Sportforum Neustadt (33303)\nAdresse: Maxim-Gorki-Straße 10\, 01844  Neustadt\n
LOCATION:Sportforum Neustadt (33303): Maxim-Gorki-Straße 10\, 01844  Neustadt
CATEGORIES:Saison 2025/26
END:VEVENT
BEGIN:VEVENT
DTSTAMP:20260424T000651Z
DTSTART;TZID=Europe/Berlin:20260315T113000
DTEND;TZID=Europe/Berlin:20260315T123000
SUMMARY:Regionsliga S-M mJE S1 USV TU Dresden vs HSV Dresden II (63233)
UID:b2b16f6d-714f-41ba-905d-88c4bc6e591c
STATUS:CONFIRMED
LAST-MODIFIED:20260315T112917Z
DESCRIPTION:Regionsliga S-M mJE Staffel 1\nBegegnungs-Nr: 63233\nHeim: USV TU Dresden\nGast: HSV Dresden II\nHalle: Sportforum Neustadt (33303)\nAdresse: Maxim-Gorki-Straße 10\, 01844  Neustadt\n
LOCATION:Sportforum Neustadt (33303): Maxim-Gorki-Straße 10\, 01844  Neustadt
CATEGORIES:Saison 2025/26
END:VEVENT
BEGIN:VEVENT
DTSTAMP:20260424T000651Z
DTSTART;TZID=Europe/Berlin:20260322T100000
DTEND;TZID=Europe/Berlin:20260322T110000
SUMMARY:Regionsliga S-M mJE S1 USV TU Dresden vs TSV Bärenstein gem. (63301)
UID:85ff0741-4883-4084-8fb9-c4a6068ac170
STATUS:CONFIRMED
LAST-MODIFIED:20250715T184520Z
DESCRIPTION:Regionsliga S-M mJE Staffel 1\nBegegnungs-Nr: 63301\nHeim: USV TU Dresden\nGast: TSV Bärenstein gem.\nHalle: JOYNEXT Arena Dresden (Spielfeld 2) (33112b)\nAdresse: Magdeburger Straße 10\, 01067 Dresden\n
LOCATION:JOYNEXT Arena Dresden (Spielfeld 2) (33112b): Magdeburger Straße 10\, 01067 Dresden
CATEGORIES:Saison 2025/26
END:VEVENT
BEGIN:VEVENT
DTSTAMP:20260424T000651Z
DTSTART;TZID=Europe/Berlin:20260419T131500
DTEND;TZID=Europe/Berlin:20260419T141500
SUMMARY:Regionsliga S-M mJE F4 USV TU Dresden vs ESV Dresden gem. (65004)
UID:ab5b8bca-888c-4e12-b029-8fa8462cc4b8
STATUS:CONFIRMED
LAST-MODIFIED:20260420T095839Z
DESCRIPTION:Regionsliga S-M mJE Final4\nBegegnungs-Nr: 65004\nHeim: USV TU Dresden\nGast: ESV Dresden gem.\nHalle: SH Gymnasium Dresden-Pieschen (33139)\nAdresse: Erfurter Straße 17\, 01127 Dresden\n
LOCATION:SH Gymnasium Dresden-Pieschen (33139): Erfurter Straße 17\, 01127 Dresden
CATEGORIES:Saison 2025/26
END:VEVENT
BEGIN:VEVENT
DTSTAMP:20260424T000651Z
DTSTART;TZID=Europe/Berlin:20251116T120000
DTEND;TZID=Europe/Berlin:20251116T130000
SUMMARY:Regionsliga S-M mJE S1 HCS Neustadt-S. vs USV TU Dresden (63021)
UID:490171f5-46e6-44dd-803f-f035a6672885
STATUS:CONFIRMED
LAST-MODIFIED:20251116T175417Z
DESCRIPTION:Regionsliga S-M mJE Staffel 1\nBegegnungs-Nr: 63021\nHeim: HCS Neustadt-S.\nGast: USV TU Dresden\nHalle: Sportforum Neustadt (33303)\nAdresse: Maxim-Gorki-Straße 10\, 01844  Neustadt\n
LOCATION:Sportforum Neustadt (33303): Maxim-Gorki-Straße 10\, 01844  Neustadt
CATEGORIES:Saison 2025/26
END:VEVENT
BEGIN:VEVENT
DTSTAMP:20260424T000651Z
DTSTART;TZID=Europe/Berlin:20251123T130000
DTEND;TZID=Europe/Berlin:20251123T140000
SUMMARY:Regionsliga S-M mJE S1 SG Dippoldiswalde-Ruppendorf vs USV TU Dresden (63143)
UID:72420968-045e-4264-9c6a-4b2c63694a4b
STATUS:CONFIRMED
LAST-MODIFIED:20251123T150620Z
DESCRIPTION:Regionsliga S-M mJE Staffel 1\nBegegnungs-Nr: 63143\nHeim: SG Dippoldiswalde-Ruppendorf\nGast: USV TU Dresden\nHalle: JOYNEXT Arena Dresden (Spielfeld 2) (33112b)\nAdresse: Magdeburger Straße 10\, 01067 Dresden\n
LOCATION:JOYNEXT Arena Dresden (Spielfeld 2) (33112b): Magdeburger Straße 10\, 01067 Dresden
CATEGORIES:Saison 2025/26
END:VEVENT
BEGIN:VEVENT
DTSTAMP:20260424T000651Z
DTSTART;TZID=Europe/Berlin:20251207T102000
DTEND;TZID=Europe/Berlin:20251207T112000
SUMMARY:Regionsliga S-M mJE S1 TSV Bärenstein gem. vs USV TU Dresden (63192)
UID:5b485e8e-2fe5-4c1c-a83e-e95072725b67
STATUS:CONFIRMED
LAST-MODIFIED:20260111T120308Z
DESCRIPTION:Regionsliga S-M mJE Staffel 1\nBegegnungs-Nr: 63192\nHeim: TSV Bärenstein gem.\nGast: USV TU Dresden\nHalle: Saubach-SH Wilsdruff (33208)\nAdresse: Nossener Str. 21b\, 01723 Wilsdruff\n
LOCATION:Saubach-SH Wilsdruff (33208): Nossener Str. 21b\, 01723 Wilsdruff
CATEGORIES:Saison 2025/26
END:VEVENT
BEGIN:VEVENT
DTSTAMP:20260424T000651Z
DTSTART;TZID=Europe/Berlin:20251207T121000
DTEND;TZID=Europe/Berlin:20251207T131000
SUMMARY:Regionsliga S-M mJE S1 SG Kurort Hartha vs USV TU Dresden (63194)
UID:c62e874a-7a6d-422c-86d8-bcefbaa0eb60
STATUS:CONFIRMED
LAST-MODIFIED:20260111T120457Z
DESCRIPTION:Regionsliga S-M mJE Staffel 1\nBegegnungs-Nr: 63194\nHeim: SG Kurort Hartha\nGast: USV TU Dresden\nHalle: Saubach-SH Wilsdruff (33208)\nAdresse: Nossener Str. 21b\, 01723 Wilsdruff\n
LOCATION:Saubach-SH Wilsdruff (33208): Nossener Str. 21b\, 01723 Wilsdruff
CATEGORIES:Saison 2025/26
END:VEVENT
BEGIN:VEVENT
DTSTAMP:20260424T000651Z
DTSTART;TZID=Europe/Berlin:20260117T103000
DTEND;TZID=Europe/Berlin:20260117T113000
SUMMARY:Regionsliga S-M mJE S1 Medizin Bad Gottleuba II vs USV TU Dresden (63212)
UID:7d6877f4-4d08-435c-ab61-c80189ccc090
STATUS:CONFIRMED
LAST-MODIFIED:20260117T143047Z
DESCRIPTION:Regionsliga S-M mJE Staffel 1\nBegegnungs-Nr: 63212\nHeim: Medizin Bad Gottleuba II\nGast: USV TU Dresden\nHalle: SH 151. Gesamtschule Dresden (33142)\nAdresse: Stauffenbergallee 8\, 01099 Dresden\n
LOCATION:SH 151. Gesamtschule Dresden (33142): Stauffenbergallee 8\, 01099 Dresden
CATEGORIES:Saison 2025/26
END:VEVENT
BEGIN:VEVENT
DTSTAMP:20260424T000651Z
DTSTART;TZID=Europe/Berlin:20260117T123000
DTEND;TZID=Europe/Berlin:20260117T133000
SUMMARY:Regionsliga S-M mJE S1 SF 01 Dresden vs USV TU Dresden (63214)
UID:c8d008d4-6971-4440-97d4-9ad00f72b707
STATUS:CONFIRMED
LAST-MODIFIED:20260117T143439Z
DESCRIPTION:Regionsliga S-M mJE Staffel 1\nBegegnungs-Nr: 63214\nHeim: SF 01 Dresden\nGast: USV TU Dresden\nHalle: SH 151. Gesamtschule Dresden (33142)\nAdresse: Stauffenbergallee 8\, 01099 Dresden\n
LOCATION:SH 151. Gesamtschule Dresden (33142): Stauffenbergallee 8\, 01099 Dresden
CATEGORIES:Saison 2025/26
END:VEVENT
BEGIN:VEVENT
DTSTAMP:20260424T000651Z
DTSTART;TZID=Europe/Berlin:20260201T090000
DTEND;TZID=Europe/Berlin:20260201T100000
SUMMARY:Regionsliga S-M mJE S1 KJS-Club Dresden gem. II vs USV TU Dresden (63241)
UID:d6d9cfc0-ca91-4f92-82fe-7e217769b98a
STATUS:CONFIRMED
LAST-MODIFIED:20260228T141702Z
DESCRIPTION:Regionsliga S-M mJE Staffel 1\nBegegnungs-Nr: 63241\nHeim: KJS-Club Dresden gem. II\nGast: USV TU Dresden\nHalle: SH \"An der Blöße\" Ottendorf/Okrilla (33241)\nAdresse: Hermann-Lehmann-Straße 5\, 01458 Ottendorf/Okrilla\n
LOCATION:SH \"An der Blöße\" Ottendorf/Okrilla (33241): Hermann-Lehmann-Straße 5\, 01458 Ottendorf/Okrilla
CATEGORIES:Saison 2025/26
END:VEVENT
BEGIN:VEVENT
DTSTAMP:20260424T000651Z
DTSTART;TZID=Europe/Berlin:20260201T110000
DTEND;TZID=Europe/Berlin:20260201T120000
SUMMARY:Regionsliga S-M mJE S1 SG Pirna/Heidenau II vs USV TU Dresden (63243)
UID:fee28cca-e7d1-4f01-beb6-706734470b67
STATUS:CONFIRMED
LAST-MODIFIED:20260228T141830Z
DESCRIPTION:Regionsliga S-M mJE Staffel 1\nBegegnungs-Nr: 63243\nHeim: SG Pirna/Heidenau II\nGast: USV TU Dresden\nHalle: SH \"An der Blöße\" Ottendorf/Okrilla (33241)\nAdresse: Hermann-Lehmann-Straße 5\, 01458 Ottendorf/Okrilla\n
LOCATION:SH \"An der Blöße\" Ottendorf/Okrilla (33241): Hermann-Lehmann-Straße 5\, 01458 Ottendorf/Okrilla
CATEGORIES:Saison 2025/26
END:VEVENT
BEGIN:VEVENT
DTSTAMP:20260424T000651Z
DTSTART;TZID=Europe/Berlin:20260111T110000
DTEND;TZID=Europe/Berlin:20260111T120000
SUMMARY:Regionsliga S-M mJE S1 HSV Dresden II vs USV TU Dresden (63262)
UID:0bff2488-8745-4065-8b07-3a2fd4d8fb39
STATUS:CONFIRMED
LAST-MODIFIED:20260111T120728Z
DESCRIPTION:Regionsliga S-M mJE Staffel 1\nBegegnungs-Nr: 63262\nHeim: HSV Dresden II\nGast: USV TU Dresden\nHalle: SH Gymnasium Dresden-Bühlau (33118)\nAdresse: Quohrener Str. 12\, 01324 Dresden\n
LOCATION:SH Gymnasium Dresden-Bühlau (33118): Quohrener Str. 12\, 01324 Dresden
CATEGORIES:Saison 2025/26
END:VEVENT
BEGIN:VEVENT
DTSTAMP:20260424T000651Z
DTSTART;TZID=Europe/Berlin:20260111T130000
DTEND;TZID=Europe/Berlin:20260111T140000
SUMMARY:Regionsliga S-M mJE S1 TSV Dresden-Bühlau vs USV TU Dresden (63264)
UID:d50b4cce-8826-46fc-8067-789c93c9064c
STATUS:CONFIRMED
LAST-MODIFIED:20260111T150633Z
DESCRIPTION:Regionsliga S-M mJE Staffel 1\nBegegnungs-Nr: 63264\nHeim: TSV Dresden-Bühlau\nGast: USV TU Dresden\nHalle: SH Gymnasium Dresden-Bühlau (33118)\nAdresse: Quohrener Str. 12\, 01324 Dresden\n
LOCATION:SH Gymnasium Dresden-Bühlau (33118): Quohrener Str. 12\, 01324 Dresden
CATEGORIES:Saison 2025/26
END:VEVENT
BEGIN:VEVENT
DTSTAMP:20260424T000651Z
DTSTART;TZID=Europe/Berlin:20260419T100000
DTEND;TZID=Europe/Berlin:20260419T110000
SUMMARY:Regionsliga S-M mJE F4 SG Klotzsche vs USV TU Dresden (65001)
UID:9fff414f-622a-412d-834b-8943232d17cd
STATUS:CONFIRMED
LAST-MODIFIED:20260420T095527Z
DESCRIPTION:Regionsliga S-M mJE Final4\nBegegnungs-Nr: 65001\nHeim: SG Klotzsche\nGast: USV TU Dresden\nHalle: SH Gymnasium Dresden-Pieschen (33139)\nAdresse: Erfurter Straße 17\, 01127 Dresden\n
LOCATION:SH Gymnasium Dresden-Pieschen (33139): Erfurter Straße 17\, 01127 Dresden
CATEGORIES:Saison 2025/26
END:VEVENT
END:VCALENDAR
