BEGIN:VCALENDAR
PRODID:-//nuDatenautomaten//framework iCal4j //DE
VERSION:2.0
CALSCALE:GREGORIAN
BEGIN:VTIMEZONE
TZID:Europe/Berlin
LAST-MODIFIED:20260306T231828Z
TZURL:https://www.tzurl.org/zoneinfo/Europe/Berlin
X-LIC-LOCATION:Europe/Berlin
X-PROLEPTIC-TZNAME:LMT
BEGIN:STANDARD
TZNAME:CET
TZOFFSETFROM:+005328
TZOFFSETTO:+0100
DTSTART:18930401T000000
END:STANDARD
BEGIN:DAYLIGHT
TZNAME:CEST
TZOFFSETFROM:+0100
TZOFFSETTO:+0200
DTSTART:19160430T230000
RDATE:19400401T020000
RDATE:19430329T020000
RDATE:19460414T020000
RDATE:19470406T030000
RDATE:19480418T020000
RDATE:19490410T020000
RDATE:19800406T020000
END:DAYLIGHT
BEGIN:STANDARD
TZNAME:CET
TZOFFSETFROM:+0200
TZOFFSETTO:+0100
DTSTART:19161001T010000
RDATE:19421102T030000
RDATE:19431004T030000
RDATE:19441002T030000
RDATE:19451118T030000
RDATE:19461007T030000
END:STANDARD
BEGIN:DAYLIGHT
TZNAME:CEST
TZOFFSETFROM:+0100
TZOFFSETTO:+0200
DTSTART:19170416T020000
RRULE:FREQ=YEARLY;UNTIL=19180415T010000Z;BYMONTH=4;BYDAY=3MO
END:DAYLIGHT
BEGIN:STANDARD
TZNAME:CET
TZOFFSETFROM:+0200
TZOFFSETTO:+0100
DTSTART:19170917T030000
RRULE:FREQ=YEARLY;UNTIL=19180916T010000Z;BYMONTH=9;BYDAY=3MO
END:STANDARD
BEGIN:DAYLIGHT
TZNAME:CEST
TZOFFSETFROM:+0100
TZOFFSETTO:+0200
DTSTART:19440403T020000
RRULE:FREQ=YEARLY;UNTIL=19450402T010000Z;BYMONTH=4;BYDAY=1MO
END:DAYLIGHT
BEGIN:DAYLIGHT
TZNAME:CEMT
TZOFFSETFROM:+0200
TZOFFSETTO:+0300
DTSTART:19450524T020000
RDATE:19470511T030000
END:DAYLIGHT
BEGIN:DAYLIGHT
TZNAME:CEST
TZOFFSETFROM:+0300
TZOFFSETTO:+0200
DTSTART:19450924T030000
RDATE:19470629T030000
END:DAYLIGHT
BEGIN:STANDARD
TZNAME:CET
TZOFFSETFROM:+0100
TZOFFSETTO:+0100
DTSTART:19460101T000000
RDATE:19800101T000000
END:STANDARD
BEGIN:STANDARD
TZNAME:CET
TZOFFSETFROM:+0200
TZOFFSETTO:+0100
DTSTART:19471005T030000
RRULE:FREQ=YEARLY;UNTIL=19491002T010000Z;BYMONTH=10;BYDAY=1SU
END:STANDARD
BEGIN:STANDARD
TZNAME:CET
TZOFFSETFROM:+0200
TZOFFSETTO:+0100
DTSTART:19800928T030000
RRULE:FREQ=YEARLY;UNTIL=19950924T010000Z;BYMONTH=9;BYDAY=-1SU
END:STANDARD
BEGIN:DAYLIGHT
TZNAME:CEST
TZOFFSETFROM:+0100
TZOFFSETTO:+0200
DTSTART:19810329T020000
RRULE:FREQ=YEARLY;BYMONTH=3;BYDAY=-1SU
END:DAYLIGHT
BEGIN:STANDARD
TZNAME:CET
TZOFFSETFROM:+0200
TZOFFSETTO:+0100
DTSTART:19961027T030000
RRULE:FREQ=YEARLY;BYMONTH=10;BYDAY=-1SU
END:STANDARD
END:VTIMEZONE
BEGIN:VEVENT
DTSTAMP:20260423T215749Z
DTSTART;TZID=Europe/Berlin:20250906T100000
DTEND;TZID=Europe/Berlin:20250906T110000
SUMMARY:Regionsoberliga mDJ B HV Eibau vs MSV Bautzen 04 (10505)
UID:d79eec9b-6a9a-48a2-b677-48dfb60a6657
STATUS:CONFIRMED
LAST-MODIFIED:20251006T093706Z
DESCRIPTION:Regionsoberliga mDJ Staffel B\nBegegnungs-Nr: 10505\nHeim: HV Eibau\nGast: MSV Bautzen 04\nHalle: SH Am Kottmar Eibau (34105)\nAdresse: Jahnstr. 20 a\, 02739 Eibau\n
LOCATION:SH Am Kottmar Eibau (34105): Jahnstr. 20 a\, 02739 Eibau
CATEGORIES:Saison 2025/26
END:VEVENT
BEGIN:VEVENT
DTSTAMP:20260423T215749Z
DTSTART;TZID=Europe/Berlin:20251101T130000
DTEND;TZID=Europe/Berlin:20251101T140000
SUMMARY:Regionsoberliga mDJ B HV Eibau vs Koweg Görlitz II (10527)
UID:fa4f1143-d36b-4b88-873c-a0ddf35d172d
STATUS:CONFIRMED
LAST-MODIFIED:20251103T043306Z
DESCRIPTION:Regionsoberliga mDJ Staffel B\nBegegnungs-Nr: 10527\nHeim: HV Eibau\nGast: Koweg Görlitz II\nHalle: SH Am Kottmar Eibau (34105)\nAdresse: Jahnstr. 20 a\, 02739 Eibau\n
LOCATION:SH Am Kottmar Eibau (34105): Jahnstr. 20 a\, 02739 Eibau
CATEGORIES:Saison 2025/26
END:VEVENT
BEGIN:VEVENT
DTSTAMP:20260423T215749Z
DTSTART;TZID=Europe/Berlin:20250920T130000
DTEND;TZID=Europe/Berlin:20250920T140000
SUMMARY:Regionsoberliga mDJ B HV Eibau vs Stahl Rietschen (10515)
UID:a933f052-c00c-4cdb-a8c6-85a09fdcbec9
STATUS:CONFIRMED
LAST-MODIFIED:20251006T094035Z
DESCRIPTION:Regionsoberliga mDJ Staffel B\nBegegnungs-Nr: 10515\nHeim: HV Eibau\nGast: Stahl Rietschen\nHalle: SH Am Kottmar Eibau (34105)\nAdresse: Jahnstr. 20 a\, 02739 Eibau\n
LOCATION:SH Am Kottmar Eibau (34105): Jahnstr. 20 a\, 02739 Eibau
CATEGORIES:Saison 2025/26
END:VEVENT
BEGIN:VEVENT
DTSTAMP:20260423T215749Z
DTSTART;TZID=Europe/Berlin:20250927T130000
DTEND;TZID=Europe/Berlin:20250927T140000
SUMMARY:Regionsoberliga mDJ B HV Eibau vs SG Cunewalde/Sohland (10519)
UID:626dd1f7-8422-4142-bf85-dcca05fcad76
STATUS:CONFIRMED
LAST-MODIFIED:20251006T094214Z
DESCRIPTION:Regionsoberliga mDJ Staffel B\nBegegnungs-Nr: 10519\nHeim: HV Eibau\nGast: SG Cunewalde/Sohland\nHalle: SH Am Kottmar Eibau (34105)\nAdresse: Jahnstr. 20 a\, 02739 Eibau\n
LOCATION:SH Am Kottmar Eibau (34105): Jahnstr. 20 a\, 02739 Eibau
CATEGORIES:Saison 2025/26
END:VEVENT
BEGIN:VEVENT
DTSTAMP:20260423T215749Z
DTSTART;TZID=Europe/Berlin:20251213T140000
DTEND;TZID=Europe/Berlin:20251213T150000
SUMMARY:Regionsoberliga mDJ 5-8 HV Eibau vs Stahl Rietschen (10609)
UID:f8df8eeb-d816-4dad-9d0e-4ad2adcd885f
STATUS:CONFIRMED
LAST-MODIFIED:20251230T215241Z
DESCRIPTION:Regionsoberliga mDJ Staffel 5-8\nBegegnungs-Nr: 10609\nHeim: HV Eibau\nGast: Stahl Rietschen\nHalle: SH Am Kottmar Eibau (34105)\nAdresse: Jahnstr. 20 a\, 02739 Eibau\n
LOCATION:SH Am Kottmar Eibau (34105): Jahnstr. 20 a\, 02739 Eibau
CATEGORIES:Saison 2025/26
END:VEVENT
BEGIN:VEVENT
DTSTAMP:20260423T215749Z
DTSTART;TZID=Europe/Berlin:20260222T130000
DTEND;TZID=Europe/Berlin:20260222T140000
SUMMARY:Regionsoberliga mDJ 5-8 HV Eibau vs SV Lok Königsbrück  (10616)
UID:cee4e5fe-9673-4483-873f-bc4d406fb672
STATUS:CONFIRMED
LAST-MODIFIED:20260301T113304Z
DESCRIPTION:Regionsoberliga mDJ Staffel 5-8\nBegegnungs-Nr: 10616\nHeim: HV Eibau\nGast: SV Lok Königsbrück \nHalle: SH Am Kottmar Eibau (34105)\nAdresse: Jahnstr. 20 a\, 02739 Eibau\n
LOCATION:SH Am Kottmar Eibau (34105): Jahnstr. 20 a\, 02739 Eibau
CATEGORIES:Saison 2025/26
END:VEVENT
BEGIN:VEVENT
DTSTAMP:20260423T215749Z
DTSTART;TZID=Europe/Berlin:20260411T100000
DTEND;TZID=Europe/Berlin:20260411T110000
SUMMARY:Regionsoberliga mDJ 5-8 HV Eibau vs Stahl Krauschwitz (10623)
UID:5415842e-4e65-4c76-994e-1358050481c3
STATUS:CONFIRMED
LAST-MODIFIED:20260419T153757Z
DESCRIPTION:Regionsoberliga mDJ Staffel 5-8\nBegegnungs-Nr: 10623\nHeim: HV Eibau\nGast: Stahl Krauschwitz\nHalle: SH Am Kottmar Eibau (34105)\nAdresse: Jahnstr. 20 a\, 02739 Eibau\n
LOCATION:SH Am Kottmar Eibau (34105): Jahnstr. 20 a\, 02739 Eibau
CATEGORIES:Saison 2025/26
END:VEVENT
BEGIN:VEVENT
DTSTAMP:20260423T215749Z
DTSTART;TZID=Europe/Berlin:20260425T100000
DTEND;TZID=Europe/Berlin:20260425T110000
SUMMARY:Regionsoberliga mDJ 5-8 HV Eibau vs MSV Bautzen 04 (10654)
UID:49b4fb06-6d43-4107-8a42-d5ccba51b52a
STATUS:CONFIRMED
LAST-MODIFIED:20260113T034825Z
DESCRIPTION:Regionsoberliga mDJ Staffel 5-8\nBegegnungs-Nr: 10654\nHeim: HV Eibau\nGast: MSV Bautzen 04\nHalle: SH Am Kottmar Eibau (34105)\nAdresse: Jahnstr. 20 a\, 02739 Eibau\n
LOCATION:SH Am Kottmar Eibau (34105): Jahnstr. 20 a\, 02739 Eibau
CATEGORIES:Saison 2025/26
END:VEVENT
BEGIN:VEVENT
DTSTAMP:20260423T215749Z
DTSTART;TZID=Europe/Berlin:20260307T110000
DTEND;TZID=Europe/Berlin:20260307T120000
SUMMARY:Regionsoberliga mDJ 5-8 HV Eibau vs Lok Schleife (10635)
UID:01618e14-6d03-4b0e-af5c-0ccd1c483b1b
STATUS:CONFIRMED
LAST-MODIFIED:20260310T201227Z
DESCRIPTION:Regionsoberliga mDJ Staffel 5-8\nBegegnungs-Nr: 10635\nHeim: HV Eibau\nGast: Lok Schleife\nHalle: SH Am Kottmar Eibau (34105)\nAdresse: Jahnstr. 20 a\, 02739 Eibau\n
LOCATION:SH Am Kottmar Eibau (34105): Jahnstr. 20 a\, 02739 Eibau
CATEGORIES:Saison 2025/26
END:VEVENT
BEGIN:VEVENT
DTSTAMP:20260423T215749Z
DTSTART;TZID=Europe/Berlin:20260328T140000
DTEND;TZID=Europe/Berlin:20260328T150000
SUMMARY:Regionsoberliga mDJ 5-8 HV Eibau vs Koweg Görlitz II (10646)
UID:4997a101-b8f4-46dc-8d40-15a4ec1f6b82
STATUS:CONFIRMED
LAST-MODIFIED:20260331T194906Z
DESCRIPTION:Regionsoberliga mDJ Staffel 5-8\nBegegnungs-Nr: 10646\nHeim: HV Eibau\nGast: Koweg Görlitz II\nHalle: SH Am Kottmar Eibau (34105)\nAdresse: Jahnstr. 20 a\, 02739 Eibau\n
LOCATION:SH Am Kottmar Eibau (34105): Jahnstr. 20 a\, 02739 Eibau
CATEGORIES:Saison 2025/26
END:VEVENT
BEGIN:VEVENT
DTSTAMP:20260423T215749Z
DTSTART;TZID=Europe/Berlin:20250831T100000
DTEND;TZID=Europe/Berlin:20250831T110000
SUMMARY:Regionsoberliga mDJ B OHC Bernstadt vs HV Eibau (10502)
UID:cdb9d0db-7c62-4c55-9f5b-0e363dae4ab1
STATUS:CONFIRMED
LAST-MODIFIED:20251006T093645Z
DESCRIPTION:Regionsoberliga mDJ Staffel B\nBegegnungs-Nr: 10502\nHeim: OHC Bernstadt\nGast: HV Eibau\nHalle: Sporthalle \"Pließnitztal\" Bernstadt (34108)\nAdresse: Am Pließnitztal 3\, 02748 Bernstadt a.d. Eigen OT Kunnersdorf\n
LOCATION:Sporthalle \"Pließnitztal\" Bernstadt (34108): Am Pließnitztal 3\, 02748 Bernstadt a.d. Eigen OT Kunnersdorf
CATEGORIES:Saison 2025/26
END:VEVENT
BEGIN:VEVENT
DTSTAMP:20260423T215749Z
DTSTART;TZID=Europe/Berlin:20250913T121500
DTEND;TZID=Europe/Berlin:20250913T131500
SUMMARY:Regionsoberliga mDJ B TBSV Neugersdorf vs HV Eibau (10510)
UID:65d4ff93-5e4c-48bf-ac68-a699ec6bddb1
STATUS:CONFIRMED
LAST-MODIFIED:20251006T093841Z
DESCRIPTION:Regionsoberliga mDJ Staffel B\nBegegnungs-Nr: 10510\nHeim: TBSV Neugersdorf\nGast: HV Eibau\nHalle: SH Gymnasium Seifhennersdorf (34104)\nAdresse: Albertstraße 2\, 02782 Seifhennersdorf\n
LOCATION:SH Gymnasium Seifhennersdorf (34104): Albertstraße 2\, 02782 Seifhennersdorf
CATEGORIES:Saison 2025/26
END:VEVENT
BEGIN:VEVENT
DTSTAMP:20260423T215749Z
DTSTART;TZID=Europe/Berlin:20251025T100000
DTEND;TZID=Europe/Berlin:20251025T110000
SUMMARY:Regionsoberliga mDJ B OSV Zittau vs HV Eibau (10523)
UID:b8eb5a33-0caf-447e-bb61-dcd7178ddb54
STATUS:CONFIRMED
LAST-MODIFIED:20251028T161907Z
DESCRIPTION:Regionsoberliga mDJ Staffel B\nBegegnungs-Nr: 10523\nHeim: OSV Zittau\nGast: HV Eibau\nHalle: SH Zittau (34107)\nAdresse: Lisa - Tetzner - Str.\, 02763 Zittau\n
LOCATION:SH Zittau (34107): Lisa - Tetzner - Str.\, 02763 Zittau
CATEGORIES:Saison 2025/26
END:VEVENT
BEGIN:VEVENT
DTSTAMP:20260423T215749Z
DTSTART;TZID=Europe/Berlin:20260314T103000
DTEND;TZID=Europe/Berlin:20260314T113000
SUMMARY:Regionsoberliga mDJ 5-8 Stahl Rietschen vs HV Eibau (10640)
UID:5c3789d4-f775-44ac-bdf0-37054dfeaeb0
STATUS:CONFIRMED
LAST-MODIFIED:20260421T121226Z
DESCRIPTION:Regionsoberliga mDJ Staffel 5-8\nBegegnungs-Nr: 10640\nHeim: Stahl Rietschen\nGast: HV Eibau\nHalle: Oberlausitz-SH Rietschen (34403)\nAdresse: Am Festplatz 1\, 02956 Rietschen\n
LOCATION:Oberlausitz-SH Rietschen (34403): Am Festplatz 1\, 02956 Rietschen
CATEGORIES:Saison 2025/26
END:VEVENT
BEGIN:VEVENT
DTSTAMP:20260423T215749Z
DTSTART;TZID=Europe/Berlin:20251207T140000
DTEND;TZID=Europe/Berlin:20251207T150000
SUMMARY:Regionsoberliga mDJ 5-8 Lok Schleife vs HV Eibau (10607)
UID:ca4cc46e-288e-489d-96f3-347efe2892ed
STATUS:CONFIRMED
LAST-MODIFIED:20251230T215210Z
DESCRIPTION:Regionsoberliga mDJ Staffel 5-8\nBegegnungs-Nr: 10607\nHeim: Lok Schleife\nGast: HV Eibau\nHalle: SH Schleife (34402)\nAdresse: Spremberger Straße 29\, 02959 Schleife\n
LOCATION:SH Schleife (34402): Spremberger Straße 29\, 02959 Schleife
CATEGORIES:Saison 2025/26
END:VEVENT
BEGIN:VEVENT
DTSTAMP:20260423T215749Z
DTSTART;TZID=Europe/Berlin:20260117T110000
DTEND;TZID=Europe/Berlin:20260117T120000
SUMMARY:Regionsoberliga mDJ 5-8 Koweg Görlitz II vs HV Eibau (10617)
UID:2e5ac183-ff65-453e-a76a-8e50543eafbb
STATUS:CONFIRMED
LAST-MODIFIED:20260120T124709Z
DESCRIPTION:Regionsoberliga mDJ Staffel 5-8\nBegegnungs-Nr: 10617\nHeim: Koweg Görlitz II\nGast: HV Eibau\nHalle: SH Rauschwalde (34301)\nAdresse: Diesterwegplatz 8\, 02827 Görlitz\n
LOCATION:SH Rauschwalde (34301): Diesterwegplatz 8\, 02827 Görlitz
CATEGORIES:Saison 2025/26
END:VEVENT
BEGIN:VEVENT
DTSTAMP:20260423T215749Z
DTSTART;TZID=Europe/Berlin:20260418T143000
DTEND;TZID=Europe/Berlin:20260418T153000
SUMMARY:Regionsoberliga mDJ 5-8 Stahl Krauschwitz vs HV Eibau (10651)
UID:6d48fe70-ef2d-481b-842b-da43beb4ec2d
STATUS:CONFIRMED
LAST-MODIFIED:20260419T154027Z
DESCRIPTION:Regionsoberliga mDJ Staffel 5-8\nBegegnungs-Nr: 10651\nHeim: Stahl Krauschwitz\nGast: HV Eibau\nHalle: SH Kirchstraße Bad Muskau (34404)\nAdresse: Kirchstr. 9\, 02953 Bad Muskau\n
LOCATION:SH Kirchstraße Bad Muskau (34404): Kirchstr. 9\, 02953 Bad Muskau
CATEGORIES:Saison 2025/26
END:VEVENT
BEGIN:VEVENT
DTSTAMP:20260423T215749Z
DTSTART;TZID=Europe/Berlin:20260131T100000
DTEND;TZID=Europe/Berlin:20260131T110000
SUMMARY:Regionsoberliga mDJ 5-8 MSV Bautzen 04 vs HV Eibau (10625)
UID:5e938a7f-a805-42ef-974a-40e913730445
STATUS:CONFIRMED
LAST-MODIFIED:20260227T064543Z
DESCRIPTION:Regionsoberliga mDJ Staffel 5-8\nBegegnungs-Nr: 10625\nHeim: MSV Bautzen 04\nGast: HV Eibau\nHalle: SH Daimler Schule Bautzen (34512)\nAdresse: Daimlerstrasse 6\, 02625 Bautzen\n
LOCATION:SH Daimler Schule Bautzen (34512): Daimlerstrasse 6\, 02625 Bautzen
CATEGORIES:Saison 2025/26
END:VEVENT
BEGIN:VEVENT
DTSTAMP:20260423T215749Z
DTSTART;TZID=Europe/Berlin:20260321T153000
DTEND;TZID=Europe/Berlin:20260321T163000
SUMMARY:Regionsoberliga mDJ 5-8 SV Lok Königsbrück  vs HV Eibau (10644)
UID:412bacc3-7a47-41b7-8507-7aea271eee78
STATUS:CONFIRMED
LAST-MODIFIED:20260326T134612Z
DESCRIPTION:Regionsoberliga mDJ Staffel 5-8\nBegegnungs-Nr: 10644\nHeim: SV Lok Königsbrück \nGast: HV Eibau\nHalle: 2-Feld-Halle- OS Königsbrück (34513)\nAdresse: An der Schule 3\, 01936 Königsbrück\n
LOCATION:2-Feld-Halle- OS Königsbrück (34513): An der Schule 3\, 01936 Königsbrück
CATEGORIES:Saison 2025/26
END:VEVENT
END:VCALENDAR
