BEGIN:VCALENDAR
PRODID:-//nuDatenautomaten//framework iCal4j //DE
VERSION:2.0
CALSCALE:GREGORIAN
BEGIN:VTIMEZONE
TZID:Europe/Berlin
LAST-MODIFIED:20260306T231828Z
TZURL:https://www.tzurl.org/zoneinfo/Europe/Berlin
X-LIC-LOCATION:Europe/Berlin
X-PROLEPTIC-TZNAME:LMT
BEGIN:STANDARD
TZNAME:CET
TZOFFSETFROM:+005328
TZOFFSETTO:+0100
DTSTART:18930401T000000
END:STANDARD
BEGIN:DAYLIGHT
TZNAME:CEST
TZOFFSETFROM:+0100
TZOFFSETTO:+0200
DTSTART:19160430T230000
RDATE:19400401T020000
RDATE:19430329T020000
RDATE:19460414T020000
RDATE:19470406T030000
RDATE:19480418T020000
RDATE:19490410T020000
RDATE:19800406T020000
END:DAYLIGHT
BEGIN:STANDARD
TZNAME:CET
TZOFFSETFROM:+0200
TZOFFSETTO:+0100
DTSTART:19161001T010000
RDATE:19421102T030000
RDATE:19431004T030000
RDATE:19441002T030000
RDATE:19451118T030000
RDATE:19461007T030000
END:STANDARD
BEGIN:DAYLIGHT
TZNAME:CEST
TZOFFSETFROM:+0100
TZOFFSETTO:+0200
DTSTART:19170416T020000
RRULE:FREQ=YEARLY;UNTIL=19180415T010000Z;BYMONTH=4;BYDAY=3MO
END:DAYLIGHT
BEGIN:STANDARD
TZNAME:CET
TZOFFSETFROM:+0200
TZOFFSETTO:+0100
DTSTART:19170917T030000
RRULE:FREQ=YEARLY;UNTIL=19180916T010000Z;BYMONTH=9;BYDAY=3MO
END:STANDARD
BEGIN:DAYLIGHT
TZNAME:CEST
TZOFFSETFROM:+0100
TZOFFSETTO:+0200
DTSTART:19440403T020000
RRULE:FREQ=YEARLY;UNTIL=19450402T010000Z;BYMONTH=4;BYDAY=1MO
END:DAYLIGHT
BEGIN:DAYLIGHT
TZNAME:CEMT
TZOFFSETFROM:+0200
TZOFFSETTO:+0300
DTSTART:19450524T020000
RDATE:19470511T030000
END:DAYLIGHT
BEGIN:DAYLIGHT
TZNAME:CEST
TZOFFSETFROM:+0300
TZOFFSETTO:+0200
DTSTART:19450924T030000
RDATE:19470629T030000
END:DAYLIGHT
BEGIN:STANDARD
TZNAME:CET
TZOFFSETFROM:+0100
TZOFFSETTO:+0100
DTSTART:19460101T000000
RDATE:19800101T000000
END:STANDARD
BEGIN:STANDARD
TZNAME:CET
TZOFFSETFROM:+0200
TZOFFSETTO:+0100
DTSTART:19471005T030000
RRULE:FREQ=YEARLY;UNTIL=19491002T010000Z;BYMONTH=10;BYDAY=1SU
END:STANDARD
BEGIN:STANDARD
TZNAME:CET
TZOFFSETFROM:+0200
TZOFFSETTO:+0100
DTSTART:19800928T030000
RRULE:FREQ=YEARLY;UNTIL=19950924T010000Z;BYMONTH=9;BYDAY=-1SU
END:STANDARD
BEGIN:DAYLIGHT
TZNAME:CEST
TZOFFSETFROM:+0100
TZOFFSETTO:+0200
DTSTART:19810329T020000
RRULE:FREQ=YEARLY;BYMONTH=3;BYDAY=-1SU
END:DAYLIGHT
BEGIN:STANDARD
TZNAME:CET
TZOFFSETFROM:+0200
TZOFFSETTO:+0100
DTSTART:19961027T030000
RRULE:FREQ=YEARLY;BYMONTH=10;BYDAY=-1SU
END:STANDARD
END:VTIMEZONE
BEGIN:VEVENT
DTSTAMP:20260421T043317Z
DTSTART;TZID=Europe/Berlin:20250525T121500
DTEND;TZID=Europe/Berlin:20250525T131500
SUMMARY:Quali RLS mCJ I Radeberger SV vs NSG Gc-Mee-LO (20904)
UID:ab89e307-7dc3-4706-b5ea-22f030ccbfba
STATUS:CONFIRMED
LAST-MODIFIED:20250601T112629Z
DESCRIPTION:Quali männliche C-Jugend Gr.1\nBegegnungs-Nr: 20904\nHeim: Radeberger SV\nGast: NSG Gc-Mee-LO\nHalle: 3-Feld-Halle-BSZ Radeberg (34209)\nAdresse: Robert-Blum-Weg 5\, 01454 Radeberg\n
LOCATION:3-Feld-Halle-BSZ Radeberg (34209): Robert-Blum-Weg 5\, 01454 Radeberg
CATEGORIES:Saison 2025/26
END:VEVENT
BEGIN:VEVENT
DTSTAMP:20260421T043317Z
DTSTART;TZID=Europe/Berlin:20250525T143000
DTEND;TZID=Europe/Berlin:20250525T153000
SUMMARY:Quali RLS mCJ I Radeberger SV vs NSG SV04/HCE (20907)
UID:fc22d3b1-bfaf-47fe-b81a-1285d6068ee6
STATUS:CONFIRMED
LAST-MODIFIED:20250601T112755Z
DESCRIPTION:Quali männliche C-Jugend Gr.1\nBegegnungs-Nr: 20907\nHeim: Radeberger SV\nGast: NSG SV04/HCE\nHalle: 3-Feld-Halle-BSZ Radeberg (34209)\nAdresse: Robert-Blum-Weg 5\, 01454 Radeberg\n
LOCATION:3-Feld-Halle-BSZ Radeberg (34209): Robert-Blum-Weg 5\, 01454 Radeberg
CATEGORIES:Saison 2025/26
END:VEVENT
BEGIN:VEVENT
DTSTAMP:20260421T043317Z
DTSTART;TZID=Europe/Berlin:20250830T140000
DTEND;TZID=Europe/Berlin:20250830T150000
SUMMARY:Regionalliga Sachsen mCJ Radeberger SV vs LHV Hoyerswerda (20005)
UID:fc913e36-f5f1-4f47-8472-e4e45addf52f
STATUS:CONFIRMED
LAST-MODIFIED:20250831T075308Z
DESCRIPTION:Regionalliga Sachsen männliche C-Jugend\nBegegnungs-Nr: 20005\nHeim: Radeberger SV\nGast: LHV Hoyerswerda\nHalle: 3-Feld-Halle-BSZ Radeberg (34209)\nAdresse: Robert-Blum-Weg 5\, 01454 Radeberg\n
LOCATION:3-Feld-Halle-BSZ Radeberg (34209): Robert-Blum-Weg 5\, 01454 Radeberg
CATEGORIES:Saison 2025/26
END:VEVENT
BEGIN:VEVENT
DTSTAMP:20260421T043317Z
DTSTART;TZID=Europe/Berlin:20251206T141500
DTEND;TZID=Europe/Berlin:20251206T151500
SUMMARY:Regionalliga Sachsen mCJ Radeberger SV vs NSG EHV/NH/Buteo II (20050)
UID:5e11b506-8293-4072-bc21-db823ad287c9
STATUS:CONFIRMED
LAST-MODIFIED:20251207T091453Z
DESCRIPTION:Regionalliga Sachsen männliche C-Jugend\nBegegnungs-Nr: 20050\nHeim: Radeberger SV\nGast: NSG EHV/NH/Buteo II\nHalle: 3-Feld-Halle-BSZ Radeberg (34209)\nAdresse: Robert-Blum-Weg 5\, 01454 Radeberg\n
LOCATION:3-Feld-Halle-BSZ Radeberg (34209): Robert-Blum-Weg 5\, 01454 Radeberg
CATEGORIES:Saison 2025/26
END:VEVENT
BEGIN:VEVENT
DTSTAMP:20260421T043317Z
DTSTART;TZID=Europe/Berlin:20251108T141500
DTEND;TZID=Europe/Berlin:20251108T151500
SUMMARY:Regionalliga Sachsen mCJ Radeberger SV vs NSG SV04/HCE (20034)
UID:3a311cf2-43d5-48dd-831b-988f8c37d78c
STATUS:CONFIRMED
LAST-MODIFIED:20251109T083235Z
DESCRIPTION:Regionalliga Sachsen männliche C-Jugend\nBegegnungs-Nr: 20034\nHeim: Radeberger SV\nGast: NSG SV04/HCE\nHalle: 3-Feld-Halle-BSZ Radeberg (34209)\nAdresse: Robert-Blum-Weg 5\, 01454 Radeberg\n
LOCATION:3-Feld-Halle-BSZ Radeberg (34209): Robert-Blum-Weg 5\, 01454 Radeberg
CATEGORIES:Saison 2025/26
END:VEVENT
BEGIN:VEVENT
DTSTAMP:20260421T043317Z
DTSTART;TZID=Europe/Berlin:20251026T141000
DTEND;TZID=Europe/Berlin:20251026T151000
SUMMARY:Regionalliga Sachsen mCJ Radeberger SV vs SG MoGoNo Leipzig (20021)
UID:2920f7ad-34c2-4bae-9c78-7575a037b900
STATUS:CONFIRMED
LAST-MODIFIED:20251027T072935Z
DESCRIPTION:Regionalliga Sachsen männliche C-Jugend\nBegegnungs-Nr: 20021\nHeim: Radeberger SV\nGast: SG MoGoNo Leipzig\nHalle: 3-Feld-Halle-BSZ Radeberg (34209)\nAdresse: Robert-Blum-Weg 5\, 01454 Radeberg\n
LOCATION:3-Feld-Halle-BSZ Radeberg (34209): Robert-Blum-Weg 5\, 01454 Radeberg
CATEGORIES:Saison 2025/26
END:VEVENT
BEGIN:VEVENT
DTSTAMP:20260421T043317Z
DTSTART;TZID=Europe/Berlin:20250920T164500
DTEND;TZID=Europe/Berlin:20250920T174500
SUMMARY:Regionalliga Sachsen mCJ Radeberger SV vs Koweg Görlitz (20020)
UID:4cdf2f21-3356-4815-95bc-6106d57f28a8
STATUS:CONFIRMED
LAST-MODIFIED:20250928T141949Z
DESCRIPTION:Regionalliga Sachsen männliche C-Jugend\nBegegnungs-Nr: 20020\nHeim: Radeberger SV\nGast: Koweg Görlitz\nHalle: 3-Feld-Halle-BSZ Radeberg (34209)\nAdresse: Robert-Blum-Weg 5\, 01454 Radeberg\n
LOCATION:3-Feld-Halle-BSZ Radeberg (34209): Robert-Blum-Weg 5\, 01454 Radeberg
CATEGORIES:Saison 2025/26
END:VEVENT
BEGIN:VEVENT
DTSTAMP:20260421T043317Z
DTSTART;TZID=Europe/Berlin:20250907T132000
DTEND;TZID=Europe/Berlin:20250907T142000
SUMMARY:Regionalliga Sachsen mCJ Radeberger SV vs HC Elbflorenz 2006 II (20009)
UID:b71d26df-4daf-41db-9757-81a21769919d
STATUS:CONFIRMED
LAST-MODIFIED:20250907T130704Z
DESCRIPTION:Regionalliga Sachsen männliche C-Jugend\nBegegnungs-Nr: 20009\nHeim: Radeberger SV\nGast: HC Elbflorenz 2006 II\nHalle: 3-Feld-Halle-BSZ Radeberg (34209)\nAdresse: Robert-Blum-Weg 5\, 01454 Radeberg\n
LOCATION:3-Feld-Halle-BSZ Radeberg (34209): Robert-Blum-Weg 5\, 01454 Radeberg
CATEGORIES:Saison 2025/26
END:VEVENT
BEGIN:VEVENT
DTSTAMP:20260421T043317Z
DTSTART;TZID=Europe/Berlin:20260315T140000
DTEND;TZID=Europe/Berlin:20260315T150000
SUMMARY:Regionalliga Sachsen mCJ Radeberger SV vs SG LVB (20081)
UID:8f5a3dc2-4aed-45bd-ae58-b286563a29b7
STATUS:CONFIRMED
LAST-MODIFIED:20260316T100334Z
DESCRIPTION:Regionalliga Sachsen männliche C-Jugend\nBegegnungs-Nr: 20081\nHeim: Radeberger SV\nGast: SG LVB\nHalle: 3-Feld-Halle-BSZ Radeberg (34209)\nAdresse: Robert-Blum-Weg 5\, 01454 Radeberg\n
LOCATION:3-Feld-Halle-BSZ Radeberg (34209): Robert-Blum-Weg 5\, 01454 Radeberg
CATEGORIES:Saison 2025/26
END:VEVENT
BEGIN:VEVENT
DTSTAMP:20260421T043317Z
DTSTART;TZID=Europe/Berlin:20260307T141500
DTEND;TZID=Europe/Berlin:20260307T151500
SUMMARY:Regionalliga Sachsen mCJ Radeberger SV vs HSV Dresden (20077)
UID:f1920711-f1ee-49d0-b759-134895bae9ba
STATUS:CONFIRMED
LAST-MODIFIED:20260308T081854Z
DESCRIPTION:Regionalliga Sachsen männliche C-Jugend\nBegegnungs-Nr: 20077\nHeim: Radeberger SV\nGast: HSV Dresden\nHalle: 3-Feld-Halle-BSZ Radeberg (34209)\nAdresse: Robert-Blum-Weg 5\, 01454 Radeberg\n
LOCATION:3-Feld-Halle-BSZ Radeberg (34209): Robert-Blum-Weg 5\, 01454 Radeberg
CATEGORIES:Saison 2025/26
END:VEVENT
BEGIN:VEVENT
DTSTAMP:20260421T043317Z
DTSTART;TZID=Europe/Berlin:20251115T131500
DTEND;TZID=Europe/Berlin:20251115T141500
SUMMARY:Regionalliga Sachsen mCJ Radeberger SV vs SC DHfK Leipzig (20067)
UID:99d76598-e0c2-4f6b-88b3-1c08744ab440
STATUS:CONFIRMED
LAST-MODIFIED:20251116T142101Z
DESCRIPTION:Regionalliga Sachsen männliche C-Jugend\nBegegnungs-Nr: 20067\nHeim: Radeberger SV\nGast: SC DHfK Leipzig\nHalle: 3-Feld-Halle-BSZ Radeberg (34209)\nAdresse: Robert-Blum-Weg 5\, 01454 Radeberg\n
LOCATION:3-Feld-Halle-BSZ Radeberg (34209): Robert-Blum-Weg 5\, 01454 Radeberg
CATEGORIES:Saison 2025/26
END:VEVENT
BEGIN:VEVENT
DTSTAMP:20260421T043317Z
DTSTART;TZID=Europe/Berlin:20250525T164500
DTEND;TZID=Europe/Berlin:20250525T174500
SUMMARY:Quali RLS mCJ I LHV Hoyerswerda vs Radeberger SV (20910)
UID:0fab9ad7-ef55-4a91-987e-d04bd93d368d
STATUS:CONFIRMED
LAST-MODIFIED:20250601T112856Z
DESCRIPTION:Quali männliche C-Jugend Gr.1\nBegegnungs-Nr: 20910\nHeim: LHV Hoyerswerda\nGast: Radeberger SV\nHalle: 3-Feld-Halle-BSZ Radeberg (34209)\nAdresse: Robert-Blum-Weg 5\, 01454 Radeberg\n
LOCATION:3-Feld-Halle-BSZ Radeberg (34209): Robert-Blum-Weg 5\, 01454 Radeberg
CATEGORIES:Saison 2025/26
END:VEVENT
BEGIN:VEVENT
DTSTAMP:20260421T043317Z
DTSTART;TZID=Europe/Berlin:20250525T100000
DTEND;TZID=Europe/Berlin:20250525T110000
SUMMARY:Quali RLS mCJ I Koweg Görlitz vs Radeberger SV (20901)
UID:a365ff6a-17bb-42e9-a40c-209e93fe3fca
STATUS:CONFIRMED
LAST-MODIFIED:20250601T111826Z
DESCRIPTION:Quali männliche C-Jugend Gr.1\nBegegnungs-Nr: 20901\nHeim: Koweg Görlitz\nGast: Radeberger SV\nHalle: 3-Feld-Halle-BSZ Radeberg (34209)\nAdresse: Robert-Blum-Weg 5\, 01454 Radeberg\n
LOCATION:3-Feld-Halle-BSZ Radeberg (34209): Robert-Blum-Weg 5\, 01454 Radeberg
CATEGORIES:Saison 2025/26
END:VEVENT
BEGIN:VEVENT
DTSTAMP:20260421T043317Z
DTSTART;TZID=Europe/Berlin:20260314T120000
DTEND;TZID=Europe/Berlin:20260314T130000
SUMMARY:Regionalliga Sachsen mCJ LHV Hoyerswerda vs Radeberger SV (20060)
UID:9ad5d76f-a983-4169-819f-5995c9ef233e
STATUS:CONFIRMED
LAST-MODIFIED:20260316T100750Z
DESCRIPTION:Regionalliga Sachsen männliche C-Jugend\nBegegnungs-Nr: 20060\nHeim: LHV Hoyerswerda\nGast: Radeberger SV\nHalle: SH BSZ \"Konrad Zuse\" Hoyerswerda (34201)\nAdresse: Käthe-Kollwitz-Str. 5\, 02977 Hoyerswerda\n
LOCATION:SH BSZ \"Konrad Zuse\" Hoyerswerda (34201): Käthe-Kollwitz-Str. 5\, 02977 Hoyerswerda
CATEGORIES:Saison 2025/26
END:VEVENT
BEGIN:VEVENT
DTSTAMP:20260421T043317Z
DTSTART;TZID=Europe/Berlin:20251213T103000
DTEND;TZID=Europe/Berlin:20251213T113000
SUMMARY:Regionalliga Sachsen mCJ SG MoGoNo Leipzig vs Radeberger SV (20055)
UID:aa6f7a49-6ce7-484d-a12a-c0dc5633455c
STATUS:CONFIRMED
LAST-MODIFIED:20251213T151100Z
DESCRIPTION:Regionalliga Sachsen männliche C-Jugend\nBegegnungs-Nr: 20055\nHeim: SG MoGoNo Leipzig\nGast: Radeberger SV\nHalle: SH Kästner-Grundschule Leipzig (31131)\nAdresse: Erfurter Str\, 04155 Leipzig\n
LOCATION:SH Kästner-Grundschule Leipzig (31131): Erfurter Str\, 04155 Leipzig
CATEGORIES:Saison 2025/26
END:VEVENT
BEGIN:VEVENT
DTSTAMP:20260421T043317Z
DTSTART;TZID=Europe/Berlin:20251129T110000
DTEND;TZID=Europe/Berlin:20251129T120000
SUMMARY:Regionalliga Sachsen mCJ NSG EHV/NH/Buteo II vs Radeberger SV (20045)
UID:8dd864d1-5b3c-493b-a405-d11cf9214517
STATUS:CONFIRMED
LAST-MODIFIED:20251130T090151Z
DESCRIPTION:Regionalliga Sachsen männliche C-Jugend\nBegegnungs-Nr: 20045\nHeim: NSG EHV/NH/Buteo II\nGast: Radeberger SV\nHalle: Sachsenhalle Chemnitz (32101)\nAdresse: Straße Usti nad Labem 275\, 09119 Chemnitz\n
LOCATION:Sachsenhalle Chemnitz (32101): Straße Usti nad Labem 275\, 09119 Chemnitz
CATEGORIES:Saison 2025/26
END:VEVENT
BEGIN:VEVENT
DTSTAMP:20260421T043317Z
DTSTART;TZID=Europe/Berlin:20251123T140000
DTEND;TZID=Europe/Berlin:20251123T150000
SUMMARY:Regionalliga Sachsen mCJ SG LVB vs Radeberger SV (20039)
UID:46599071-ce83-4b18-b6e7-c1b9a2082651
STATUS:CONFIRMED
LAST-MODIFIED:20251123T145159Z
DESCRIPTION:Regionalliga Sachsen männliche C-Jugend\nBegegnungs-Nr: 20039\nHeim: SG LVB\nGast: Radeberger SV\nHalle: SH Gymnasium an der Telemannstraße  (31109)\nAdresse: Telemannstraße 9\, 04107 Leipzig\n
LOCATION:SH Gymnasium an der Telemannstraße  (31109): Telemannstraße 9\, 04107 Leipzig
CATEGORIES:Saison 2025/26
END:VEVENT
BEGIN:VEVENT
DTSTAMP:20260421T043317Z
DTSTART;TZID=Europe/Berlin:20251101T120000
DTEND;TZID=Europe/Berlin:20251101T130000
SUMMARY:Regionalliga Sachsen mCJ HSV Dresden vs Radeberger SV (20029)
UID:38e9bf69-225d-4865-8e68-ced25f70600d
STATUS:CONFIRMED
LAST-MODIFIED:20251101T150237Z
DESCRIPTION:Regionalliga Sachsen männliche C-Jugend\nBegegnungs-Nr: 20029\nHeim: HSV Dresden\nGast: Radeberger SV\nHalle: SH 121. Oberschule Dresden (33102)\nAdresse: Gamigstraße 28/30\, 01239 Dresden\n
LOCATION:SH 121. Oberschule Dresden (33102): Gamigstraße 28/30\, 01239 Dresden
CATEGORIES:Saison 2025/26
END:VEVENT
BEGIN:VEVENT
DTSTAMP:20260421T043317Z
DTSTART;TZID=Europe/Berlin:20250914T140000
DTEND;TZID=Europe/Berlin:20250914T150000
SUMMARY:Regionalliga Sachsen mCJ SC DHfK Leipzig vs Radeberger SV (20014)
UID:5e4ae152-c631-4ff0-aa5c-ff59b2e02ce0
STATUS:CONFIRMED
LAST-MODIFIED:20250916T175450Z
DESCRIPTION:Regionalliga Sachsen männliche C-Jugend\nBegegnungs-Nr: 20014\nHeim: SC DHfK Leipzig\nGast: Radeberger SV\nHalle: Kleine ARENA Leipzig (31117)\nAdresse: Am Sportforum 1\, 04105 Leipzig\n
LOCATION:Kleine ARENA Leipzig (31117): Am Sportforum 1\, 04105 Leipzig
CATEGORIES:Saison 2025/26
END:VEVENT
BEGIN:VEVENT
DTSTAMP:20260421T043317Z
DTSTART;TZID=Europe/Berlin:20260321T120000
DTEND;TZID=Europe/Berlin:20260321T130000
SUMMARY:Regionalliga Sachsen mCJ NSG SV04/HCE vs Radeberger SV (20090)
UID:30ca682b-6404-4c76-aa75-b6fb64f0ed5a
STATUS:CONFIRMED
LAST-MODIFIED:20260321T154627Z
DESCRIPTION:Regionalliga Sachsen männliche C-Jugend\nBegegnungs-Nr: 20090\nHeim: NSG SV04/HCE\nGast: Radeberger SV\nHalle: Dreifelder-SH am BSZ \"Anne Frank\" (32711)\nAdresse: Wieprechtstr. 11\, 08525 Plauen\n
LOCATION:Dreifelder-SH am BSZ \"Anne Frank\" (32711): Wieprechtstr. 11\, 08525 Plauen
CATEGORIES:Saison 2025/26
END:VEVENT
BEGIN:VEVENT
DTSTAMP:20260421T043317Z
DTSTART;TZID=Europe/Berlin:20260201T110000
DTEND;TZID=Europe/Berlin:20260201T120000
SUMMARY:Regionalliga Sachsen mCJ Koweg Görlitz vs Radeberger SV (20073)
UID:4b6b7d9c-db28-4b77-9e7a-77f05fb18e91
STATUS:CONFIRMED
LAST-MODIFIED:20260202T071503Z
DESCRIPTION:Regionalliga Sachsen männliche C-Jugend\nBegegnungs-Nr: 20073\nHeim: Koweg Görlitz\nGast: Radeberger SV\nHalle: SH Rauschwalde (34301)\nAdresse: Diesterwegplatz 8\, 02827 Görlitz\n
LOCATION:SH Rauschwalde (34301): Diesterwegplatz 8\, 02827 Görlitz
CATEGORIES:Saison 2025/26
END:VEVENT
BEGIN:VEVENT
DTSTAMP:20260421T043317Z
DTSTART;TZID=Europe/Berlin:20260117T140000
DTEND;TZID=Europe/Berlin:20260117T150000
SUMMARY:Regionalliga Sachsen mCJ HC Elbflorenz 2006 II vs Radeberger SV (20065)
UID:0a26b438-9266-4ade-8b1a-dd72c2002bac
STATUS:CONFIRMED
LAST-MODIFIED:20260118T074831Z
DESCRIPTION:Regionalliga Sachsen männliche C-Jugend\nBegegnungs-Nr: 20065\nHeim: HC Elbflorenz 2006 II\nGast: Radeberger SV\nHalle: SH Marie-Curie-Gymnasium Dresden (33128)\nAdresse: Zirkusstraße 7\, 01069 Dresden\n
LOCATION:SH Marie-Curie-Gymnasium Dresden (33128): Zirkusstraße 7\, 01069 Dresden
CATEGORIES:Saison 2025/26
END:VEVENT
END:VCALENDAR
