BEGIN:VCALENDAR
PRODID:-//nuDatenautomaten//framework iCal4j //DE
VERSION:2.0
CALSCALE:GREGORIAN
BEGIN:VTIMEZONE
TZID:Europe/Berlin
LAST-MODIFIED:20260306T231828Z
TZURL:https://www.tzurl.org/zoneinfo/Europe/Berlin
X-LIC-LOCATION:Europe/Berlin
X-PROLEPTIC-TZNAME:LMT
BEGIN:STANDARD
TZNAME:CET
TZOFFSETFROM:+005328
TZOFFSETTO:+0100
DTSTART:18930401T000000
END:STANDARD
BEGIN:DAYLIGHT
TZNAME:CEST
TZOFFSETFROM:+0100
TZOFFSETTO:+0200
DTSTART:19160430T230000
RDATE:19400401T020000
RDATE:19430329T020000
RDATE:19460414T020000
RDATE:19470406T030000
RDATE:19480418T020000
RDATE:19490410T020000
RDATE:19800406T020000
END:DAYLIGHT
BEGIN:STANDARD
TZNAME:CET
TZOFFSETFROM:+0200
TZOFFSETTO:+0100
DTSTART:19161001T010000
RDATE:19421102T030000
RDATE:19431004T030000
RDATE:19441002T030000
RDATE:19451118T030000
RDATE:19461007T030000
END:STANDARD
BEGIN:DAYLIGHT
TZNAME:CEST
TZOFFSETFROM:+0100
TZOFFSETTO:+0200
DTSTART:19170416T020000
RRULE:FREQ=YEARLY;UNTIL=19180415T010000Z;BYMONTH=4;BYDAY=3MO
END:DAYLIGHT
BEGIN:STANDARD
TZNAME:CET
TZOFFSETFROM:+0200
TZOFFSETTO:+0100
DTSTART:19170917T030000
RRULE:FREQ=YEARLY;UNTIL=19180916T010000Z;BYMONTH=9;BYDAY=3MO
END:STANDARD
BEGIN:DAYLIGHT
TZNAME:CEST
TZOFFSETFROM:+0100
TZOFFSETTO:+0200
DTSTART:19440403T020000
RRULE:FREQ=YEARLY;UNTIL=19450402T010000Z;BYMONTH=4;BYDAY=1MO
END:DAYLIGHT
BEGIN:DAYLIGHT
TZNAME:CEMT
TZOFFSETFROM:+0200
TZOFFSETTO:+0300
DTSTART:19450524T020000
RDATE:19470511T030000
END:DAYLIGHT
BEGIN:DAYLIGHT
TZNAME:CEST
TZOFFSETFROM:+0300
TZOFFSETTO:+0200
DTSTART:19450924T030000
RDATE:19470629T030000
END:DAYLIGHT
BEGIN:STANDARD
TZNAME:CET
TZOFFSETFROM:+0100
TZOFFSETTO:+0100
DTSTART:19460101T000000
RDATE:19800101T000000
END:STANDARD
BEGIN:STANDARD
TZNAME:CET
TZOFFSETFROM:+0200
TZOFFSETTO:+0100
DTSTART:19471005T030000
RRULE:FREQ=YEARLY;UNTIL=19491002T010000Z;BYMONTH=10;BYDAY=1SU
END:STANDARD
BEGIN:STANDARD
TZNAME:CET
TZOFFSETFROM:+0200
TZOFFSETTO:+0100
DTSTART:19800928T030000
RRULE:FREQ=YEARLY;UNTIL=19950924T010000Z;BYMONTH=9;BYDAY=-1SU
END:STANDARD
BEGIN:DAYLIGHT
TZNAME:CEST
TZOFFSETFROM:+0100
TZOFFSETTO:+0200
DTSTART:19810329T020000
RRULE:FREQ=YEARLY;BYMONTH=3;BYDAY=-1SU
END:DAYLIGHT
BEGIN:STANDARD
TZNAME:CET
TZOFFSETFROM:+0200
TZOFFSETTO:+0100
DTSTART:19961027T030000
RRULE:FREQ=YEARLY;BYMONTH=10;BYDAY=-1SU
END:STANDARD
END:VTIMEZONE
BEGIN:VEVENT
DTSTAMP:20260420T055352Z
DTSTART;TZID=Europe/Berlin:20251101T130000
DTEND;TZID=Europe/Berlin:20251101T140000
SUMMARY:Regionalliga Sachsen West SC Markranstädt vs HC Leipzig II (23025)
UID:55c0554d-ef57-4c43-bf52-d2d75d25ecb5
STATUS:CONFIRMED
LAST-MODIFIED:20251101T194321Z
DESCRIPTION:Regionalliga Sachsen weibliche D-Jugend West (VR)\nBegegnungs-Nr: 23025\nHeim: SC Markranstädt\nGast: HC Leipzig II\nHalle: Sportcenter Markranstädt (31127)\nAdresse: Leipziger Str. 47\, 04420 Markranstädt\n
LOCATION:Sportcenter Markranstädt (31127): Leipziger Str. 47\, 04420 Markranstädt
CATEGORIES:Saison 2025/26
END:VEVENT
BEGIN:VEVENT
DTSTAMP:20260420T055352Z
DTSTART;TZID=Europe/Berlin:20250927T130000
DTEND;TZID=Europe/Berlin:20250927T140000
SUMMARY:Regionalliga Sachsen West SC Markranstädt vs HSV Marienberg (23017)
UID:2a586185-043c-41d3-aec3-c9047a2f476b
STATUS:CONFIRMED
LAST-MODIFIED:20250929T074124Z
DESCRIPTION:Regionalliga Sachsen weibliche D-Jugend West (VR)\nBegegnungs-Nr: 23017\nHeim: SC Markranstädt\nGast: HSV Marienberg\nHalle: Sportcenter Markranstädt (31127)\nAdresse: Leipziger Str. 47\, 04420 Markranstädt\n
LOCATION:Sportcenter Markranstädt (31127): Leipziger Str. 47\, 04420 Markranstädt
CATEGORIES:Saison 2025/26
END:VEVENT
BEGIN:VEVENT
DTSTAMP:20260420T055352Z
DTSTART;TZID=Europe/Berlin:20250830T130000
DTEND;TZID=Europe/Berlin:20250830T140000
SUMMARY:Regionalliga Sachsen West SC Markranstädt vs HC Leipzig (23001)
UID:87d7cd7d-acc4-487a-a399-f4cabe3fc4fd
STATUS:CONFIRMED
LAST-MODIFIED:20250830T191546Z
DESCRIPTION:Regionalliga Sachsen weibliche D-Jugend West (VR)\nBegegnungs-Nr: 23001\nHeim: SC Markranstädt\nGast: HC Leipzig\nHalle: Sportcenter Markranstädt (31127)\nAdresse: Leipziger Str. 47\, 04420 Markranstädt\n
LOCATION:Sportcenter Markranstädt (31127): Leipziger Str. 47\, 04420 Markranstädt
CATEGORIES:Saison 2025/26
END:VEVENT
BEGIN:VEVENT
DTSTAMP:20260420T055352Z
DTSTART;TZID=Europe/Berlin:20250913T130000
DTEND;TZID=Europe/Berlin:20250913T140000
SUMMARY:Regionalliga Sachsen West SC Markranstädt vs BSV Limbach-O. (23009)
UID:72ac7994-7740-4e0f-9a27-9653d304d10f
STATUS:CONFIRMED
LAST-MODIFIED:20250914T183637Z
DESCRIPTION:Regionalliga Sachsen weibliche D-Jugend West (VR)\nBegegnungs-Nr: 23009\nHeim: SC Markranstädt\nGast: BSV Limbach-O.\nHalle: Sportcenter Markranstädt (31127)\nAdresse: Leipziger Str. 47\, 04420 Markranstädt\n
LOCATION:Sportcenter Markranstädt (31127): Leipziger Str. 47\, 04420 Markranstädt
CATEGORIES:Saison 2025/26
END:VEVENT
BEGIN:VEVENT
DTSTAMP:20260420T055352Z
DTSTART;TZID=Europe/Berlin:20251116T130000
DTEND;TZID=Europe/Berlin:20251116T140000
SUMMARY:Regionalliga Sachsen Meister SC Markranstädt vs BSV Limbach-O. (23072)
UID:e1ad822c-face-48d9-9500-4f800bc0c337
STATUS:CONFIRMED
LAST-MODIFIED:20251122T200116Z
DESCRIPTION:Regionalliga Sachsen weibliche D-Jugend Meisterschaft\nBegegnungs-Nr: 23072\nHeim: SC Markranstädt\nGast: BSV Limbach-O.\nHalle: Sportcenter Markranstädt (31127)\nAdresse: Leipziger Str. 47\, 04420 Markranstädt\n
LOCATION:Sportcenter Markranstädt (31127): Leipziger Str. 47\, 04420 Markranstädt
CATEGORIES:Saison 2025/26
END:VEVENT
BEGIN:VEVENT
DTSTAMP:20260420T055352Z
DTSTART;TZID=Europe/Berlin:20260118T130000
DTEND;TZID=Europe/Berlin:20260118T140000
SUMMARY:Regionalliga Sachsen Meister SC Markranstädt vs HC Rödertal  (23078)
UID:115db35e-f329-4786-a3f8-6fd733d0ef82
STATUS:CONFIRMED
LAST-MODIFIED:20260119T104431Z
DESCRIPTION:Regionalliga Sachsen weibliche D-Jugend Meisterschaft\nBegegnungs-Nr: 23078\nHeim: SC Markranstädt\nGast: HC Rödertal \nHalle: Sportcenter Markranstädt (31127)\nAdresse: Leipziger Str. 47\, 04420 Markranstädt\n
LOCATION:Sportcenter Markranstädt (31127): Leipziger Str. 47\, 04420 Markranstädt
CATEGORIES:Saison 2025/26
END:VEVENT
BEGIN:VEVENT
DTSTAMP:20260420T055352Z
DTSTART;TZID=Europe/Berlin:20260419T130000
DTEND;TZID=Europe/Berlin:20260419T140000
SUMMARY:Regionalliga Sachsen Meister SC Markranstädt vs Görlitzer HC (23111)
UID:1ff3e29d-a8a4-41cd-b092-b5ea05989f8e
STATUS:CONFIRMED
DESCRIPTION:Regionalliga Sachsen weibliche D-Jugend Meisterschaft\nBegegnungs-Nr: 23111\nHeim: SC Markranstädt\nGast: Görlitzer HC\nHalle: Sportcenter Markranstädt (31127)\nAdresse: Leipziger Str. 47\, 04420 Markranstädt\n
LOCATION:Sportcenter Markranstädt (31127): Leipziger Str. 47\, 04420 Markranstädt
CATEGORIES:Saison 2025/26
END:VEVENT
BEGIN:VEVENT
DTSTAMP:20260420T055352Z
DTSTART;TZID=Europe/Berlin:20260228T130000
DTEND;TZID=Europe/Berlin:20260228T140000
SUMMARY:Regionalliga Sachsen Meister SC Markranstädt vs HC Leipzig (23092)
UID:26e1dfa9-4607-4b50-a75a-3639eadb4a3b
STATUS:CONFIRMED
LAST-MODIFIED:20260228T193953Z
DESCRIPTION:Regionalliga Sachsen weibliche D-Jugend Meisterschaft\nBegegnungs-Nr: 23092\nHeim: SC Markranstädt\nGast: HC Leipzig\nHalle: Sportcenter Markranstädt (31127)\nAdresse: Leipziger Str. 47\, 04420 Markranstädt\n
LOCATION:Sportcenter Markranstädt (31127): Leipziger Str. 47\, 04420 Markranstädt
CATEGORIES:Saison 2025/26
END:VEVENT
BEGIN:VEVENT
DTSTAMP:20260420T055352Z
DTSTART;TZID=Europe/Berlin:20260307T170000
DTEND;TZID=Europe/Berlin:20260307T180000
SUMMARY:Regionalliga Sachsen Meister SC Markranstädt vs VfL Meißen (23096)
UID:00696c12-4dc2-4c9f-b385-819f1e29bc34
STATUS:CONFIRMED
LAST-MODIFIED:20260309T081757Z
DESCRIPTION:Regionalliga Sachsen weibliche D-Jugend Meisterschaft\nBegegnungs-Nr: 23096\nHeim: SC Markranstädt\nGast: VfL Meißen\nHalle: Sportcenter Markranstädt (31127)\nAdresse: Leipziger Str. 47\, 04420 Markranstädt\n
LOCATION:Sportcenter Markranstädt (31127): Leipziger Str. 47\, 04420 Markranstädt
CATEGORIES:Saison 2025/26
END:VEVENT
BEGIN:VEVENT
DTSTAMP:20260420T055352Z
DTSTART;TZID=Europe/Berlin:20260322T110000
DTEND;TZID=Europe/Berlin:20260322T120000
SUMMARY:Regionalliga Sachsen Meister SC Markranstädt vs BSV Sa. Zwickau (23101)
UID:e13ce6a9-79dc-42f0-bdf7-da9e3e98c8c8
STATUS:CONFIRMED
LAST-MODIFIED:20260323T085605Z
DESCRIPTION:Regionalliga Sachsen weibliche D-Jugend Meisterschaft\nBegegnungs-Nr: 23101\nHeim: SC Markranstädt\nGast: BSV Sa. Zwickau\nHalle: Sportcenter Markranstädt (31127)\nAdresse: Leipziger Str. 47\, 04420 Markranstädt\n
LOCATION:Sportcenter Markranstädt (31127): Leipziger Str. 47\, 04420 Markranstädt
CATEGORIES:Saison 2025/26
END:VEVENT
BEGIN:VEVENT
DTSTAMP:20260420T055352Z
DTSTART;TZID=Europe/Berlin:20251123T110000
DTEND;TZID=Europe/Berlin:20251123T120000
SUMMARY:Regionalliga Sachsen Meister SC Markranstädt vs SC Hoyerswerda  (23059)
UID:913902cd-ea5d-4228-b4b6-14595072e5cf
STATUS:CONFIRMED
LAST-MODIFIED:20251130T123940Z
DESCRIPTION:Regionalliga Sachsen weibliche D-Jugend Meisterschaft\nBegegnungs-Nr: 23059\nHeim: SC Markranstädt\nGast: SC Hoyerswerda \nHalle: Sportcenter Markranstädt (31127)\nAdresse: Leipziger Str. 47\, 04420 Markranstädt\n
LOCATION:Sportcenter Markranstädt (31127): Leipziger Str. 47\, 04420 Markranstädt
CATEGORIES:Saison 2025/26
END:VEVENT
BEGIN:VEVENT
DTSTAMP:20260420T055352Z
DTSTART;TZID=Europe/Berlin:20251025T103000
DTEND;TZID=Europe/Berlin:20251025T113000
SUMMARY:Regionalliga Sachsen West BSV Sa. Zwickau II vs SC Markranstädt (23021)
UID:c6c2eb4a-e45d-4587-ae19-0067655d425f
STATUS:CONFIRMED
LAST-MODIFIED:20251025T120629Z
DESCRIPTION:Regionalliga Sachsen weibliche D-Jugend West (VR)\nBegegnungs-Nr: 23021\nHeim: BSV Sa. Zwickau II\nGast: SC Markranstädt\nHalle: SH Zwickau-Neuplanitz (32501)\nAdresse: Dortmunder Str. 7a\, 08062 Zwickau\n
LOCATION:SH Zwickau-Neuplanitz (32501): Dortmunder Str. 7a\, 08062 Zwickau
CATEGORIES:Saison 2025/26
END:VEVENT
BEGIN:VEVENT
DTSTAMP:20260420T055352Z
DTSTART;TZID=Europe/Berlin:20250920T170000
DTEND;TZID=Europe/Berlin:20250920T180000
SUMMARY:Regionalliga Sachsen West SG Zschorlau/Schneeberg vs SC Markranstädt (23013)
UID:6f7f7fef-097b-47c9-91ed-c527292478b1
STATUS:CONFIRMED
LAST-MODIFIED:20250922T073740Z
DESCRIPTION:Regionalliga Sachsen weibliche D-Jugend West (VR)\nBegegnungs-Nr: 23013\nHeim: SG Zschorlau/Schneeberg\nGast: SC Markranstädt\nHalle: Silberstrom-Halle Schneeberg (32307)\nAdresse: Keilbergring 20\, 08289 Schneeberg\n
LOCATION:Silberstrom-Halle Schneeberg (32307): Keilbergring 20\, 08289 Schneeberg
CATEGORIES:Saison 2025/26
END:VEVENT
BEGIN:VEVENT
DTSTAMP:20260420T055352Z
DTSTART;TZID=Europe/Berlin:20250907T100000
DTEND;TZID=Europe/Berlin:20250907T110000
SUMMARY:Regionalliga Sachsen West BSV Sa. Zwickau vs SC Markranstädt (23005)
UID:0afeac3c-a0fe-4052-bcea-f463e59c666e
STATUS:CONFIRMED
LAST-MODIFIED:20250907T101056Z
DESCRIPTION:Regionalliga Sachsen weibliche D-Jugend West (VR)\nBegegnungs-Nr: 23005\nHeim: BSV Sa. Zwickau\nGast: SC Markranstädt\nHalle: SH Zwickau-Neuplanitz (32501)\nAdresse: Dortmunder Str. 7a\, 08062 Zwickau\n
LOCATION:SH Zwickau-Neuplanitz (32501): Dortmunder Str. 7a\, 08062 Zwickau
CATEGORIES:Saison 2025/26
END:VEVENT
BEGIN:VEVENT
DTSTAMP:20260420T055352Z
DTSTART;TZID=Europe/Berlin:20251207T130000
DTEND;TZID=Europe/Berlin:20251207T140000
SUMMARY:Regionalliga Sachsen Meister VfL Meißen vs SC Markranstädt (23068)
UID:49fca254-6f8c-4eed-9745-fae0bf355750
STATUS:CONFIRMED
LAST-MODIFIED:20251208T193951Z
DESCRIPTION:Regionalliga Sachsen weibliche D-Jugend Meisterschaft\nBegegnungs-Nr: 23068\nHeim: VfL Meißen\nGast: SC Markranstädt\nHalle: SH \"Heiliger Grund\" Meißen (33212)\nAdresse: Goethestraße 27\, 01662 Meißen\n
LOCATION:SH \"Heiliger Grund\" Meißen (33212): Goethestraße 27\, 01662 Meißen
CATEGORIES:Saison 2025/26
END:VEVENT
BEGIN:VEVENT
DTSTAMP:20260420T055352Z
DTSTART;TZID=Europe/Berlin:20260222T123000
DTEND;TZID=Europe/Berlin:20260222T133000
SUMMARY:Regionalliga Sachsen Meister BSV Sa. Zwickau vs SC Markranstädt (23073)
UID:77f1e120-4979-4d64-8e20-3df9af995c72
STATUS:CONFIRMED
LAST-MODIFIED:20260228T193745Z
DESCRIPTION:Regionalliga Sachsen weibliche D-Jugend Meisterschaft\nBegegnungs-Nr: 23073\nHeim: BSV Sa. Zwickau\nGast: SC Markranstädt\nHalle: SH Zwickau-Neuplanitz (32501)\nAdresse: Dortmunder Str. 7a\, 08062 Zwickau\n
LOCATION:SH Zwickau-Neuplanitz (32501): Dortmunder Str. 7a\, 08062 Zwickau
CATEGORIES:Saison 2025/26
END:VEVENT
BEGIN:VEVENT
DTSTAMP:20260420T055352Z
DTSTART;TZID=Europe/Berlin:20260124T143000
DTEND;TZID=Europe/Berlin:20260124T153000
SUMMARY:Regionalliga Sachsen Meister Görlitzer HC vs SC Markranstädt (23083)
UID:71095ef7-de0a-44c5-a3ed-20ae1e284521
STATUS:CONFIRMED
LAST-MODIFIED:20260126T191807Z
DESCRIPTION:Regionalliga Sachsen weibliche D-Jugend Meisterschaft\nBegegnungs-Nr: 23083\nHeim: Görlitzer HC\nGast: SC Markranstädt\nHalle: Jahn-SH Görlitz (34302)\nAdresse: Kummerau 6\, 02826 Görlitz\n
LOCATION:Jahn-SH Görlitz (34302): Kummerau 6\, 02826 Görlitz
CATEGORIES:Saison 2025/26
END:VEVENT
BEGIN:VEVENT
DTSTAMP:20260420T055352Z
DTSTART;TZID=Europe/Berlin:20260131T110000
DTEND;TZID=Europe/Berlin:20260131T120000
SUMMARY:Regionalliga Sachsen Meister SC Hoyerswerda  vs SC Markranstädt (23087)
UID:cd2abc50-ec9f-48bd-93ee-2e47ed664991
STATUS:CONFIRMED
LAST-MODIFIED:20260131T184719Z
DESCRIPTION:Regionalliga Sachsen weibliche D-Jugend Meisterschaft\nBegegnungs-Nr: 23087\nHeim: SC Hoyerswerda \nGast: SC Markranstädt\nHalle: VBH Arena Hoyerswerda (34202)\nAdresse: Lieselotte-Herrmann-Str. 11\, 02977 Hoyerswerda\n
LOCATION:VBH Arena Hoyerswerda (34202): Lieselotte-Herrmann-Str. 11\, 02977 Hoyerswerda
CATEGORIES:Saison 2025/26
END:VEVENT
BEGIN:VEVENT
DTSTAMP:20260420T055352Z
DTSTART;TZID=Europe/Berlin:20260314T103000
DTEND;TZID=Europe/Berlin:20260314T113000
SUMMARY:Regionalliga Sachsen Meister BSV Limbach-O. vs SC Markranstädt (23100)
UID:57abcc18-c5c1-4c30-ac81-a24da9d8a67b
STATUS:CONFIRMED
LAST-MODIFIED:20260315T212657Z
DESCRIPTION:Regionalliga Sachsen weibliche D-Jugend Meisterschaft\nBegegnungs-Nr: 23100\nHeim: BSV Limbach-O.\nGast: SC Markranstädt\nHalle: GSH Limbach-Oberfrohna (32201)\nAdresse: Anna-Esche-Gäßchen 1\, 09212 Limbach-Oberfrohna\n
LOCATION:GSH Limbach-Oberfrohna (32201): Anna-Esche-Gäßchen 1\, 09212 Limbach-Oberfrohna
CATEGORIES:Saison 2025/26
END:VEVENT
BEGIN:VEVENT
DTSTAMP:20260420T055352Z
DTSTART;TZID=Europe/Berlin:20260328T123000
DTEND;TZID=Europe/Berlin:20260328T133000
SUMMARY:Regionalliga Sachsen Meister HC Rödertal  vs SC Markranstädt (23106)
UID:49949332-6c02-4915-b690-cc9b7244315c
STATUS:CONFIRMED
LAST-MODIFIED:20260330T083048Z
DESCRIPTION:Regionalliga Sachsen weibliche D-Jugend Meisterschaft\nBegegnungs-Nr: 23106\nHeim: HC Rödertal \nGast: SC Markranstädt\nHalle: 3-Feld-Halle-GY Großröhrsdorf (34514)\nAdresse: Melanchthonstraße 21\, 01900  Großröhrsdorf\n
LOCATION:3-Feld-Halle-GY Großröhrsdorf (34514): Melanchthonstraße 21\, 01900  Großröhrsdorf
CATEGORIES:Saison 2025/26
END:VEVENT
BEGIN:VEVENT
DTSTAMP:20260420T055352Z
DTSTART;TZID=Europe/Berlin:20260303T181500
DTEND;TZID=Europe/Berlin:20260303T191500
SUMMARY:Regionalliga Sachsen Meister HC Leipzig vs SC Markranstädt (23064)
UID:66fbbadf-24fb-4273-a2f2-cdf2a8a09586
STATUS:CONFIRMED
LAST-MODIFIED:20260309T081403Z
DESCRIPTION:Regionalliga Sachsen weibliche D-Jugend Meisterschaft\nBegegnungs-Nr: 23064\nHeim: HC Leipzig\nGast: SC Markranstädt\nHalle: SH Brüderstraße Leipzig (31101)\nAdresse: Brüderstr. 15\, 04103 Leipzig\n
LOCATION:SH Brüderstraße Leipzig (31101): Brüderstr. 15\, 04103 Leipzig
CATEGORIES:Saison 2025/26
END:VEVENT
END:VCALENDAR
