BEGIN:VCALENDAR
PRODID:-//nuDatenautomaten//framework iCal4j //DE
VERSION:2.0
CALSCALE:GREGORIAN
BEGIN:VTIMEZONE
TZID:Europe/Berlin
LAST-MODIFIED:20260306T231828Z
TZURL:https://www.tzurl.org/zoneinfo/Europe/Berlin
X-LIC-LOCATION:Europe/Berlin
X-PROLEPTIC-TZNAME:LMT
BEGIN:STANDARD
TZNAME:CET
TZOFFSETFROM:+005328
TZOFFSETTO:+0100
DTSTART:18930401T000000
END:STANDARD
BEGIN:DAYLIGHT
TZNAME:CEST
TZOFFSETFROM:+0100
TZOFFSETTO:+0200
DTSTART:19160430T230000
RDATE:19400401T020000
RDATE:19430329T020000
RDATE:19460414T020000
RDATE:19470406T030000
RDATE:19480418T020000
RDATE:19490410T020000
RDATE:19800406T020000
END:DAYLIGHT
BEGIN:STANDARD
TZNAME:CET
TZOFFSETFROM:+0200
TZOFFSETTO:+0100
DTSTART:19161001T010000
RDATE:19421102T030000
RDATE:19431004T030000
RDATE:19441002T030000
RDATE:19451118T030000
RDATE:19461007T030000
END:STANDARD
BEGIN:DAYLIGHT
TZNAME:CEST
TZOFFSETFROM:+0100
TZOFFSETTO:+0200
DTSTART:19170416T020000
RRULE:FREQ=YEARLY;UNTIL=19180415T010000Z;BYMONTH=4;BYDAY=3MO
END:DAYLIGHT
BEGIN:STANDARD
TZNAME:CET
TZOFFSETFROM:+0200
TZOFFSETTO:+0100
DTSTART:19170917T030000
RRULE:FREQ=YEARLY;UNTIL=19180916T010000Z;BYMONTH=9;BYDAY=3MO
END:STANDARD
BEGIN:DAYLIGHT
TZNAME:CEST
TZOFFSETFROM:+0100
TZOFFSETTO:+0200
DTSTART:19440403T020000
RRULE:FREQ=YEARLY;UNTIL=19450402T010000Z;BYMONTH=4;BYDAY=1MO
END:DAYLIGHT
BEGIN:DAYLIGHT
TZNAME:CEMT
TZOFFSETFROM:+0200
TZOFFSETTO:+0300
DTSTART:19450524T020000
RDATE:19470511T030000
END:DAYLIGHT
BEGIN:DAYLIGHT
TZNAME:CEST
TZOFFSETFROM:+0300
TZOFFSETTO:+0200
DTSTART:19450924T030000
RDATE:19470629T030000
END:DAYLIGHT
BEGIN:STANDARD
TZNAME:CET
TZOFFSETFROM:+0100
TZOFFSETTO:+0100
DTSTART:19460101T000000
RDATE:19800101T000000
END:STANDARD
BEGIN:STANDARD
TZNAME:CET
TZOFFSETFROM:+0200
TZOFFSETTO:+0100
DTSTART:19471005T030000
RRULE:FREQ=YEARLY;UNTIL=19491002T010000Z;BYMONTH=10;BYDAY=1SU
END:STANDARD
BEGIN:STANDARD
TZNAME:CET
TZOFFSETFROM:+0200
TZOFFSETTO:+0100
DTSTART:19800928T030000
RRULE:FREQ=YEARLY;UNTIL=19950924T010000Z;BYMONTH=9;BYDAY=-1SU
END:STANDARD
BEGIN:DAYLIGHT
TZNAME:CEST
TZOFFSETFROM:+0100
TZOFFSETTO:+0200
DTSTART:19810329T020000
RRULE:FREQ=YEARLY;BYMONTH=3;BYDAY=-1SU
END:DAYLIGHT
BEGIN:STANDARD
TZNAME:CET
TZOFFSETFROM:+0200
TZOFFSETTO:+0100
DTSTART:19961027T030000
RRULE:FREQ=YEARLY;BYMONTH=10;BYDAY=-1SU
END:STANDARD
END:VTIMEZONE
BEGIN:VEVENT
DTSTAMP:20260423T232644Z
DTSTART;TZID=Europe/Berlin:20251130T130000
DTEND;TZID=Europe/Berlin:20251130T133000
SUMMARY:Regionsliga gFJ A HSV 1923 Pulsnitz vs LHV Hoyerswerda (14021)
UID:4630122d-4fd3-4cce-b211-ac461f03b168
STATUS:CONFIRMED
DESCRIPTION:Regionsliga  gFJ Staffel A\nBegegnungs-Nr: 14021\nHeim: HSV 1923 Pulsnitz\nGast: LHV Hoyerswerda\nHalle: Sportkomplex Pulsnitz (34208)\nAdresse: Hempelstr. 8\, 01896 Pulsnitz\n
LOCATION:Sportkomplex Pulsnitz (34208): Hempelstr. 8\, 01896 Pulsnitz
CATEGORIES:Saison 2025/26
END:VEVENT
BEGIN:VEVENT
DTSTAMP:20260423T232644Z
DTSTART;TZID=Europe/Berlin:20251130T103000
DTEND;TZID=Europe/Berlin:20251130T110000
SUMMARY:Regionsliga gFJ A HSV 1923 Pulsnitz vs HC Rödertal  (14018)
UID:3d72d7f5-a847-4252-8aec-ff485fb80a24
STATUS:CONFIRMED
DESCRIPTION:Regionsliga  gFJ Staffel A\nBegegnungs-Nr: 14018\nHeim: HSV 1923 Pulsnitz\nGast: HC Rödertal \nHalle: Sportkomplex Pulsnitz (34208)\nAdresse: Hempelstr. 8\, 01896 Pulsnitz\n
LOCATION:Sportkomplex Pulsnitz (34208): Hempelstr. 8\, 01896 Pulsnitz
CATEGORIES:Saison 2025/26
END:VEVENT
BEGIN:VEVENT
DTSTAMP:20260423T232644Z
DTSTART;TZID=Europe/Berlin:20251108T090000
DTEND;TZID=Europe/Berlin:20251108T093000
SUMMARY:Regionsliga gFJ A HSV 1923 Pulsnitz vs SV Lok Königsbrück  (14008)
UID:65c3f82a-52b3-4da7-b5c0-519f659fd3f2
STATUS:CONFIRMED
LAST-MODIFIED:20260126T182710Z
DESCRIPTION:Regionsliga  gFJ Staffel A\nBegegnungs-Nr: 14008\nHeim: HSV 1923 Pulsnitz\nGast: SV Lok Königsbrück \nHalle: 2-Feld-Halle- OS Königsbrück (34513)\nAdresse: An der Schule 3\, 01936 Königsbrück\n
LOCATION:2-Feld-Halle- OS Königsbrück (34513): An der Schule 3\, 01936 Königsbrück
CATEGORIES:Saison 2025/26
END:VEVENT
BEGIN:VEVENT
DTSTAMP:20260423T232644Z
DTSTART;TZID=Europe/Berlin:20251206T110000
DTEND;TZID=Europe/Berlin:20251206T113000
SUMMARY:Regionsliga gFJ A HSV 1923 Pulsnitz vs Radeberger SV (14003)
UID:8b0aca52-b582-4ff2-b372-c5f30e64eff6
STATUS:CONFIRMED
DESCRIPTION:Regionsliga  gFJ Staffel A\nBegegnungs-Nr: 14003\nHeim: HSV 1923 Pulsnitz\nGast: Radeberger SV\nHalle: 3-Feld-Halle-BSZ Radeberg (34209)\nAdresse: Robert-Blum-Weg 5\, 01454 Radeberg\n
LOCATION:3-Feld-Halle-BSZ Radeberg (34209): Robert-Blum-Weg 5\, 01454 Radeberg
CATEGORIES:Saison 2025/26
END:VEVENT
BEGIN:VEVENT
DTSTAMP:20260423T232644Z
DTSTART;TZID=Europe/Berlin:20260201T130000
DTEND;TZID=Europe/Berlin:20260201T133000
SUMMARY:Regionsliga gFJ A HSV 1923 Pulsnitz vs Radeberger SV II (14035)
UID:b0805c64-3af2-4c02-97b1-09f809290425
STATUS:CONFIRMED
DESCRIPTION:Regionsliga  gFJ Staffel A\nBegegnungs-Nr: 14035\nHeim: HSV 1923 Pulsnitz\nGast: Radeberger SV II\nHalle: Sportkomplex Pulsnitz (34208)\nAdresse: Hempelstr. 8\, 01896 Pulsnitz\n
LOCATION:Sportkomplex Pulsnitz (34208): Hempelstr. 8\, 01896 Pulsnitz
CATEGORIES:Saison 2025/26
END:VEVENT
BEGIN:VEVENT
DTSTAMP:20260423T232644Z
DTSTART;TZID=Europe/Berlin:20260308T090000
DTEND;TZID=Europe/Berlin:20260308T093000
SUMMARY:Regionsliga gFJ A HSV 1923 Pulsnitz vs HVH Kamenz (14025)
UID:445e76a9-fe2a-46b1-b4dd-2e49d97b2a39
STATUS:CONFIRMED
LAST-MODIFIED:20260130T123451Z
DESCRIPTION:Regionsliga  gFJ Staffel A\nBegegnungs-Nr: 14025\nHeim: HSV 1923 Pulsnitz\nGast: HVH Kamenz\nHalle: SH Albert-Schweitzer-Gymnasium Kamenz (34204)\nAdresse: Am Flugplatz\, 01917 Kamenz\, Parkplatz - Macherstraße 142\n
LOCATION:SH Albert-Schweitzer-Gymnasium Kamenz (34204): Am Flugplatz\, 01917 Kamenz\, Parkplatz - Macherstraße 142
CATEGORIES:Saison 2025/26
END:VEVENT
BEGIN:VEVENT
DTSTAMP:20260423T232644Z
DTSTART;TZID=Europe/Berlin:20251108T094500
DTEND;TZID=Europe/Berlin:20251108T101500
SUMMARY:Regionsliga gFJ A HVH Kamenz vs HSV 1923 Pulsnitz (14009)
UID:6018b26c-f7cd-4105-b404-e4dbc16335ee
STATUS:CONFIRMED
LAST-MODIFIED:20260126T182900Z
DESCRIPTION:Regionsliga  gFJ Staffel A\nBegegnungs-Nr: 14009\nHeim: HVH Kamenz\nGast: HSV 1923 Pulsnitz\nHalle: 2-Feld-Halle- OS Königsbrück (34513)\nAdresse: An der Schule 3\, 01936 Königsbrück\n
LOCATION:2-Feld-Halle- OS Königsbrück (34513): An der Schule 3\, 01936 Königsbrück
CATEGORIES:Saison 2025/26
END:VEVENT
BEGIN:VEVENT
DTSTAMP:20260423T232644Z
DTSTART;TZID=Europe/Berlin:20251206T100000
DTEND;TZID=Europe/Berlin:20251206T103000
SUMMARY:Regionsliga gFJ A Radeberger SV II vs HSV 1923 Pulsnitz (14002)
UID:d1d5560a-cb5e-46a7-8295-2360142b9f26
STATUS:CONFIRMED
DESCRIPTION:Regionsliga  gFJ Staffel A\nBegegnungs-Nr: 14002\nHeim: Radeberger SV II\nGast: HSV 1923 Pulsnitz\nHalle: 3-Feld-Halle-BSZ Radeberg (34209)\nAdresse: Robert-Blum-Weg 5\, 01454 Radeberg\n
LOCATION:3-Feld-Halle-BSZ Radeberg (34209): Robert-Blum-Weg 5\, 01454 Radeberg
CATEGORIES:Saison 2025/26
END:VEVENT
BEGIN:VEVENT
DTSTAMP:20260423T232644Z
DTSTART;TZID=Europe/Berlin:20260314T104000
DTEND;TZID=Europe/Berlin:20260314T111000
SUMMARY:Regionsliga gFJ A HC Rödertal  vs HSV 1923 Pulsnitz (14041)
UID:b20d3de4-df77-4a7e-9255-9a9c7440944f
STATUS:CONFIRMED
LAST-MODIFIED:20260310T131033Z
DESCRIPTION:Regionsliga  gFJ Staffel A\nBegegnungs-Nr: 14041\nHeim: HC Rödertal \nGast: HSV 1923 Pulsnitz\nHalle: 3-Feld-Halle-BSZ Radeberg (34209)\nAdresse: Robert-Blum-Weg 5\, 01454 Radeberg\n
LOCATION:3-Feld-Halle-BSZ Radeberg (34209): Robert-Blum-Weg 5\, 01454 Radeberg
CATEGORIES:Saison 2025/26
END:VEVENT
BEGIN:VEVENT
DTSTAMP:20260423T232644Z
DTSTART;TZID=Europe/Berlin:20260314T095000
DTEND;TZID=Europe/Berlin:20260314T102000
SUMMARY:Regionsliga gFJ A LHV Hoyerswerda vs HSV 1923 Pulsnitz (14040)
UID:df28c0c1-fe15-405a-9ab5-c9249e1423df
STATUS:CONFIRMED
LAST-MODIFIED:20260310T131105Z
DESCRIPTION:Regionsliga  gFJ Staffel A\nBegegnungs-Nr: 14040\nHeim: LHV Hoyerswerda\nGast: HSV 1923 Pulsnitz\nHalle: 3-Feld-Halle-BSZ Radeberg (34209)\nAdresse: Robert-Blum-Weg 5\, 01454 Radeberg\n
LOCATION:3-Feld-Halle-BSZ Radeberg (34209): Robert-Blum-Weg 5\, 01454 Radeberg
CATEGORIES:Saison 2025/26
END:VEVENT
BEGIN:VEVENT
DTSTAMP:20260423T232644Z
DTSTART;TZID=Europe/Berlin:20260201T103000
DTEND;TZID=Europe/Berlin:20260201T110000
SUMMARY:Regionsliga gFJ A Radeberger SV vs HSV 1923 Pulsnitz (14032)
UID:987f4ed4-360e-4d59-a39a-32065707c305
STATUS:CONFIRMED
DESCRIPTION:Regionsliga  gFJ Staffel A\nBegegnungs-Nr: 14032\nHeim: Radeberger SV\nGast: HSV 1923 Pulsnitz\nHalle: Sportkomplex Pulsnitz (34208)\nAdresse: Hempelstr. 8\, 01896 Pulsnitz\n
LOCATION:Sportkomplex Pulsnitz (34208): Hempelstr. 8\, 01896 Pulsnitz
CATEGORIES:Saison 2025/26
END:VEVENT
BEGIN:VEVENT
DTSTAMP:20260423T232644Z
DTSTART;TZID=Europe/Berlin:20260308T104000
DTEND;TZID=Europe/Berlin:20260308T111000
SUMMARY:Regionsliga gFJ A SV Lok Königsbrück  vs HSV 1923 Pulsnitz (14027)
UID:250210a6-4134-47f9-a44d-5a00ae282643
STATUS:CONFIRMED
LAST-MODIFIED:20260130T123716Z
DESCRIPTION:Regionsliga  gFJ Staffel A\nBegegnungs-Nr: 14027\nHeim: SV Lok Königsbrück \nGast: HSV 1923 Pulsnitz\nHalle: SH Albert-Schweitzer-Gymnasium Kamenz (34204)\nAdresse: Am Flugplatz\, 01917 Kamenz\, Parkplatz - Macherstraße 142\n
LOCATION:SH Albert-Schweitzer-Gymnasium Kamenz (34204): Am Flugplatz\, 01917 Kamenz\, Parkplatz - Macherstraße 142
CATEGORIES:Saison 2025/26
END:VEVENT
END:VCALENDAR
