BEGIN:VCALENDAR
PRODID:-//nuDatenautomaten//framework iCal4j //DE
VERSION:2.0
CALSCALE:GREGORIAN
BEGIN:VTIMEZONE
TZID:Europe/Berlin
LAST-MODIFIED:20260306T231828Z
TZURL:https://www.tzurl.org/zoneinfo/Europe/Berlin
X-LIC-LOCATION:Europe/Berlin
X-PROLEPTIC-TZNAME:LMT
BEGIN:STANDARD
TZNAME:CET
TZOFFSETFROM:+005328
TZOFFSETTO:+0100
DTSTART:18930401T000000
END:STANDARD
BEGIN:DAYLIGHT
TZNAME:CEST
TZOFFSETFROM:+0100
TZOFFSETTO:+0200
DTSTART:19160430T230000
RDATE:19400401T020000
RDATE:19430329T020000
RDATE:19460414T020000
RDATE:19470406T030000
RDATE:19480418T020000
RDATE:19490410T020000
RDATE:19800406T020000
END:DAYLIGHT
BEGIN:STANDARD
TZNAME:CET
TZOFFSETFROM:+0200
TZOFFSETTO:+0100
DTSTART:19161001T010000
RDATE:19421102T030000
RDATE:19431004T030000
RDATE:19441002T030000
RDATE:19451118T030000
RDATE:19461007T030000
END:STANDARD
BEGIN:DAYLIGHT
TZNAME:CEST
TZOFFSETFROM:+0100
TZOFFSETTO:+0200
DTSTART:19170416T020000
RRULE:FREQ=YEARLY;UNTIL=19180415T010000Z;BYMONTH=4;BYDAY=3MO
END:DAYLIGHT
BEGIN:STANDARD
TZNAME:CET
TZOFFSETFROM:+0200
TZOFFSETTO:+0100
DTSTART:19170917T030000
RRULE:FREQ=YEARLY;UNTIL=19180916T010000Z;BYMONTH=9;BYDAY=3MO
END:STANDARD
BEGIN:DAYLIGHT
TZNAME:CEST
TZOFFSETFROM:+0100
TZOFFSETTO:+0200
DTSTART:19440403T020000
RRULE:FREQ=YEARLY;UNTIL=19450402T010000Z;BYMONTH=4;BYDAY=1MO
END:DAYLIGHT
BEGIN:DAYLIGHT
TZNAME:CEMT
TZOFFSETFROM:+0200
TZOFFSETTO:+0300
DTSTART:19450524T020000
RDATE:19470511T030000
END:DAYLIGHT
BEGIN:DAYLIGHT
TZNAME:CEST
TZOFFSETFROM:+0300
TZOFFSETTO:+0200
DTSTART:19450924T030000
RDATE:19470629T030000
END:DAYLIGHT
BEGIN:STANDARD
TZNAME:CET
TZOFFSETFROM:+0100
TZOFFSETTO:+0100
DTSTART:19460101T000000
RDATE:19800101T000000
END:STANDARD
BEGIN:STANDARD
TZNAME:CET
TZOFFSETFROM:+0200
TZOFFSETTO:+0100
DTSTART:19471005T030000
RRULE:FREQ=YEARLY;UNTIL=19491002T010000Z;BYMONTH=10;BYDAY=1SU
END:STANDARD
BEGIN:STANDARD
TZNAME:CET
TZOFFSETFROM:+0200
TZOFFSETTO:+0100
DTSTART:19800928T030000
RRULE:FREQ=YEARLY;UNTIL=19950924T010000Z;BYMONTH=9;BYDAY=-1SU
END:STANDARD
BEGIN:DAYLIGHT
TZNAME:CEST
TZOFFSETFROM:+0100
TZOFFSETTO:+0200
DTSTART:19810329T020000
RRULE:FREQ=YEARLY;BYMONTH=3;BYDAY=-1SU
END:DAYLIGHT
BEGIN:STANDARD
TZNAME:CET
TZOFFSETFROM:+0200
TZOFFSETTO:+0100
DTSTART:19961027T030000
RRULE:FREQ=YEARLY;BYMONTH=10;BYDAY=-1SU
END:STANDARD
END:VTIMEZONE
BEGIN:VEVENT
DTSTAMP:20260423T070513Z
DTSTART;TZID=Europe/Berlin:20260425T114500
DTEND;TZID=Europe/Berlin:20260425T124500
SUMMARY:ROL gJE Ost Rotation Weißenborn vs Roßweiner SV (512106)
UID:ce979b11-21a5-4ef7-8f32-8117925d6510
STATUS:CONFIRMED
DESCRIPTION:Regionsoberliga gem. E-Jugend\nBegegnungs-Nr: 512106\nHeim: Rotation Weißenborn\nGast: Roßweiner SV\nHalle: SH Burgstädt - Sportzentrum am Taurastein (32206)\nAdresse: Am Stadion 22\, 09217  Burgstädt\n
LOCATION:SH Burgstädt - Sportzentrum am Taurastein (32206): Am Stadion 22\, 09217  Burgstädt
CATEGORIES:Saison 2025/26
END:VEVENT
BEGIN:VEVENT
DTSTAMP:20260423T070513Z
DTSTART;TZID=Europe/Berlin:20260328T120000
DTEND;TZID=Europe/Berlin:20260328T130000
SUMMARY:ROL gJE Ost Rotation Weißenborn vs Fortschritt Mittweida (512092)
UID:279776af-d050-4604-9dad-c83ff679a121
STATUS:CONFIRMED
DESCRIPTION:Regionsoberliga gem. E-Jugend\nBegegnungs-Nr: 512092\nHeim: Rotation Weißenborn\nGast: Fortschritt Mittweida\nHalle: SH Schoeller Weißenborn (32415)\nAdresse: Lichtenberger Straße 8\, 09600 Weißenborn\n
LOCATION:SH Schoeller Weißenborn (32415): Lichtenberger Straße 8\, 09600 Weißenborn
CATEGORIES:Saison 2025/26
END:VEVENT
BEGIN:VEVENT
DTSTAMP:20260423T070513Z
DTSTART;TZID=Europe/Berlin:20260328T100000
DTEND;TZID=Europe/Berlin:20260328T110000
SUMMARY:ROL gJE Ost Rotation Weißenborn vs VfL Waldheim 54 (512090)
UID:366f935f-b5ac-4f9c-8661-4eb978d51388
STATUS:CONFIRMED
DESCRIPTION:Regionsoberliga gem. E-Jugend\nBegegnungs-Nr: 512090\nHeim: Rotation Weißenborn\nGast: VfL Waldheim 54\nHalle: SH Schoeller Weißenborn (32415)\nAdresse: Lichtenberger Straße 8\, 09600 Weißenborn\n
LOCATION:SH Schoeller Weißenborn (32415): Lichtenberger Straße 8\, 09600 Weißenborn
CATEGORIES:Saison 2025/26
END:VEVENT
BEGIN:VEVENT
DTSTAMP:20260423T070513Z
DTSTART;TZID=Europe/Berlin:20260228T133000
DTEND;TZID=Europe/Berlin:20260228T143000
SUMMARY:ROL gJE Ost Rotation Weißenborn vs TSV Penig (512073)
UID:40ad4c9f-b6e6-4320-8544-36b068e6d424
STATUS:CONFIRMED
DESCRIPTION:Regionsoberliga gem. E-Jugend\nBegegnungs-Nr: 512073\nHeim: Rotation Weißenborn\nGast: TSV Penig\nHalle: Stadt-SH Waldheim (31204)\nAdresse: Am Schulberg 3 (Anfahrt zum Parkplatz über die Schönberger Straße)\, 04736 Waldheim\n
LOCATION:Stadt-SH Waldheim (31204): Am Schulberg 3 (Anfahrt zum Parkplatz über die Schönberger Straße)\, 04736 Waldheim
CATEGORIES:Saison 2025/26
END:VEVENT
BEGIN:VEVENT
DTSTAMP:20260423T070513Z
DTSTART;TZID=Europe/Berlin:20260110T130000
DTEND;TZID=Europe/Berlin:20260110T140000
SUMMARY:ROL gJE Ost Rotation Weißenborn vs VfB Blau-Gelb 21 Flöha (512061)
UID:f5186d26-3324-4f5f-a981-15dbae2091a1
STATUS:CONFIRMED
DESCRIPTION:Regionsoberliga gem. E-Jugend\nBegegnungs-Nr: 512061\nHeim: Rotation Weißenborn\nGast: VfB Blau-Gelb 21 Flöha\nHalle: SH an der Oberschule Penig (32213)\nAdresse: Zinnberger Str. 5a\, 09322 Penig\n
LOCATION:SH an der Oberschule Penig (32213): Zinnberger Str. 5a\, 09322 Penig
CATEGORIES:Saison 2025/26
END:VEVENT
BEGIN:VEVENT
DTSTAMP:20260423T070513Z
DTSTART;TZID=Europe/Berlin:20251207T110000
DTEND;TZID=Europe/Berlin:20251207T120000
SUMMARY:ROL gJE Ost Rotation Weißenborn vs TSV Einheit Claußnitz II (512049)
UID:18fa4a35-76d0-40c7-b08c-18e9d15fb0c9
STATUS:CONFIRMED
DESCRIPTION:Regionsoberliga gem. E-Jugend\nBegegnungs-Nr: 512049\nHeim: Rotation Weißenborn\nGast: TSV Einheit Claußnitz II\nHalle: Stadt-SH Roßwein (31203)\nAdresse: Grafestraße 1\, 04741 Roßwein\n
LOCATION:Stadt-SH Roßwein (31203): Grafestraße 1\, 04741 Roßwein
CATEGORIES:Saison 2025/26
END:VEVENT
BEGIN:VEVENT
DTSTAMP:20260423T070513Z
DTSTART;TZID=Europe/Berlin:20251122T120000
DTEND;TZID=Europe/Berlin:20251122T130000
SUMMARY:ROL gJE Ost Rotation Weißenborn vs Union Chemnitz II (512044)
UID:d4d63d49-b85c-4097-ba9a-49590784e93a
STATUS:CONFIRMED
DESCRIPTION:Regionsoberliga gem. E-Jugend\nBegegnungs-Nr: 512044\nHeim: Rotation Weißenborn\nGast: Union Chemnitz II\nHalle: SH Schoeller Weißenborn (32415)\nAdresse: Lichtenberger Straße 8\, 09600 Weißenborn\n
LOCATION:SH Schoeller Weißenborn (32415): Lichtenberger Straße 8\, 09600 Weißenborn
CATEGORIES:Saison 2025/26
END:VEVENT
BEGIN:VEVENT
DTSTAMP:20260423T070513Z
DTSTART;TZID=Europe/Berlin:20251122T100000
DTEND;TZID=Europe/Berlin:20251122T110000
SUMMARY:ROL gJE Ost Rotation Weißenborn vs Burgstädter HC (512042)
UID:276ae5e9-2f43-481f-91c1-92e9c06c6f82
STATUS:CONFIRMED
DESCRIPTION:Regionsoberliga gem. E-Jugend\nBegegnungs-Nr: 512042\nHeim: Rotation Weißenborn\nGast: Burgstädter HC\nHalle: SH Schoeller Weißenborn (32415)\nAdresse: Lichtenberger Straße 8\, 09600 Weißenborn\n
LOCATION:SH Schoeller Weißenborn (32415): Lichtenberger Straße 8\, 09600 Weißenborn
CATEGORIES:Saison 2025/26
END:VEVENT
BEGIN:VEVENT
DTSTAMP:20260423T070513Z
DTSTART;TZID=Europe/Berlin:20250920T140000
DTEND;TZID=Europe/Berlin:20250920T150000
SUMMARY:ROL gJE Ost Rotation Weißenborn vs Geringswalder HV (512012)
UID:5cf09bfa-be19-4622-9d9d-6362727616dd
STATUS:CONFIRMED
LAST-MODIFIED:20251108T081609Z
DESCRIPTION:Regionsoberliga gem. E-Jugend\nBegegnungs-Nr: 512012\nHeim: Rotation Weißenborn\nGast: Geringswalder HV\nHalle: SH Schoeller Weißenborn (32415)\nAdresse: Lichtenberger Straße 8\, 09600 Weißenborn\n
LOCATION:SH Schoeller Weißenborn (32415): Lichtenberger Straße 8\, 09600 Weißenborn
CATEGORIES:Saison 2025/26
END:VEVENT
BEGIN:VEVENT
DTSTAMP:20260423T070513Z
DTSTART;TZID=Europe/Berlin:20250920T120000
DTEND;TZID=Europe/Berlin:20250920T130000
SUMMARY:ROL gJE Ost Rotation Weißenborn vs TSV Einheit Claußnitz (512010)
UID:1f185304-0738-4104-828b-8224bcbaeab6
STATUS:CONFIRMED
LAST-MODIFIED:20251108T081328Z
DESCRIPTION:Regionsoberliga gem. E-Jugend\nBegegnungs-Nr: 512010\nHeim: Rotation Weißenborn\nGast: TSV Einheit Claußnitz\nHalle: SH Schoeller Weißenborn (32415)\nAdresse: Lichtenberger Straße 8\, 09600 Weißenborn\n
LOCATION:SH Schoeller Weißenborn (32415): Lichtenberger Straße 8\, 09600 Weißenborn
CATEGORIES:Saison 2025/26
END:VEVENT
BEGIN:VEVENT
DTSTAMP:20260423T070513Z
DTSTART;TZID=Europe/Berlin:20260425T124500
DTEND;TZID=Europe/Berlin:20260425T134500
SUMMARY:ROL gJE Ost Burgstädter HC vs Rotation Weißenborn (512107)
UID:6e66207a-f575-4a91-9263-c1b6160494c0
STATUS:CONFIRMED
DESCRIPTION:Regionsoberliga gem. E-Jugend\nBegegnungs-Nr: 512107\nHeim: Burgstädter HC\nGast: Rotation Weißenborn\nHalle: SH Burgstädt - Sportzentrum am Taurastein (32206)\nAdresse: Am Stadion 22\, 09217  Burgstädt\n
LOCATION:SH Burgstädt - Sportzentrum am Taurastein (32206): Am Stadion 22\, 09217  Burgstädt
CATEGORIES:Saison 2025/26
END:VEVENT
BEGIN:VEVENT
DTSTAMP:20260423T070513Z
DTSTART;TZID=Europe/Berlin:20260307T140000
DTEND;TZID=Europe/Berlin:20260307T150000
SUMMARY:ROL gJE Ost Union Chemnitz II vs Rotation Weißenborn (512083)
UID:7ebe060d-d1b4-4d19-a61a-873a60fd99a9
STATUS:CONFIRMED
DESCRIPTION:Regionsoberliga gem. E-Jugend\nBegegnungs-Nr: 512083\nHeim: Union Chemnitz II\nGast: Rotation Weißenborn\nHalle: SH Jakobstraße (32116)\nAdresse: Jakobstraße 20\, 09130 Chemnitz\n
LOCATION:SH Jakobstraße (32116): Jakobstraße 20\, 09130 Chemnitz
CATEGORIES:Saison 2025/26
END:VEVENT
BEGIN:VEVENT
DTSTAMP:20260423T070513Z
DTSTART;TZID=Europe/Berlin:20260307T130000
DTEND;TZID=Europe/Berlin:20260307T140000
SUMMARY:ROL gJE Ost Fortschritt Mittweida vs Rotation Weißenborn (512082)
UID:d8c397c9-abfd-4d7d-ab5b-a3e230d51bbe
STATUS:CONFIRMED
DESCRIPTION:Regionsoberliga gem. E-Jugend\nBegegnungs-Nr: 512082\nHeim: Fortschritt Mittweida\nGast: Rotation Weißenborn\nHalle: SH Jakobstraße (32116)\nAdresse: Jakobstraße 20\, 09130 Chemnitz\n
LOCATION:SH Jakobstraße (32116): Jakobstraße 20\, 09130 Chemnitz
CATEGORIES:Saison 2025/26
END:VEVENT
BEGIN:VEVENT
DTSTAMP:20260423T070513Z
DTSTART;TZID=Europe/Berlin:20260228T123000
DTEND;TZID=Europe/Berlin:20260228T133000
SUMMARY:ROL gJE Ost VfL Waldheim 54 vs Rotation Weißenborn (512072)
UID:195afa91-f5cb-4648-9d28-5365afeac1a1
STATUS:CONFIRMED
DESCRIPTION:Regionsoberliga gem. E-Jugend\nBegegnungs-Nr: 512072\nHeim: VfL Waldheim 54\nGast: Rotation Weißenborn\nHalle: Stadt-SH Waldheim (31204)\nAdresse: Am Schulberg 3 (Anfahrt zum Parkplatz über die Schönberger Straße)\, 04736 Waldheim\n
LOCATION:Stadt-SH Waldheim (31204): Am Schulberg 3 (Anfahrt zum Parkplatz über die Schönberger Straße)\, 04736 Waldheim
CATEGORIES:Saison 2025/26
END:VEVENT
BEGIN:VEVENT
DTSTAMP:20260423T070513Z
DTSTART;TZID=Europe/Berlin:20260208T120000
DTEND;TZID=Europe/Berlin:20260208T130000
SUMMARY:ROL gJE Ost TSV Einheit Claußnitz II vs Rotation Weißenborn (512071)
UID:d5d6837b-007d-4ac6-a607-cb4a7c3c422e
STATUS:CONFIRMED
DESCRIPTION:Regionsoberliga gem. E-Jugend\nBegegnungs-Nr: 512071\nHeim: TSV Einheit Claußnitz II\nGast: Rotation Weißenborn\nHalle: Zweifeldhalle Claußnitz (32218)\nAdresse: Daniel-Gottlob-Türk-Str. 3\, 09236 Claußnitz\n
LOCATION:Zweifeldhalle Claußnitz (32218): Daniel-Gottlob-Türk-Str. 3\, 09236 Claußnitz
CATEGORIES:Saison 2025/26
END:VEVENT
BEGIN:VEVENT
DTSTAMP:20260423T070513Z
DTSTART;TZID=Europe/Berlin:20260208T110000
DTEND;TZID=Europe/Berlin:20260208T120000
SUMMARY:ROL gJE Ost VfB Blau-Gelb 21 Flöha vs Rotation Weißenborn (512070)
UID:05791342-362f-419c-af1a-88bdad50d634
STATUS:CONFIRMED
DESCRIPTION:Regionsoberliga gem. E-Jugend\nBegegnungs-Nr: 512070\nHeim: VfB Blau-Gelb 21 Flöha\nGast: Rotation Weißenborn\nHalle: Zweifeldhalle Claußnitz (32218)\nAdresse: Daniel-Gottlob-Türk-Str. 3\, 09236 Claußnitz\n
LOCATION:Zweifeldhalle Claußnitz (32218): Daniel-Gottlob-Türk-Str. 3\, 09236 Claußnitz
CATEGORIES:Saison 2025/26
END:VEVENT
BEGIN:VEVENT
DTSTAMP:20260423T070513Z
DTSTART;TZID=Europe/Berlin:20260110T140000
DTEND;TZID=Europe/Berlin:20260110T150000
SUMMARY:ROL gJE Ost TSV Penig vs Rotation Weißenborn (512062)
UID:203624ab-b9d5-4a73-ab40-b1f70151e006
STATUS:CONFIRMED
DESCRIPTION:Regionsoberliga gem. E-Jugend\nBegegnungs-Nr: 512062\nHeim: TSV Penig\nGast: Rotation Weißenborn\nHalle: SH an der Oberschule Penig (32213)\nAdresse: Zinnberger Str. 5a\, 09322 Penig\n
LOCATION:SH an der Oberschule Penig (32213): Zinnberger Str. 5a\, 09322 Penig
CATEGORIES:Saison 2025/26
END:VEVENT
BEGIN:VEVENT
DTSTAMP:20260423T070513Z
DTSTART;TZID=Europe/Berlin:20251207T120000
DTEND;TZID=Europe/Berlin:20251207T130000
SUMMARY:ROL gJE Ost Roßweiner SV vs Rotation Weißenborn (512050)
UID:c638edfe-2b84-405d-93a4-974e1bbff4fd
STATUS:CONFIRMED
DESCRIPTION:Regionsoberliga gem. E-Jugend\nBegegnungs-Nr: 512050\nHeim: Roßweiner SV\nGast: Rotation Weißenborn\nHalle: Stadt-SH Roßwein (31203)\nAdresse: Grafestraße 1\, 04741 Roßwein\n
LOCATION:Stadt-SH Roßwein (31203): Grafestraße 1\, 04741 Roßwein
CATEGORIES:Saison 2025/26
END:VEVENT
BEGIN:VEVENT
DTSTAMP:20260423T070513Z
DTSTART;TZID=Europe/Berlin:20251108T120000
DTEND;TZID=Europe/Berlin:20251108T130000
SUMMARY:ROL gJE Ost TSV Einheit Claußnitz vs Rotation Weißenborn (512030)
UID:c8d91d28-16c6-4bc6-837f-b72600fb8b31
STATUS:CONFIRMED
DESCRIPTION:Regionsoberliga gem. E-Jugend\nBegegnungs-Nr: 512030\nHeim: TSV Einheit Claußnitz\nGast: Rotation Weißenborn\nHalle: Zweifeldhalle Claußnitz (32218)\nAdresse: Daniel-Gottlob-Türk-Str. 3\, 09236 Claußnitz\n
LOCATION:Zweifeldhalle Claußnitz (32218): Daniel-Gottlob-Türk-Str. 3\, 09236 Claußnitz
CATEGORIES:Saison 2025/26
END:VEVENT
BEGIN:VEVENT
DTSTAMP:20260423T070513Z
DTSTART;TZID=Europe/Berlin:20251108T110000
DTEND;TZID=Europe/Berlin:20251108T120000
SUMMARY:ROL gJE Ost Geringswalder HV vs Rotation Weißenborn (512029)
UID:ba0a3dc4-7b22-4172-a501-381611214c31
STATUS:CONFIRMED
DESCRIPTION:Regionsoberliga gem. E-Jugend\nBegegnungs-Nr: 512029\nHeim: Geringswalder HV\nGast: Rotation Weißenborn\nHalle: Zweifeldhalle Claußnitz (32218)\nAdresse: Daniel-Gottlob-Türk-Str. 3\, 09236 Claußnitz\n
LOCATION:Zweifeldhalle Claußnitz (32218): Daniel-Gottlob-Türk-Str. 3\, 09236 Claußnitz
CATEGORIES:Saison 2025/26
END:VEVENT
END:VCALENDAR
