BEGIN:VCALENDAR
PRODID:-//nuDatenautomaten//framework iCal4j //DE
VERSION:2.0
CALSCALE:GREGORIAN
BEGIN:VTIMEZONE
TZID:Europe/Berlin
LAST-MODIFIED:20260306T231828Z
TZURL:https://www.tzurl.org/zoneinfo/Europe/Berlin
X-LIC-LOCATION:Europe/Berlin
X-PROLEPTIC-TZNAME:LMT
BEGIN:STANDARD
TZNAME:CET
TZOFFSETFROM:+005328
TZOFFSETTO:+0100
DTSTART:18930401T000000
END:STANDARD
BEGIN:DAYLIGHT
TZNAME:CEST
TZOFFSETFROM:+0100
TZOFFSETTO:+0200
DTSTART:19160430T230000
RDATE:19400401T020000
RDATE:19430329T020000
RDATE:19460414T020000
RDATE:19470406T030000
RDATE:19480418T020000
RDATE:19490410T020000
RDATE:19800406T020000
END:DAYLIGHT
BEGIN:STANDARD
TZNAME:CET
TZOFFSETFROM:+0200
TZOFFSETTO:+0100
DTSTART:19161001T010000
RDATE:19421102T030000
RDATE:19431004T030000
RDATE:19441002T030000
RDATE:19451118T030000
RDATE:19461007T030000
END:STANDARD
BEGIN:DAYLIGHT
TZNAME:CEST
TZOFFSETFROM:+0100
TZOFFSETTO:+0200
DTSTART:19170416T020000
RRULE:FREQ=YEARLY;UNTIL=19180415T010000Z;BYMONTH=4;BYDAY=3MO
END:DAYLIGHT
BEGIN:STANDARD
TZNAME:CET
TZOFFSETFROM:+0200
TZOFFSETTO:+0100
DTSTART:19170917T030000
RRULE:FREQ=YEARLY;UNTIL=19180916T010000Z;BYMONTH=9;BYDAY=3MO
END:STANDARD
BEGIN:DAYLIGHT
TZNAME:CEST
TZOFFSETFROM:+0100
TZOFFSETTO:+0200
DTSTART:19440403T020000
RRULE:FREQ=YEARLY;UNTIL=19450402T010000Z;BYMONTH=4;BYDAY=1MO
END:DAYLIGHT
BEGIN:DAYLIGHT
TZNAME:CEMT
TZOFFSETFROM:+0200
TZOFFSETTO:+0300
DTSTART:19450524T020000
RDATE:19470511T030000
END:DAYLIGHT
BEGIN:DAYLIGHT
TZNAME:CEST
TZOFFSETFROM:+0300
TZOFFSETTO:+0200
DTSTART:19450924T030000
RDATE:19470629T030000
END:DAYLIGHT
BEGIN:STANDARD
TZNAME:CET
TZOFFSETFROM:+0100
TZOFFSETTO:+0100
DTSTART:19460101T000000
RDATE:19800101T000000
END:STANDARD
BEGIN:STANDARD
TZNAME:CET
TZOFFSETFROM:+0200
TZOFFSETTO:+0100
DTSTART:19471005T030000
RRULE:FREQ=YEARLY;UNTIL=19491002T010000Z;BYMONTH=10;BYDAY=1SU
END:STANDARD
BEGIN:STANDARD
TZNAME:CET
TZOFFSETFROM:+0200
TZOFFSETTO:+0100
DTSTART:19800928T030000
RRULE:FREQ=YEARLY;UNTIL=19950924T010000Z;BYMONTH=9;BYDAY=-1SU
END:STANDARD
BEGIN:DAYLIGHT
TZNAME:CEST
TZOFFSETFROM:+0100
TZOFFSETTO:+0200
DTSTART:19810329T020000
RRULE:FREQ=YEARLY;BYMONTH=3;BYDAY=-1SU
END:DAYLIGHT
BEGIN:STANDARD
TZNAME:CET
TZOFFSETFROM:+0200
TZOFFSETTO:+0100
DTSTART:19961027T030000
RRULE:FREQ=YEARLY;BYMONTH=10;BYDAY=-1SU
END:STANDARD
END:VTIMEZONE
BEGIN:VEVENT
DTSTAMP:20260423T181417Z
DTSTART;TZID=Europe/Berlin:20251025T113000
DTEND;TZID=Europe/Berlin:20251025T123000
SUMMARY:Regionsoberliga mJE - 2 NHV Concordia Delitzsch vs Turbine Leipzig (19208)
UID:b1eaad90-bcd8-458e-a485-8607934f8742
STATUS:CONFIRMED
LAST-MODIFIED:20251104T214744Z
DESCRIPTION:Regionsoberliga männliche E-Jugend (2)\nBegegnungs-Nr: 19208\nHeim: NHV Concordia Delitzsch\nGast: Turbine Leipzig\nHalle: Mehrzweckhalle Delitzsch  (31304)\nAdresse: Karl-Marx-Str. 1\, 04509 Delitzsch\n
LOCATION:Mehrzweckhalle Delitzsch  (31304): Karl-Marx-Str. 1\, 04509 Delitzsch
CATEGORIES:Saison 2025/26
END:VEVENT
BEGIN:VEVENT
DTSTAMP:20260423T181417Z
DTSTART;TZID=Europe/Berlin:20251129T113000
DTEND;TZID=Europe/Berlin:20251129T123000
SUMMARY:Regionsoberliga mJE - 2 NHV Concordia Delitzsch vs NSG Neuseenland II (19214)
UID:8bd664b9-5153-4771-9897-cc668059269d
STATUS:CONFIRMED
LAST-MODIFIED:20251202T185119Z
DESCRIPTION:Regionsoberliga männliche E-Jugend (2)\nBegegnungs-Nr: 19214\nHeim: NHV Concordia Delitzsch\nGast: NSG Neuseenland II\nHalle: Mehrzweckhalle Delitzsch  (31304)\nAdresse: Karl-Marx-Str. 1\, 04509 Delitzsch\n
LOCATION:Mehrzweckhalle Delitzsch  (31304): Karl-Marx-Str. 1\, 04509 Delitzsch
CATEGORIES:Saison 2025/26
END:VEVENT
BEGIN:VEVENT
DTSTAMP:20260423T181417Z
DTSTART;TZID=Europe/Berlin:20251123T120000
DTEND;TZID=Europe/Berlin:20251123T130000
SUMMARY:Regionsoberliga mJE - 2 NHV Concordia Delitzsch vs SG LVB (19203)
UID:a4154a3a-7b42-4a24-8b81-5df6e4473d98
STATUS:CONFIRMED
LAST-MODIFIED:20251202T185042Z
DESCRIPTION:Regionsoberliga männliche E-Jugend (2)\nBegegnungs-Nr: 19203\nHeim: NHV Concordia Delitzsch\nGast: SG LVB\nHalle: Mehrzweckhalle Delitzsch  (31304)\nAdresse: Karl-Marx-Str. 1\, 04509 Delitzsch\n
LOCATION:Mehrzweckhalle Delitzsch  (31304): Karl-Marx-Str. 1\, 04509 Delitzsch
CATEGORIES:Saison 2025/26
END:VEVENT
BEGIN:VEVENT
DTSTAMP:20260423T181417Z
DTSTART;TZID=Europe/Berlin:20260322T090000
DTEND;TZID=Europe/Berlin:20260322T100000
SUMMARY:ROL - mJE 9-16 NHV Concordia Delitzsch vs HV Böhlen (19627)
UID:0ba26375-8eb3-4409-a9be-99b2490503ab
STATUS:CONFIRMED
LAST-MODIFIED:20260322T204157Z
DESCRIPTION:Regionsoberliga männliche E-Jugend (9-16)\nBegegnungs-Nr: 19627\nHeim: NHV Concordia Delitzsch\nGast: HV Böhlen\nHalle: Mehrzweckhalle Delitzsch  (31304)\nAdresse: Karl-Marx-Str. 1\, 04509 Delitzsch\n
LOCATION:Mehrzweckhalle Delitzsch  (31304): Karl-Marx-Str. 1\, 04509 Delitzsch
CATEGORIES:Saison 2025/26
END:VEVENT
BEGIN:VEVENT
DTSTAMP:20260423T181417Z
DTSTART;TZID=Europe/Berlin:20260201T103000
DTEND;TZID=Europe/Berlin:20260201T113000
SUMMARY:ROL - mJE 9-16 NHV Concordia Delitzsch vs VfB Torgau (19613)
UID:e2fe7f1f-3f27-468e-b9cd-ca060d9db3a5
STATUS:CONFIRMED
LAST-MODIFIED:20260201T191921Z
DESCRIPTION:Regionsoberliga männliche E-Jugend (9-16)\nBegegnungs-Nr: 19613\nHeim: NHV Concordia Delitzsch\nGast: VfB Torgau\nHalle: Mehrzweckhalle Delitzsch  (31304)\nAdresse: Karl-Marx-Str. 1\, 04509 Delitzsch\n
LOCATION:Mehrzweckhalle Delitzsch  (31304): Karl-Marx-Str. 1\, 04509 Delitzsch
CATEGORIES:Saison 2025/26
END:VEVENT
BEGIN:VEVENT
DTSTAMP:20260423T181417Z
DTSTART;TZID=Europe/Berlin:20260117T100000
DTEND;TZID=Europe/Berlin:20260117T110000
SUMMARY:ROL - mJE 9-16 NHV Concordia Delitzsch vs TSG Schkeuditz (19605)
UID:7b0427aa-4089-42c0-bf2e-7f2ba1c51775
STATUS:CONFIRMED
LAST-MODIFIED:20260117T175942Z
DESCRIPTION:Regionsoberliga männliche E-Jugend (9-16)\nBegegnungs-Nr: 19605\nHeim: NHV Concordia Delitzsch\nGast: TSG Schkeuditz\nHalle: Mehrzweckhalle Delitzsch  (31304)\nAdresse: Karl-Marx-Str. 1\, 04509 Delitzsch\n
LOCATION:Mehrzweckhalle Delitzsch  (31304): Karl-Marx-Str. 1\, 04509 Delitzsch
CATEGORIES:Saison 2025/26
END:VEVENT
BEGIN:VEVENT
DTSTAMP:20260423T181417Z
DTSTART;TZID=Europe/Berlin:20260418T123000
DTEND;TZID=Europe/Berlin:20260418T133000
SUMMARY:RP_3 NHV Concordia Delitzsch vs TuS Leipzig-Mockau (4)
UID:9d1d8867-6272-4339-9cce-4a1d0dc284a7
STATUS:CONFIRMED
LAST-MODIFIED:20260416T144500Z
DESCRIPTION:Regionspokal mJE der Staffeldritten\nBegegnungs-Nr: 4\nHeim: NHV Concordia Delitzsch\nGast: TuS Leipzig-Mockau\nHalle: Sporthalle Marie-Curie-Gymnasium Wiederitzsch (31137)\nAdresse: Messeallee 19\, 04158 Leipzig (OT Wiederitzsch)\n
LOCATION:Sporthalle Marie-Curie-Gymnasium Wiederitzsch (31137): Messeallee 19\, 04158 Leipzig (OT Wiederitzsch)
CATEGORIES:Saison 2025/26
END:VEVENT
BEGIN:VEVENT
DTSTAMP:20260423T181417Z
DTSTART;TZID=Europe/Berlin:20260426T114500
DTEND;TZID=Europe/Berlin:20260426T124500
SUMMARY:RP_3 NHV Concordia Delitzsch vs Leipziger SV Südwest (7)
UID:00ed50ae-b16f-471a-b72a-a2e5d3056ee5
STATUS:CONFIRMED
DESCRIPTION:Regionspokal mJE der Staffeldritten\nBegegnungs-Nr: 7\nHeim: NHV Concordia Delitzsch\nGast: Leipziger SV Südwest\nHalle: SH An der Radrennbahn Leipzig (31128)\nAdresse: Windorfer Straße 63\, 04229 Leipzig\n
LOCATION:SH An der Radrennbahn Leipzig (31128): Windorfer Straße 63\, 04229 Leipzig
CATEGORIES:Saison 2025/26
END:VEVENT
BEGIN:VEVENT
DTSTAMP:20260423T181417Z
DTSTART;TZID=Europe/Berlin:20260426T104500
DTEND;TZID=Europe/Berlin:20260426T114500
SUMMARY:RP_3 NHV Concordia Delitzsch vs TSG Schkeuditz (6)
UID:ffa6b7f8-98ac-4c70-b0f9-fb849a1a44e5
STATUS:CONFIRMED
DESCRIPTION:Regionspokal mJE der Staffeldritten\nBegegnungs-Nr: 6\nHeim: NHV Concordia Delitzsch\nGast: TSG Schkeuditz\nHalle: SH An der Radrennbahn Leipzig (31128)\nAdresse: Windorfer Straße 63\, 04229 Leipzig\n
LOCATION:SH An der Radrennbahn Leipzig (31128): Windorfer Straße 63\, 04229 Leipzig
CATEGORIES:Saison 2025/26
END:VEVENT
BEGIN:VEVENT
DTSTAMP:20260423T181417Z
DTSTART;TZID=Europe/Berlin:20250921T113000
DTEND;TZID=Europe/Berlin:20250921T123000
SUMMARY:Regionsoberliga mJE - 2 TSV Markkleeberg vs NHV Concordia Delitzsch (19206)
UID:41bc70e6-41b4-4369-843a-e5031484fbd5
STATUS:CONFIRMED
LAST-MODIFIED:20250921T171717Z
DESCRIPTION:Regionsoberliga männliche E-Jugend (2)\nBegegnungs-Nr: 19206\nHeim: TSV Markkleeberg\nGast: NHV Concordia Delitzsch\nHalle: Peter-Pohlmann-Sportzentrum (31123)\nAdresse: Mehringstraße 6\, 04416 Markkleeberg\n
LOCATION:Peter-Pohlmann-Sportzentrum (31123): Mehringstraße 6\, 04416 Markkleeberg
CATEGORIES:Saison 2025/26
END:VEVENT
BEGIN:VEVENT
DTSTAMP:20260423T181417Z
DTSTART;TZID=Europe/Berlin:20251101T100000
DTEND;TZID=Europe/Berlin:20251101T110000
SUMMARY:Regionsoberliga mJE - 2 HV Böhlen vs NHV Concordia Delitzsch (19209)
UID:6a882c6d-f1fd-4ef9-9b85-6f04fa03123e
STATUS:CONFIRMED
LAST-MODIFIED:20251104T103541Z
DESCRIPTION:Regionsoberliga männliche E-Jugend (2)\nBegegnungs-Nr: 19209\nHeim: HV Böhlen\nGast: NHV Concordia Delitzsch\nHalle: SH Oberschule Böhlen (31411)\nAdresse: Lessingstraße 1\, 04564 Böhlen\n
LOCATION:SH Oberschule Böhlen (31411): Lessingstraße 1\, 04564 Böhlen
CATEGORIES:Saison 2025/26
END:VEVENT
BEGIN:VEVENT
DTSTAMP:20260423T181417Z
DTSTART;TZID=Europe/Berlin:20260503T123000
DTEND;TZID=Europe/Berlin:20260503T133000
SUMMARY:RP_3 TSG Schkeuditz vs NHV Concordia Delitzsch (12)
UID:d71388e6-e406-452d-a368-41844ef31040
STATUS:CONFIRMED
DESCRIPTION:Regionspokal mJE der Staffeldritten\nBegegnungs-Nr: 12\nHeim: TSG Schkeuditz\nGast: NHV Concordia Delitzsch\nHalle: SH Schkeuditz (31403)\nAdresse: Goethestr. 8a\, 04435 Schkeuditz\n
LOCATION:SH Schkeuditz (31403): Goethestr. 8a\, 04435 Schkeuditz
CATEGORIES:Saison 2025/26
END:VEVENT
BEGIN:VEVENT
DTSTAMP:20260423T181417Z
DTSTART;TZID=Europe/Berlin:20260503T104500
DTEND;TZID=Europe/Berlin:20260503T114500
SUMMARY:RP_3 TuS Leipzig-Mockau vs NHV Concordia Delitzsch (10)
UID:ea882e88-58e7-4bda-a262-f9531be4e3d1
STATUS:CONFIRMED
DESCRIPTION:Regionspokal mJE der Staffeldritten\nBegegnungs-Nr: 10\nHeim: TuS Leipzig-Mockau\nGast: NHV Concordia Delitzsch\nHalle: SH Schkeuditz (31403)\nAdresse: Goethestr. 8a\, 04435 Schkeuditz\n
LOCATION:SH Schkeuditz (31403): Goethestr. 8a\, 04435 Schkeuditz
CATEGORIES:Saison 2025/26
END:VEVENT
BEGIN:VEVENT
DTSTAMP:20260423T181417Z
DTSTART;TZID=Europe/Berlin:20260301T104000
DTEND;TZID=Europe/Berlin:20260301T114000
SUMMARY:ROL - mJE 9-16 HSG Neudorf/Döbeln vs NHV Concordia Delitzsch (19620)
UID:5d382828-d651-473a-91f7-a4499825ebd1
STATUS:CONFIRMED
LAST-MODIFIED:20260330T142520Z
DESCRIPTION:Regionsoberliga männliche E-Jugend (9-16)\nBegegnungs-Nr: 19620\nHeim: HSG Neudorf/Döbeln\nGast: NHV Concordia Delitzsch\nHalle: Stadt-SH Döbeln (31202)\nAdresse: Str. des Friedens 9\, 04720 Döbeln\n
LOCATION:Stadt-SH Döbeln (31202): Str. des Friedens 9\, 04720 Döbeln
CATEGORIES:Saison 2025/26
END:VEVENT
BEGIN:VEVENT
DTSTAMP:20260423T181417Z
DTSTART;TZID=Europe/Berlin:20260111T100000
DTEND;TZID=Europe/Berlin:20260111T110000
SUMMARY:ROL - mJE 9-16 Leipziger SV Südwest vs NHV Concordia Delitzsch (19601)
UID:75137ffd-9f70-4f5c-89ba-d2784954ef6d
STATUS:CONFIRMED
LAST-MODIFIED:20260111T175439Z
DESCRIPTION:Regionsoberliga männliche E-Jugend (9-16)\nBegegnungs-Nr: 19601\nHeim: Leipziger SV Südwest\nGast: NHV Concordia Delitzsch\nHalle: SH am Grünen Gleis (31134)\nAdresse: Baumannstraße 13\, 04229 Leipzig\n
LOCATION:SH am Grünen Gleis (31134): Baumannstraße 13\, 04229 Leipzig
CATEGORIES:Saison 2025/26
END:VEVENT
BEGIN:VEVENT
DTSTAMP:20260423T181417Z
DTSTART;TZID=Europe/Berlin:20260418T100000
DTEND;TZID=Europe/Berlin:20260418T110000
SUMMARY:RP_3 Leipziger SV Südwest vs NHV Concordia Delitzsch (1)
UID:ef5ef5b1-905d-4513-8932-e9bc6695293c
STATUS:CONFIRMED
LAST-MODIFIED:20260416T144312Z
DESCRIPTION:Regionspokal mJE der Staffeldritten\nBegegnungs-Nr: 1\nHeim: Leipziger SV Südwest\nGast: NHV Concordia Delitzsch\nHalle: Sporthalle Marie-Curie-Gymnasium Wiederitzsch (31137)\nAdresse: Messeallee 19\, 04158 Leipzig (OT Wiederitzsch)\n
LOCATION:Sporthalle Marie-Curie-Gymnasium Wiederitzsch (31137): Messeallee 19\, 04158 Leipzig (OT Wiederitzsch)
CATEGORIES:Saison 2025/26
END:VEVENT
BEGIN:VEVENT
DTSTAMP:20260423T181417Z
DTSTART;TZID=Europe/Berlin:20260125T144000
DTEND;TZID=Europe/Berlin:20260125T154000
SUMMARY:ROL - mJE 9-16 TSG 1861 Taucha vs NHV Concordia Delitzsch (19611)
UID:67d3e076-5a1e-4c1c-92b3-c897d86f234d
STATUS:CONFIRMED
LAST-MODIFIED:20260125T184816Z
DESCRIPTION:Regionsoberliga männliche E-Jugend (9-16)\nBegegnungs-Nr: 19611\nHeim: TSG 1861 Taucha\nGast: NHV Concordia Delitzsch\nHalle: Mehrzweckhalle Taucha (31112)\nAdresse: Geschwister-Scholl-Str. 6\, 04425 Taucha\n
LOCATION:Mehrzweckhalle Taucha (31112): Geschwister-Scholl-Str. 6\, 04425 Taucha
CATEGORIES:Saison 2025/26
END:VEVENT
BEGIN:VEVENT
DTSTAMP:20260423T181417Z
DTSTART;TZID=Europe/Berlin:20260307T104500
DTEND;TZID=Europe/Berlin:20260307T114500
SUMMARY:ROL - mJE 9-16 TuS Leipzig-Mockau vs NHV Concordia Delitzsch (19621)
UID:ed50c6dc-b866-4ccb-b9ed-74bcd80738c2
STATUS:CONFIRMED
LAST-MODIFIED:20260310T192130Z
DESCRIPTION:Regionsoberliga männliche E-Jugend (9-16)\nBegegnungs-Nr: 19621\nHeim: TuS Leipzig-Mockau\nGast: NHV Concordia Delitzsch\nHalle: Sporthalle Marie-Curie-Gymnasium Wiederitzsch (31137)\nAdresse: Messeallee 19\, 04158 Leipzig (OT Wiederitzsch)\n
LOCATION:Sporthalle Marie-Curie-Gymnasium Wiederitzsch (31137): Messeallee 19\, 04158 Leipzig (OT Wiederitzsch)
CATEGORIES:Saison 2025/26
END:VEVENT
END:VCALENDAR
