BEGIN:VCALENDAR
PRODID:-//nuDatenautomaten//framework iCal4j //DE
VERSION:2.0
CALSCALE:GREGORIAN
BEGIN:VTIMEZONE
TZID:Europe/Berlin
LAST-MODIFIED:20260306T231828Z
TZURL:https://www.tzurl.org/zoneinfo/Europe/Berlin
X-LIC-LOCATION:Europe/Berlin
X-PROLEPTIC-TZNAME:LMT
BEGIN:STANDARD
TZNAME:CET
TZOFFSETFROM:+005328
TZOFFSETTO:+0100
DTSTART:18930401T000000
END:STANDARD
BEGIN:DAYLIGHT
TZNAME:CEST
TZOFFSETFROM:+0100
TZOFFSETTO:+0200
DTSTART:19160430T230000
RDATE:19400401T020000
RDATE:19430329T020000
RDATE:19460414T020000
RDATE:19470406T030000
RDATE:19480418T020000
RDATE:19490410T020000
RDATE:19800406T020000
END:DAYLIGHT
BEGIN:STANDARD
TZNAME:CET
TZOFFSETFROM:+0200
TZOFFSETTO:+0100
DTSTART:19161001T010000
RDATE:19421102T030000
RDATE:19431004T030000
RDATE:19441002T030000
RDATE:19451118T030000
RDATE:19461007T030000
END:STANDARD
BEGIN:DAYLIGHT
TZNAME:CEST
TZOFFSETFROM:+0100
TZOFFSETTO:+0200
DTSTART:19170416T020000
RRULE:FREQ=YEARLY;UNTIL=19180415T010000Z;BYMONTH=4;BYDAY=3MO
END:DAYLIGHT
BEGIN:STANDARD
TZNAME:CET
TZOFFSETFROM:+0200
TZOFFSETTO:+0100
DTSTART:19170917T030000
RRULE:FREQ=YEARLY;UNTIL=19180916T010000Z;BYMONTH=9;BYDAY=3MO
END:STANDARD
BEGIN:DAYLIGHT
TZNAME:CEST
TZOFFSETFROM:+0100
TZOFFSETTO:+0200
DTSTART:19440403T020000
RRULE:FREQ=YEARLY;UNTIL=19450402T010000Z;BYMONTH=4;BYDAY=1MO
END:DAYLIGHT
BEGIN:DAYLIGHT
TZNAME:CEMT
TZOFFSETFROM:+0200
TZOFFSETTO:+0300
DTSTART:19450524T020000
RDATE:19470511T030000
END:DAYLIGHT
BEGIN:DAYLIGHT
TZNAME:CEST
TZOFFSETFROM:+0300
TZOFFSETTO:+0200
DTSTART:19450924T030000
RDATE:19470629T030000
END:DAYLIGHT
BEGIN:STANDARD
TZNAME:CET
TZOFFSETFROM:+0100
TZOFFSETTO:+0100
DTSTART:19460101T000000
RDATE:19800101T000000
END:STANDARD
BEGIN:STANDARD
TZNAME:CET
TZOFFSETFROM:+0200
TZOFFSETTO:+0100
DTSTART:19471005T030000
RRULE:FREQ=YEARLY;UNTIL=19491002T010000Z;BYMONTH=10;BYDAY=1SU
END:STANDARD
BEGIN:STANDARD
TZNAME:CET
TZOFFSETFROM:+0200
TZOFFSETTO:+0100
DTSTART:19800928T030000
RRULE:FREQ=YEARLY;UNTIL=19950924T010000Z;BYMONTH=9;BYDAY=-1SU
END:STANDARD
BEGIN:DAYLIGHT
TZNAME:CEST
TZOFFSETFROM:+0100
TZOFFSETTO:+0200
DTSTART:19810329T020000
RRULE:FREQ=YEARLY;BYMONTH=3;BYDAY=-1SU
END:DAYLIGHT
BEGIN:STANDARD
TZNAME:CET
TZOFFSETFROM:+0200
TZOFFSETTO:+0100
DTSTART:19961027T030000
RRULE:FREQ=YEARLY;BYMONTH=10;BYDAY=-1SU
END:STANDARD
END:VTIMEZONE
BEGIN:VEVENT
DTSTAMP:20260423T232220Z
DTSTART;TZID=Europe/Berlin:20251101T100000
DTEND;TZID=Europe/Berlin:20251101T110000
SUMMARY:Regionalliga Sachsen West HC Leipzig vs BSV Sa. Zwickau II (23026)
UID:77e6e70f-4434-4fe1-a9ff-0f1c0c38955e
STATUS:CONFIRMED
DESCRIPTION:Regionalliga Sachsen weibliche D-Jugend West (VR)\nBegegnungs-Nr: 23026\nHeim: HC Leipzig\nGast: BSV Sa. Zwickau II\nHalle: SH Sportoberschule (31132)\nAdresse: Max -Planck-Str. 53-55\, 04105 Leipzig\n
LOCATION:SH Sportoberschule (31132): Max -Planck-Str. 53-55\, 04105 Leipzig
CATEGORIES:Saison 2025/26
END:VEVENT
BEGIN:VEVENT
DTSTAMP:20260423T232220Z
DTSTART;TZID=Europe/Berlin:20250927T110000
DTEND;TZID=Europe/Berlin:20250927T120000
SUMMARY:Regionalliga Sachsen West HC Leipzig vs SG Zschorlau/Schneeberg (23018)
UID:9f45ce27-b409-4bcd-807e-7c80f4ff9d70
STATUS:CONFIRMED
LAST-MODIFIED:20250929T073822Z
DESCRIPTION:Regionalliga Sachsen weibliche D-Jugend West (VR)\nBegegnungs-Nr: 23018\nHeim: HC Leipzig\nGast: SG Zschorlau/Schneeberg\nHalle: SH Sportoberschule (31132)\nAdresse: Max -Planck-Str. 53-55\, 04105 Leipzig\n
LOCATION:SH Sportoberschule (31132): Max -Planck-Str. 53-55\, 04105 Leipzig
CATEGORIES:Saison 2025/26
END:VEVENT
BEGIN:VEVENT
DTSTAMP:20260423T232220Z
DTSTART;TZID=Europe/Berlin:20250914T130000
DTEND;TZID=Europe/Berlin:20250914T140000
SUMMARY:Regionalliga Sachsen West HC Leipzig vs BSV Sa. Zwickau (23010)
UID:c76b9c33-a35a-45cb-9eed-5b260eed6f41
STATUS:CONFIRMED
LAST-MODIFIED:20250914T184740Z
DESCRIPTION:Regionalliga Sachsen weibliche D-Jugend West (VR)\nBegegnungs-Nr: 23010\nHeim: HC Leipzig\nGast: BSV Sa. Zwickau\nHalle: SH Sportoberschule (31132)\nAdresse: Max -Planck-Str. 53-55\, 04105 Leipzig\n
LOCATION:SH Sportoberschule (31132): Max -Planck-Str. 53-55\, 04105 Leipzig
CATEGORIES:Saison 2025/26
END:VEVENT
BEGIN:VEVENT
DTSTAMP:20260423T232220Z
DTSTART;TZID=Europe/Berlin:20250907T100000
DTEND;TZID=Europe/Berlin:20250907T110000
SUMMARY:Regionalliga Sachsen West HC Leipzig vs HC Leipzig II (23006)
UID:6bc275d4-afab-4be5-9958-a6f44b1f0fe0
STATUS:CONFIRMED
LAST-MODIFIED:20250907T101410Z
DESCRIPTION:Regionalliga Sachsen weibliche D-Jugend West (VR)\nBegegnungs-Nr: 23006\nHeim: HC Leipzig\nGast: HC Leipzig II\nHalle: SH Sportoberschule (31132)\nAdresse: Max -Planck-Str. 53-55\, 04105 Leipzig\n
LOCATION:SH Sportoberschule (31132): Max -Planck-Str. 53-55\, 04105 Leipzig
CATEGORIES:Saison 2025/26
END:VEVENT
BEGIN:VEVENT
DTSTAMP:20260423T232220Z
DTSTART;TZID=Europe/Berlin:20251213T150000
DTEND;TZID=Europe/Berlin:20251213T160000
SUMMARY:Regionalliga Sachsen Meister HC Leipzig vs BSV Sa. Zwickau (23069)
UID:268ca777-4af5-4ed1-8ec9-456671ae50bb
STATUS:CONFIRMED
LAST-MODIFIED:20251218T112056Z
DESCRIPTION:Regionalliga Sachsen weibliche D-Jugend Meisterschaft\nBegegnungs-Nr: 23069\nHeim: HC Leipzig\nGast: BSV Sa. Zwickau\nHalle: SH Sportoberschule (31132)\nAdresse: Max -Planck-Str. 53-55\, 04105 Leipzig\n
LOCATION:SH Sportoberschule (31132): Max -Planck-Str. 53-55\, 04105 Leipzig
CATEGORIES:Saison 2025/26
END:VEVENT
BEGIN:VEVENT
DTSTAMP:20260423T232220Z
DTSTART;TZID=Europe/Berlin:20260117T131500
DTEND;TZID=Europe/Berlin:20260117T141500
SUMMARY:Regionalliga Sachsen Meister HC Leipzig vs Görlitzer HC (23079)
UID:0ca6ac2c-d070-4d47-9680-d5acd6fcf4d4
STATUS:CONFIRMED
LAST-MODIFIED:20260119T104333Z
DESCRIPTION:Regionalliga Sachsen weibliche D-Jugend Meisterschaft\nBegegnungs-Nr: 23079\nHeim: HC Leipzig\nGast: Görlitzer HC\nHalle: SH Wilhelm-Hauff-Grundschule Leipzig-Möckern (31102)\nAdresse: Slevogtstr. \, 04159 Leipzig\n
LOCATION:SH Wilhelm-Hauff-Grundschule Leipzig-Möckern (31102): Slevogtstr. \, 04159 Leipzig
CATEGORIES:Saison 2025/26
END:VEVENT
BEGIN:VEVENT
DTSTAMP:20260423T232220Z
DTSTART;TZID=Europe/Berlin:20260419T100000
DTEND;TZID=Europe/Berlin:20260419T110000
SUMMARY:Regionalliga Sachsen Meister HC Leipzig vs SC Hoyerswerda  (23112)
UID:bedc81d2-01f7-4cfb-9d2d-db80a29eefdd
STATUS:CONFIRMED
LAST-MODIFIED:20260420T174810Z
DESCRIPTION:Regionalliga Sachsen weibliche D-Jugend Meisterschaft\nBegegnungs-Nr: 23112\nHeim: HC Leipzig\nGast: SC Hoyerswerda \nHalle: SH Sportoberschule (31132)\nAdresse: Max -Planck-Str. 53-55\, 04105 Leipzig\n
LOCATION:SH Sportoberschule (31132): Max -Planck-Str. 53-55\, 04105 Leipzig
CATEGORIES:Saison 2025/26
END:VEVENT
BEGIN:VEVENT
DTSTAMP:20260423T232220Z
DTSTART;TZID=Europe/Berlin:20260131T131500
DTEND;TZID=Europe/Berlin:20260131T141500
SUMMARY:Regionalliga Sachsen Meister HC Leipzig vs VfL Meißen (23088)
UID:a4c5a69e-c25f-47d0-9fc0-4972cbe97000
STATUS:CONFIRMED
LAST-MODIFIED:20260131T184818Z
DESCRIPTION:Regionalliga Sachsen weibliche D-Jugend Meisterschaft\nBegegnungs-Nr: 23088\nHeim: HC Leipzig\nGast: VfL Meißen\nHalle: SH Sportoberschule (31132)\nAdresse: Max -Planck-Str. 53-55\, 04105 Leipzig\n
LOCATION:SH Sportoberschule (31132): Max -Planck-Str. 53-55\, 04105 Leipzig
CATEGORIES:Saison 2025/26
END:VEVENT
BEGIN:VEVENT
DTSTAMP:20260423T232220Z
DTSTART;TZID=Europe/Berlin:20260308T141500
DTEND;TZID=Europe/Berlin:20260308T151500
SUMMARY:Regionalliga Sachsen Meister HC Leipzig vs BSV Limbach-O. (23095)
UID:441061e0-1008-40c5-8220-46c81c0ac0f2
STATUS:CONFIRMED
LAST-MODIFIED:20260309T081905Z
DESCRIPTION:Regionalliga Sachsen weibliche D-Jugend Meisterschaft\nBegegnungs-Nr: 23095\nHeim: HC Leipzig\nGast: BSV Limbach-O.\nHalle: SH Sportoberschule (31132)\nAdresse: Max -Planck-Str. 53-55\, 04105 Leipzig\n
LOCATION:SH Sportoberschule (31132): Max -Planck-Str. 53-55\, 04105 Leipzig
CATEGORIES:Saison 2025/26
END:VEVENT
BEGIN:VEVENT
DTSTAMP:20260423T232220Z
DTSTART;TZID=Europe/Berlin:20260322T153000
DTEND;TZID=Europe/Berlin:20260322T163000
SUMMARY:Regionalliga Sachsen Meister HC Leipzig vs HC Rödertal  (23102)
UID:9c4bb6e2-2ff7-405d-b6fd-5230384bbf6f
STATUS:CONFIRMED
LAST-MODIFIED:20260323T085853Z
DESCRIPTION:Regionalliga Sachsen weibliche D-Jugend Meisterschaft\nBegegnungs-Nr: 23102\nHeim: HC Leipzig\nGast: HC Rödertal \nHalle: SH Sportoberschule (31132)\nAdresse: Max -Planck-Str. 53-55\, 04105 Leipzig\n
LOCATION:SH Sportoberschule (31132): Max -Planck-Str. 53-55\, 04105 Leipzig
CATEGORIES:Saison 2025/26
END:VEVENT
BEGIN:VEVENT
DTSTAMP:20260423T232220Z
DTSTART;TZID=Europe/Berlin:20260303T181500
DTEND;TZID=Europe/Berlin:20260303T191500
SUMMARY:Regionalliga Sachsen Meister HC Leipzig vs SC Markranstädt (23064)
UID:66fbbadf-24fb-4273-a2f2-cdf2a8a09586
STATUS:CONFIRMED
LAST-MODIFIED:20260309T081403Z
DESCRIPTION:Regionalliga Sachsen weibliche D-Jugend Meisterschaft\nBegegnungs-Nr: 23064\nHeim: HC Leipzig\nGast: SC Markranstädt\nHalle: SH Brüderstraße Leipzig (31101)\nAdresse: Brüderstr. 15\, 04103 Leipzig\n
LOCATION:SH Brüderstraße Leipzig (31101): Brüderstr. 15\, 04103 Leipzig
CATEGORIES:Saison 2025/26
END:VEVENT
BEGIN:VEVENT
DTSTAMP:20260423T232220Z
DTSTART;TZID=Europe/Berlin:20251026T150000
DTEND;TZID=Europe/Berlin:20251026T160000
SUMMARY:Regionalliga Sachsen West HSV Marienberg vs HC Leipzig (23022)
UID:3c3d1021-3cdc-47bd-97a8-b2e45a156a0a
STATUS:CONFIRMED
LAST-MODIFIED:20251026T192548Z
DESCRIPTION:Regionalliga Sachsen weibliche D-Jugend West (VR)\nBegegnungs-Nr: 23022\nHeim: HSV Marienberg\nGast: HC Leipzig\nHalle: SH am Goldkindstein Marienberg (32416)\nAdresse: Dr.-Wilhelm-Külz-Allee 23\, 09496 Marienberg\n
LOCATION:SH am Goldkindstein Marienberg (32416): Dr.-Wilhelm-Külz-Allee 23\, 09496 Marienberg
CATEGORIES:Saison 2025/26
END:VEVENT
BEGIN:VEVENT
DTSTAMP:20260423T232220Z
DTSTART;TZID=Europe/Berlin:20250921T103000
DTEND;TZID=Europe/Berlin:20250921T113000
SUMMARY:Regionalliga Sachsen West BSV Limbach-O. vs HC Leipzig (23014)
UID:d7e74157-79e6-4d1b-9ccb-0d4a91b42ce6
STATUS:CONFIRMED
LAST-MODIFIED:20250922T073818Z
DESCRIPTION:Regionalliga Sachsen weibliche D-Jugend West (VR)\nBegegnungs-Nr: 23014\nHeim: BSV Limbach-O.\nGast: HC Leipzig\nHalle: GSH Limbach-Oberfrohna (32201)\nAdresse: Anna-Esche-Gäßchen 1\, 09212 Limbach-Oberfrohna\n
LOCATION:GSH Limbach-Oberfrohna (32201): Anna-Esche-Gäßchen 1\, 09212 Limbach-Oberfrohna
CATEGORIES:Saison 2025/26
END:VEVENT
BEGIN:VEVENT
DTSTAMP:20260423T232220Z
DTSTART;TZID=Europe/Berlin:20250830T130000
DTEND;TZID=Europe/Berlin:20250830T140000
SUMMARY:Regionalliga Sachsen West SC Markranstädt vs HC Leipzig (23001)
UID:87d7cd7d-acc4-487a-a399-f4cabe3fc4fd
STATUS:CONFIRMED
LAST-MODIFIED:20250830T191546Z
DESCRIPTION:Regionalliga Sachsen weibliche D-Jugend West (VR)\nBegegnungs-Nr: 23001\nHeim: SC Markranstädt\nGast: HC Leipzig\nHalle: Sportcenter Markranstädt (31127)\nAdresse: Leipziger Str. 47\, 04420 Markranstädt\n
LOCATION:Sportcenter Markranstädt (31127): Leipziger Str. 47\, 04420 Markranstädt
CATEGORIES:Saison 2025/26
END:VEVENT
BEGIN:VEVENT
DTSTAMP:20260423T232220Z
DTSTART;TZID=Europe/Berlin:20251207T160000
DTEND;TZID=Europe/Berlin:20251207T170000
SUMMARY:Regionalliga Sachsen Meister BSV Limbach-O. vs HC Leipzig (23067)
UID:f523dd29-a4c4-48f3-98b2-fc56807fcb44
STATUS:CONFIRMED
LAST-MODIFIED:20251208T194134Z
DESCRIPTION:Regionalliga Sachsen weibliche D-Jugend Meisterschaft\nBegegnungs-Nr: 23067\nHeim: BSV Limbach-O.\nGast: HC Leipzig\nHalle: GSH Limbach-Oberfrohna (32201)\nAdresse: Anna-Esche-Gäßchen 1\, 09212 Limbach-Oberfrohna\n
LOCATION:GSH Limbach-Oberfrohna (32201): Anna-Esche-Gäßchen 1\, 09212 Limbach-Oberfrohna
CATEGORIES:Saison 2025/26
END:VEVENT
BEGIN:VEVENT
DTSTAMP:20260423T232220Z
DTSTART;TZID=Europe/Berlin:20260329T150000
DTEND;TZID=Europe/Berlin:20260329T160000
SUMMARY:Regionalliga Sachsen Meister HC Rödertal  vs HC Leipzig (23074)
UID:8fe9ca84-b02d-4f75-a799-2f5c1a24f69c
STATUS:CONFIRMED
LAST-MODIFIED:20260330T102138Z
DESCRIPTION:Regionalliga Sachsen weibliche D-Jugend Meisterschaft\nBegegnungs-Nr: 23074\nHeim: HC Rödertal \nGast: HC Leipzig\nHalle: SH Albert-Schweitzer-Gymnasium Kamenz (34204)\nAdresse: Am Flugplatz\, 01917 Kamenz\, Parkplatz - Macherstraße 142\n
LOCATION:SH Albert-Schweitzer-Gymnasium Kamenz (34204): Am Flugplatz\, 01917 Kamenz\, Parkplatz - Macherstraße 142
CATEGORIES:Saison 2025/26
END:VEVENT
BEGIN:VEVENT
DTSTAMP:20260423T232220Z
DTSTART;TZID=Europe/Berlin:20260124T120000
DTEND;TZID=Europe/Berlin:20260124T130000
SUMMARY:Regionalliga Sachsen Meister SC Hoyerswerda  vs HC Leipzig (23084)
UID:098fa2e8-3a32-456c-9071-b730414b7abb
STATUS:CONFIRMED
LAST-MODIFIED:20260126T194123Z
DESCRIPTION:Regionalliga Sachsen weibliche D-Jugend Meisterschaft\nBegegnungs-Nr: 23084\nHeim: SC Hoyerswerda \nGast: HC Leipzig\nHalle: Sporthalle \"Neue Oberschule\" (34519)\nAdresse: Claus-von-Stauffenberg-Straße 40a\, 02977 Hoyerswerda\n
LOCATION:Sporthalle \"Neue Oberschule\" (34519): Claus-von-Stauffenberg-Straße 40a\, 02977 Hoyerswerda
CATEGORIES:Saison 2025/26
END:VEVENT
BEGIN:VEVENT
DTSTAMP:20260423T232220Z
DTSTART;TZID=Europe/Berlin:20260228T130000
DTEND;TZID=Europe/Berlin:20260228T140000
SUMMARY:Regionalliga Sachsen Meister SC Markranstädt vs HC Leipzig (23092)
UID:26e1dfa9-4607-4b50-a75a-3639eadb4a3b
STATUS:CONFIRMED
LAST-MODIFIED:20260228T193953Z
DESCRIPTION:Regionalliga Sachsen weibliche D-Jugend Meisterschaft\nBegegnungs-Nr: 23092\nHeim: SC Markranstädt\nGast: HC Leipzig\nHalle: Sportcenter Markranstädt (31127)\nAdresse: Leipziger Str. 47\, 04420 Markranstädt\n
LOCATION:Sportcenter Markranstädt (31127): Leipziger Str. 47\, 04420 Markranstädt
CATEGORIES:Saison 2025/26
END:VEVENT
BEGIN:VEVENT
DTSTAMP:20260423T232220Z
DTSTART;TZID=Europe/Berlin:20260314T103000
DTEND;TZID=Europe/Berlin:20260314T113000
SUMMARY:Regionalliga Sachsen Meister BSV Sa. Zwickau vs HC Leipzig (23097)
UID:0df7c8fa-b545-43c7-8256-ddaa66527df3
STATUS:CONFIRMED
LAST-MODIFIED:20260315T212630Z
DESCRIPTION:Regionalliga Sachsen weibliche D-Jugend Meisterschaft\nBegegnungs-Nr: 23097\nHeim: BSV Sa. Zwickau\nGast: HC Leipzig\nHalle: SH Zwickau-Neuplanitz (32501)\nAdresse: Dortmunder Str. 7a\, 08062 Zwickau\n
LOCATION:SH Zwickau-Neuplanitz (32501): Dortmunder Str. 7a\, 08062 Zwickau
CATEGORIES:Saison 2025/26
END:VEVENT
BEGIN:VEVENT
DTSTAMP:20260423T232220Z
DTSTART;TZID=Europe/Berlin:20260328T130000
DTEND;TZID=Europe/Berlin:20260328T140000
SUMMARY:Regionalliga Sachsen Meister Görlitzer HC vs HC Leipzig (23107)
UID:ab753938-5a31-40f9-b3d6-c3981c5603f0
STATUS:CONFIRMED
LAST-MODIFIED:20260330T102048Z
DESCRIPTION:Regionalliga Sachsen weibliche D-Jugend Meisterschaft\nBegegnungs-Nr: 23107\nHeim: Görlitzer HC\nGast: HC Leipzig\nHalle: Jahn-SH Görlitz (34302)\nAdresse: Kummerau 6\, 02826 Görlitz\n
LOCATION:Jahn-SH Görlitz (34302): Kummerau 6\, 02826 Görlitz
CATEGORIES:Saison 2025/26
END:VEVENT
BEGIN:VEVENT
DTSTAMP:20260423T232220Z
DTSTART;TZID=Europe/Berlin:20251123T110000
DTEND;TZID=Europe/Berlin:20251123T120000
SUMMARY:Regionalliga Sachsen Meister VfL Meißen vs HC Leipzig (23060)
UID:bfa03f43-ab93-4df4-908d-5d934644fa60
STATUS:CONFIRMED
LAST-MODIFIED:20251130T124023Z
DESCRIPTION:Regionalliga Sachsen weibliche D-Jugend Meisterschaft\nBegegnungs-Nr: 23060\nHeim: VfL Meißen\nGast: HC Leipzig\nHalle: SH \"Heiliger Grund\" Meißen (33212)\nAdresse: Goethestraße 27\, 01662 Meißen\n
LOCATION:SH \"Heiliger Grund\" Meißen (33212): Goethestraße 27\, 01662 Meißen
CATEGORIES:Saison 2025/26
END:VEVENT
END:VCALENDAR
